Workbook

Sheet Сведения о независимой оценке
A1: Количественные результаты независимой оценки качества оказания услуг организациями
A2: Шаблон сформирован 14.01.2025 06:04
A3: Публично-правовое образование | C3: 01000000 - Алтайский край
A4: Сфера деятельности | C4: 2 - Образование
A5: Период проведения независимой оценки | C5: 2024 год
A6: Основание для определения перечня показателей | C6: Единый порядок расчета (Приказ Минтруда № 344н от 31.05.2018 г.)
A8: Пожалуйста, введите значения выполнения индикаторов
A9: № п.п. | B9: Организация | C9: Численность получателей услуг организации | D9: Количество респондентов | E9: Доля респондентов | F9: Общие критерии оценки
F10: 1 - критерий открытости и доступности информации об организации | U10: 2 - критерий комфортности условий предоставления услуги, в том числе время ожидания ее предоставления | AA10: 3 - критерий доступности услуг для инвалидов | AJ10: 4 - критерий доброжелательности, вежливости работников организации | AS10: 5 - критерий удовлетворенности условиями оказания услуг
F11: Показатели | U11: Показатели | AA11: Показатели | AJ11: Показатели | AS11: Показатели
F12: 1.1 Соответствие информации о деятельности организации социальной сферы, размещенной на общедоступных информационных ресурсах, ее содержанию и порядку (форме), установленным законодательными и иными нормативными правовыми актами Российской Федерации | L12: 1.2 Наличие на официальном сайте организации социальной сферы информации о дистанционных способах обратной связи и взаимодействия с получателями услуг и их функционирование | O12: 1.3 Доля получателей услуг, удовлетворенных открытостью, полнотой и доступностью информации о деятельности организации социальной сферы | U12: 2.1 Обеспечение в организации социальной сферы комфортных условий предоставления услуг | X12: 2.3 Доля получателей услуг удовлетворенных комфортностью предоставления услуг организацией социальной сферы | AA12: 3.1 Оборудование помещений организации социальной сферы и прилегающей к ней территории с учетом доступности для инвалидов | AD12: 3.2 Обеспечение в организации социальной сферы условий доступности, позволяющих инвалидам получать услуги наравне с другими | AG12: 3.3 Доля получателей услуг, удовлетворенных доступностью услуг для инвалидов | AJ12: 4.1 Доля получателей услуг, удовлетворенных доброжелательностью, вежливостью работников организации социальной сферы, обеспечивающих первичный контакт и информирование получателя услуги при непосредственном обращении в организацию социальной сферы | AM12: 4.2 Доля получателей услуг, удовлетворенных доброжелательностью, вежливостью работников организации социальной сферы, обеспечивающих непосредственное оказание услуги при обращении в организацию социальной сферы | AP12: 4.3 Доля получателей услуг, удовлетворенных доброжелательностью, вежливостью работников организации социальной сферы при использовании дистанционных форм взаимодействия | AS12: 5.1 Доля получателей услуг, которые готовы рекомендовать организацию социальной сферы родственникам и знакомым (могли бы ее рекомендовать, если бы была возможность выбора организации социальной сферы) | AV12: 5.2 Доля получателей услуг, удовлетворенных организационными условиями предоставления услуг | AY12: 5.3 Доля получателей услуг, удовлетворенных в целом условиями оказания услуг в организации социальной сферы
F13: 1.1.1 - Соответствие информации о деятельности организации социальной сферы, размещенной на информационных стендах в помещении организации социальной сферы, ее содержанию и порядку (форме), установленным нормативными правовыми актами. | I13: 1.1.2 - Соответствие информации о деятельности организации социальной сферы, размещенной на официальном сайте организации социальной сферы, ее содержанию и порядку (форме), установленным нормативными правовыми актами. | L13: 1.2.1 - Наличие и функционирование на официальном сайте организации информации о дистанционных способах взаимодействия с получателями услуг: телефона; электронной почты; электронных сервисов (форма для подачи электронного обращения (жалобы, предложения), получение консультации по оказываемым услугам и пр.); раздела «Часто задаваемые вопросы»; технической возможности выражения получателем услуг мнения о качестве условий оказания услуг организацией социальной сферы (наличие анкеты для опроса граждан или гиперссылки на нее); иного дистанционного способа взаимодействия. | O13: 1.3.1 - Удовлетворенность качеством, полнотой и доступностью информации о деятельности организации социальной сферы, размещенной на информационных стендах в помещении организации социальной сферы. | R13: 1.3.2 - Удовлетворенность качеством, полнотой и доступностью информации о деятельности организации социальной сферы, размещенной на официальном сайте организации социальной сферы в сети «Интернет». | U13: 2.1.1 - Наличие комфортных условий для предоставления услуг, например: наличие комфортной зоны отдыха (ожидания), оборудованной соответствующей мебелью; наличие и понятность навигации внутри организации социальной сферы; наличие и доступность питьевой воды; наличие и доступность санитарно-гигиенических помещений; санитарное состояние помещений организации социальной сферы; транспортная доступность (возможность доехать до организации социальной сферы на общественном транспорте, наличие парковки); доступность записи на получение услуги (по телефону, на официальном сайте организации социальной сферы в сети Интернет, посредством Единого портала государственных и муниципальных услуг, при личном посещении в регистратуре или у специалиста организации социальной сферы и пр.); иные параметры комфортных условий, установленные ведомственным актом уполномоченного федерального органа исполнительной власти. | X13: 2.3.1 - Удовлетворенность комфортностью предоставления услуг организацией социальной сферы. | AA13: 3.1.1 - Наличие в помещениях организации социальной сферы и на прилегающей к ней территории: оборудованных входных групп пандусами (подъемными платформами); выделенных стоянок для автотранспортных средств инвалидов; адаптированных лифтов, поручней, расширенных дверных проемов; сменных кресел-колясок; специально оборудованных санитарно-гигиенических помещений в организации социальной сферы. | AD13: 3.2.1 - Наличие в организации социальной сферы условий доступности, позволяющих инвалидам получать услуги наравне с другими: дублирование для инвалидов по слуху и зрению звуковой и зрительной информации; дублирование надписей, знаков и иной текстовой и графической информации знаками, выполненными рельефно-точечным шрифтом Брайля; возможность предоставления инвалидам по слуху (слуху и зрению) услуг сурдопереводчика (тифлосурдопереводчика); наличие альтернативной версии официального сайта организации социальной сферы в сети Интернет для инвалидов по зрению; помощь, оказываемая работниками организации социальной сферы, прошедшими необходимое обучение (инструктирование) по сопровождению инвалидов в помещениях организации социальной сферы и на прилегающей территории; наличие возможности предоставления услуги в дистанционном режиме или на дому. | AG13: 3.3.1 - Удовлетворенность доступностью услуг для инвалидов. | AJ13: 4.1.1 - Удовлетворенность доброжелательностью, вежливостью работников организации социальной сферы, обеспечивающих первичный контакт и информирование получателя услуги (работники справочной, приемного отделения, регистратуры, кассы и прочие работники) при непосредственном обращении в организацию социальной сферы. | AM13: 4.2.1 - Удовлетворенность доброжелательностью, вежливостью работников организации социальной сферы, обеспечивающих непосредственное оказание услуги (врачи, социальные работники, работники, осуществляющие экспертно-реабилитационную диагностику, преподаватели, тренеры, инструкторы, библиотекари, экскурсоводы и прочие работники) при обращении в организацию социальной сферы. | AP13: 4.3.1 - Удовлетворенность доброжелательностью, вежливостью работников организации социальной сферы при использовании дистанционных форм взаимодействия (по телефону, по электронной почте, с помощью электронных сервисов (подачи электронного обращения (жалобы, предложения), получения консультации по оказываемым услугам и пр.). | AS13: 5.1.1 - Готовность получателей услуг рекомендовать организацию социальной сферы родственникам и знакомым. | AV13: 5.2.1 - Удовлетворенность получателей услуг организационными условиями оказания услуг, например: наличием и понятностью навигации внутри организации социальной сферы; графиком работы организации социальной сферы (подразделения, отдельных специалистов, графиком прихода социального работника на дом и пр.). | AY13: 5.3.1 - Удовлетворенность получателей услуг в целом условиями оказания услуг в организации социальной сферы.
F14: Наименование индикатора | G14: Выполнение индикатора | I14: Наименование индикатора | J14: Выполнение индикатора | L14: Наименование индикатора | M14: Выполнение индикатора | O14: Наименование индикатора | P14: Выполнение индикатора | R14: Наименование индикатора | S14: Выполнение индикатора | U14: Наименование индикатора | V14: Выполнение индикатора | X14: Наименование индикатора | Y14: Выполнение индикатора | AA14: Наименование индикатора | AB14: Выполнение индикатора | AD14: Наименование индикатора | AE14: Выполнение индикатора | AG14: Наименование индикатора | AH14: Выполнение индикатора | AJ14: Наименование индикатора | AK14: Выполнение индикатора | AM14: Наименование индикатора | AN14: Выполнение индикатора | AP14: Наименование индикатора | AQ14: Выполнение индикатора | AS14: Наименование индикатора | AT14: Выполнение индикатора | AV14: Наименование индикатора | AW14: Выполнение индикатора | AY14: Наименование индикатора | AZ14: Выполнение индикатора
A15: 1 | B15: МУНИЦИПАЛЬНОЕ БЮДЖЕТНОЕ ДОШКОЛЬНОЕ ОБРАЗОВАТЕЛЬНОЕ УЧРЕЖДЕНИЕ "ДЕТСКИЙ САД № 10" ГОРОДА АЛЕЙСКА АЛТАЙСКОГО КРАЯ, 2201001569, организации, осуществляющие образовательную деятельность | C15: 163 | D15: 86 | E15: 0.53 | F15: объем информации (количество материалов/единиц информации), размещенной на информационных стендах в помещении организации по отношению к количеству материалов, размещение которых установлено нормативными правовыми актами (Истенд) | G15: 15 | H15: 15 | I15: объем информации (количество материалов/единиц информации), размещенной на официальном сайте организации по отношению к количеству материалов, размещение которых установлено нормативными правовыми актами (Исайт) | J15: 48 | K15: 48 | L15: в наличии и функционируют более трех дистанционных способов взаимодействия | N15: =INDEX(Индикаторы!N15:N17,MATCH('Сведения о независимой оценке'!L15,Индикаторы!L15:L17,0)) -> 100 | O15: число получателей услуг, удовлетворенных качеством, полнотой и доступностью информации о деятельности организации социальной сферы, размещенной на информационных стендах в помещении организации социальной сферы по отношению к числу опрошенных получателей услуг, ответивших на соответствующий вопрос анкеты (Устенд) | P15: 72 | Q15: 73 | R15: число получателей услуг, удовлетворенных качеством, полнотой и доступностью информации о деятельности организации социальной сферы, размещенной на официальном сайте организации социальной сферы по отношению к числу опрошенных получателей услуг, ответивших на соответствующий вопрос анкеты (Усайт) | S15: 57 | T15: 58 | U15: наличие пяти и более комфортных условий для предоставления услуг | W15: =INDEX(Индикаторы!W15:W17,MATCH('Сведения о независимой оценке'!U15,Индикаторы!U15:U17,0)) -> 100 | X15: число получателей услуг, удовлетворенных комфортностью предоставления услуг организацией социальной сферы (Укомф), по отношению к числу опрошенных получателей услуг, ответивших на данный вопрос (Чобщ) | Y15: 83 | Z15: 86 | AA15: отсутствуют условия доступности для инвалидов | AC15: =INDEX(Индикаторы!AC15:AC17,MATCH('Сведения о независимой оценке'!AA15,Индикаторы!AA15:AA17,0)) -> 0 | AD15: количество условий доступности, позволяющих инвалидам получать услуги наравне с другими | AE15: 1 | AF15: =INDEX(Индикаторы!AF15:AF17,MATCH('Сведения о независимой оценке'!AD15,Индикаторы!AD15:AD17,0)) -> 20 | AG15: число получателей услуг-инвалидов, удовлетворенных доступностью услуг для инвалидов (Удост) , по отношению к числу опрошенных получателей услуг- инвалидов, ответивших на соответствующий вопрос анкеты (Чинв) | AH15: 6 | AI15: 7 | AJ15: число получателей услуг, удовлетворенных доброжелательностью, вежливостью работников организации социальной сферы, обеспечивающих первичный контакт и информирование получателя услуги (Уперв.конт), по отношению к числу опрошенных получателей услуг, ответивших на соответствующий вопрос анкеты ( Чобщ) | AK15: 81 | AL15: 86 | AM15: число получателей услуг, удовлетворенных доброжелательностью, вежливостью работников организации социальной сферы, обеспечивающих непосредственное оказание услуги (Уоказ.услуг), по отношению к числу опрошенных получателей услуг, ответивших на соответствующий вопрос анкеты ( Чобщ) | AN15: 85 | AO15: 86 | AP15: число получателей услуг, удовлетворенных доброжелательностью, вежливостью работников организации социальной сферы при использовании дистанционных форм взаимодействия (Увежл.дист), по отношению к числу опрошенных получателей услуг, ответивших на соответствующий вопрос анкеты (Чобщ) | AQ15: 52 | AR15: 53 | AS15: число получателей услуг, которые готовы рекомендовать организацию родственникам и знакомым (могли бы ее рекомендовать, если бы была возможность выбора организации) (Уреком), по отношению к числу опрошенных получателей услуг, ответивших на соответствующий вопрос анкеты (Чобщ) | AT15: 82 | AU15: 86 | AV15: число получателей услуг, удовлетворенных организационными условиями предоставления услуг (Уорг.усл), по отношению к числу опрошенных получателей услуг ответивших на соответствующий вопрос анкеты (Чобщ) | AW15: 83 | AX15: 86 | AY15: число получателей услуг, удовлетворенных в целом условиями оказания услуг в организации социальной сферы (Ууд), по отношению к числу опрошенных получателей услуг, ответивших на соответствующий вопрос анкеты (Чобщ) | AZ15: 84 | BA15: 86
A16: 2 | B16: МУНИЦИПАЛЬНОЕ БЮДЖЕТНОЕ ДОШКОЛЬНОЕ ОБРАЗОВАТЕЛЬНОЕ УЧРЕЖДЕНИЕ "ДЕТСКИЙ САД № 12" ГОРОДА АЛЕЙСКА АЛТАЙСКОГО КРАЯ, 2201002065, организации, осуществляющие образовательную деятельность | C16: 164 | D16: 104 | E16: 0.63 | F16: объем информации (количество материалов/единиц информации), размещенной на информационных стендах в помещении организации по отношению к количеству материалов, размещение которых установлено нормативными правовыми актами (Истенд) | G16: 15 | H16: 15 | I16: объем информации (количество материалов/единиц информации), размещенной на официальном сайте организации по отношению к количеству материалов, размещение которых установлено нормативными правовыми актами (Исайт) | J16: 48 | K16: 48 | L16: в наличии и функционируют более трех дистанционных способов взаимодействия | N16: =INDEX(Индикаторы!N18:N20,MATCH('Сведения о независимой оценке'!L16,Индикаторы!L18:L20,0)) -> 100 | O16: число получателей услуг, удовлетворенных качеством, полнотой и доступностью информации о деятельности организации социальной сферы, размещенной на информационных стендах в помещении организации социальной сферы по отношению к числу опрошенных получателей услуг, ответивших на соответствующий вопрос анкеты (Устенд) | P16: 76 | Q16: 77 | R16: число получателей услуг, удовлетворенных качеством, полнотой и доступностью информации о деятельности организации социальной сферы, размещенной на официальном сайте организации социальной сферы по отношению к числу опрошенных получателей услуг, ответивших на соответствующий вопрос анкеты (Усайт) | S16: 62 | T16: 62 | U16: наличие пяти и более комфортных условий для предоставления услуг | W16: =INDEX(Индикаторы!W18:W20,MATCH('Сведения о независимой оценке'!U16,Индикаторы!U18:U20,0)) -> 100 | X16: число получателей услуг, удовлетворенных комфортностью предоставления услуг организацией социальной сферы (Укомф), по отношению к числу опрошенных получателей услуг, ответивших на данный вопрос (Чобщ) | Y16: 99 | Z16: 104 | AA16: отсутствуют условия доступности для инвалидов | AC16: =INDEX(Индикаторы!AC18:AC20,MATCH('Сведения о независимой оценке'!AA16,Индикаторы!AA18:AA20,0)) -> 0 | AD16: количество условий доступности, позволяющих инвалидам получать услуги наравне с другими | AE16: 2 | AF16: =INDEX(Индикаторы!AF18:AF20,MATCH('Сведения о независимой оценке'!AD16,Индикаторы!AD18:AD20,0)) -> 20 | AG16: число получателей услуг-инвалидов, удовлетворенных доступностью услуг для инвалидов (Удост) , по отношению к числу опрошенных получателей услуг- инвалидов, ответивших на соответствующий вопрос анкеты (Чинв) | AH16: 5 | AI16: 5 | AJ16: число получателей услуг, удовлетворенных доброжелательностью, вежливостью работников организации социальной сферы, обеспечивающих первичный контакт и информирование получателя услуги (Уперв.конт), по отношению к числу опрошенных получателей услуг, ответивших на соответствующий вопрос анкеты ( Чобщ) | AK16: 101 | AL16: 104 | AM16: число получателей услуг, удовлетворенных доброжелательностью, вежливостью работников организации социальной сферы, обеспечивающих непосредственное оказание услуги (Уоказ.услуг), по отношению к числу опрошенных получателей услуг, ответивших на соответствующий вопрос анкеты ( Чобщ) | AN16: 103 | AO16: 104 | AP16: число получателей услуг, удовлетворенных доброжелательностью, вежливостью работников организации социальной сферы при использовании дистанционных форм взаимодействия (Увежл.дист), по отношению к числу опрошенных получателей услуг, ответивших на соответствующий вопрос анкеты (Чобщ) | AQ16: 60 | AR16: 60 | AS16: число получателей услуг, которые готовы рекомендовать организацию родственникам и знакомым (могли бы ее рекомендовать, если бы была возможность выбора организации) (Уреком), по отношению к числу опрошенных получателей услуг, ответивших на соответствующий вопрос анкеты (Чобщ) | AT16: 100 | AU16: 104 | AV16: число получателей услуг, удовлетворенных организационными условиями предоставления услуг (Уорг.усл), по отношению к числу опрошенных получателей услуг ответивших на соответствующий вопрос анкеты (Чобщ) | AW16: 102 | AX16: 104 | AY16: число получателей услуг, удовлетворенных в целом условиями оказания услуг в организации социальной сферы (Ууд), по отношению к числу опрошенных получателей услуг, ответивших на соответствующий вопрос анкеты (Чобщ) | AZ16: 103 | BA16: 104
A17: 3 | B17: МУНИЦИПАЛЬНОЕ БЮДЖЕТНОЕ ДОШКОЛЬНОЕ ОБРАЗОВАТЕЛЬНОЕ УЧРЕЖДЕНИЕ "ДЕТСКИЙ САД № 15" ГОРОДА АЛЕЙСКА АЛТАЙСКОГО КРАЯ, 2201001657, организации, осуществляющие образовательную деятельность | C17: 335 | D17: 233 | E17: 0.7 | F17: объем информации (количество материалов/единиц информации), размещенной на информационных стендах в помещении организации по отношению к количеству материалов, размещение которых установлено нормативными правовыми актами (Истенд) | G17: 14 | H17: 15 | I17: объем информации (количество материалов/единиц информации), размещенной на официальном сайте организации по отношению к количеству материалов, размещение которых установлено нормативными правовыми актами (Исайт) | J17: 48 | K17: 48 | L17: в наличии и функционируют более трех дистанционных способов взаимодействия | N17: =INDEX(Индикаторы!N21:N23,MATCH('Сведения о независимой оценке'!L17,Индикаторы!L21:L23,0)) -> 100 | O17: число получателей услуг, удовлетворенных качеством, полнотой и доступностью информации о деятельности организации социальной сферы, размещенной на информационных стендах в помещении организации социальной сферы по отношению к числу опрошенных получателей услуг, ответивших на соответствующий вопрос анкеты (Устенд) | P17: 149 | Q17: 152 | R17: число получателей услуг, удовлетворенных качеством, полнотой и доступностью информации о деятельности организации социальной сферы, размещенной на официальном сайте организации социальной сферы по отношению к числу опрошенных получателей услуг, ответивших на соответствующий вопрос анкеты (Усайт) | S17: 114 | T17: 119 | U17: наличие пяти и более комфортных условий для предоставления услуг | W17: =INDEX(Индикаторы!W21:W23,MATCH('Сведения о независимой оценке'!U17,Индикаторы!U21:U23,0)) -> 100 | X17: число получателей услуг, удовлетворенных комфортностью предоставления услуг организацией социальной сферы (Укомф), по отношению к числу опрошенных получателей услуг, ответивших на данный вопрос (Чобщ) | Y17: 217 | Z17: 233 | AA17: количество условий доступности организации для инвалидов | AB17: 4 | AC17: =INDEX(Индикаторы!AC21:AC23,MATCH('Сведения о независимой оценке'!AA17,Индикаторы!AA21:AA23,0)) -> 20 | AD17: количество условий доступности, позволяющих инвалидам получать услуги наравне с другими | AE17: 3 | AF17: =INDEX(Индикаторы!AF21:AF23,MATCH('Сведения о независимой оценке'!AD17,Индикаторы!AD21:AD23,0)) -> 20 | AG17: число получателей услуг-инвалидов, удовлетворенных доступностью услуг для инвалидов (Удост) , по отношению к числу опрошенных получателей услуг- инвалидов, ответивших на соответствующий вопрос анкеты (Чинв) | AH17: 6 | AI17: 6 | AJ17: число получателей услуг, удовлетворенных доброжелательностью, вежливостью работников организации социальной сферы, обеспечивающих первичный контакт и информирование получателя услуги (Уперв.конт), по отношению к числу опрошенных получателей услуг, ответивших на соответствующий вопрос анкеты ( Чобщ) | AK17: 224 | AL17: 233 | AM17: число получателей услуг, удовлетворенных доброжелательностью, вежливостью работников организации социальной сферы, обеспечивающих непосредственное оказание услуги (Уоказ.услуг), по отношению к числу опрошенных получателей услуг, ответивших на соответствующий вопрос анкеты ( Чобщ) | AN17: 223 | AO17: 233 | AP17: число получателей услуг, удовлетворенных доброжелательностью, вежливостью работников организации социальной сферы при использовании дистанционных форм взаимодействия (Увежл.дист), по отношению к числу опрошенных получателей услуг, ответивших на соответствующий вопрос анкеты (Чобщ) | AQ17: 125 | AR17: 126 | AS17: число получателей услуг, которые готовы рекомендовать организацию родственникам и знакомым (могли бы ее рекомендовать, если бы была возможность выбора организации) (Уреком), по отношению к числу опрошенных получателей услуг, ответивших на соответствующий вопрос анкеты (Чобщ) | AT17: 223 | AU17: 233 | AV17: число получателей услуг, удовлетворенных организационными условиями предоставления услуг (Уорг.усл), по отношению к числу опрошенных получателей услуг ответивших на соответствующий вопрос анкеты (Чобщ) | AW17: 224 | AX17: 233 | AY17: число получателей услуг, удовлетворенных в целом условиями оказания услуг в организации социальной сферы (Ууд), по отношению к числу опрошенных получателей услуг, ответивших на соответствующий вопрос анкеты (Чобщ) | AZ17: 228 | BA17: 233
A18: 4 | B18: МУНИЦИПАЛЬНОЕ БЮДЖЕТНОЕ ДОШКОЛЬНОЕ ОБРАЗОВАТЕЛЬНОЕ УЧРЕЖДЕНИЕ "ДЕТСКИЙ САД № 16" ГОРОДА АЛЕЙСКА АЛТАЙСКОГО КРАЯ, 2201006550, организации, осуществляющие образовательную деятельность | C18: 132 | D18: 107 | E18: 0.81 | F18: объем информации (количество материалов/единиц информации), размещенной на информационных стендах в помещении организации по отношению к количеству материалов, размещение которых установлено нормативными правовыми актами (Истенд) | G18: 15 | H18: 15 | I18: объем информации (количество материалов/единиц информации), размещенной на официальном сайте организации по отношению к количеству материалов, размещение которых установлено нормативными правовыми актами (Исайт) | J18: 47 | K18: 48 | L18: в наличии и функционируют более трех дистанционных способов взаимодействия | N18: =INDEX(Индикаторы!N24:N26,MATCH('Сведения о независимой оценке'!L18,Индикаторы!L24:L26,0)) -> 100 | O18: число получателей услуг, удовлетворенных качеством, полнотой и доступностью информации о деятельности организации социальной сферы, размещенной на информационных стендах в помещении организации социальной сферы по отношению к числу опрошенных получателей услуг, ответивших на соответствующий вопрос анкеты (Устенд) | P18: 87 | Q18: 88 | R18: число получателей услуг, удовлетворенных качеством, полнотой и доступностью информации о деятельности организации социальной сферы, размещенной на официальном сайте организации социальной сферы по отношению к числу опрошенных получателей услуг, ответивших на соответствующий вопрос анкеты (Усайт) | S18: 73 | T18: 75 | U18: наличие пяти и более комфортных условий для предоставления услуг | W18: =INDEX(Индикаторы!W24:W26,MATCH('Сведения о независимой оценке'!U18,Индикаторы!U24:U26,0)) -> 100 | X18: число получателей услуг, удовлетворенных комфортностью предоставления услуг организацией социальной сферы (Укомф), по отношению к числу опрошенных получателей услуг, ответивших на данный вопрос (Чобщ) | Y18: 106 | Z18: 107 | AA18: отсутствуют условия доступности для инвалидов | AC18: =INDEX(Индикаторы!AC24:AC26,MATCH('Сведения о независимой оценке'!AA18,Индикаторы!AA24:AA26,0)) -> 0 | AD18: количество условий доступности, позволяющих инвалидам получать услуги наравне с другими | AE18: 2 | AF18: =INDEX(Индикаторы!AF24:AF26,MATCH('Сведения о независимой оценке'!AD18,Индикаторы!AD24:AD26,0)) -> 20 | AG18: число получателей услуг-инвалидов, удовлетворенных доступностью услуг для инвалидов (Удост) , по отношению к числу опрошенных получателей услуг- инвалидов, ответивших на соответствующий вопрос анкеты (Чинв) | AH18: 2 | AI18: 2 | AJ18: число получателей услуг, удовлетворенных доброжелательностью, вежливостью работников организации социальной сферы, обеспечивающих первичный контакт и информирование получателя услуги (Уперв.конт), по отношению к числу опрошенных получателей услуг, ответивших на соответствующий вопрос анкеты ( Чобщ) | AK18: 107 | AL18: 107 | AM18: число получателей услуг, удовлетворенных доброжелательностью, вежливостью работников организации социальной сферы, обеспечивающих непосредственное оказание услуги (Уоказ.услуг), по отношению к числу опрошенных получателей услуг, ответивших на соответствующий вопрос анкеты ( Чобщ) | AN18: 105 | AO18: 107 | AP18: число получателей услуг, удовлетворенных доброжелательностью, вежливостью работников организации социальной сферы при использовании дистанционных форм взаимодействия (Увежл.дист), по отношению к числу опрошенных получателей услуг, ответивших на соответствующий вопрос анкеты (Чобщ) | AQ18: 80 | AR18: 80 | AS18: число получателей услуг, которые готовы рекомендовать организацию родственникам и знакомым (могли бы ее рекомендовать, если бы была возможность выбора организации) (Уреком), по отношению к числу опрошенных получателей услуг, ответивших на соответствующий вопрос анкеты (Чобщ) | AT18: 106 | AU18: 107 | AV18: число получателей услуг, удовлетворенных организационными условиями предоставления услуг (Уорг.усл), по отношению к числу опрошенных получателей услуг ответивших на соответствующий вопрос анкеты (Чобщ) | AW18: 105 | AX18: 107 | AY18: число получателей услуг, удовлетворенных в целом условиями оказания услуг в организации социальной сферы (Ууд), по отношению к числу опрошенных получателей услуг, ответивших на соответствующий вопрос анкеты (Чобщ) | AZ18: 106 | BA18: 107
A19: 5 | B19: МУНИЦИПАЛЬНОЕ БЮДЖЕТНОЕ ДОШКОЛЬНОЕ ОБРАЗОВАТЕЛЬНОЕ УЧРЕЖДЕНИЕ "ДЕТСКИЙ САД № 5" ГОРОДА АЛЕЙСКА АЛТАЙСКОГО КРАЯ, 2201001600, организации, осуществляющие образовательную деятельность | C19: 234 | D19: 103 | E19: 0.44 | F19: объем информации (количество материалов/единиц информации), размещенной на информационных стендах в помещении организации по отношению к количеству материалов, размещение которых установлено нормативными правовыми актами (Истенд) | G19: 15 | H19: 15 | I19: объем информации (количество материалов/единиц информации), размещенной на официальном сайте организации по отношению к количеству материалов, размещение которых установлено нормативными правовыми актами (Исайт) | J19: 48 | K19: 48 | L19: в наличии и функционируют более трех дистанционных способов взаимодействия | N19: =INDEX(Индикаторы!N27:N29,MATCH('Сведения о независимой оценке'!L19,Индикаторы!L27:L29,0)) -> 100 | O19: число получателей услуг, удовлетворенных качеством, полнотой и доступностью информации о деятельности организации социальной сферы, размещенной на информационных стендах в помещении организации социальной сферы по отношению к числу опрошенных получателей услуг, ответивших на соответствующий вопрос анкеты (Устенд) | P19: 83 | Q19: 86 | R19: число получателей услуг, удовлетворенных качеством, полнотой и доступностью информации о деятельности организации социальной сферы, размещенной на официальном сайте организации социальной сферы по отношению к числу опрошенных получателей услуг, ответивших на соответствующий вопрос анкеты (Усайт) | S19: 60 | T19: 62 | U19: наличие пяти и более комфортных условий для предоставления услуг | W19: =INDEX(Индикаторы!W27:W29,MATCH('Сведения о независимой оценке'!U19,Индикаторы!U27:U29,0)) -> 100 | X19: число получателей услуг, удовлетворенных комфортностью предоставления услуг организацией социальной сферы (Укомф), по отношению к числу опрошенных получателей услуг, ответивших на данный вопрос (Чобщ) | Y19: 94 | Z19: 103 | AA19: количество условий доступности организации для инвалидов | AB19: 2 | AC19: =INDEX(Индикаторы!AC27:AC29,MATCH('Сведения о независимой оценке'!AA19,Индикаторы!AA27:AA29,0)) -> 20 | AD19: наличие пяти и более условий доступности | AF19: =INDEX(Индикаторы!AF27:AF29,MATCH('Сведения о независимой оценке'!AD19,Индикаторы!AD27:AD29,0)) -> 100 | AG19: число получателей услуг-инвалидов, удовлетворенных доступностью услуг для инвалидов (Удост) , по отношению к числу опрошенных получателей услуг- инвалидов, ответивших на соответствующий вопрос анкеты (Чинв) | AH19: 9 | AI19: 9 | AJ19: число получателей услуг, удовлетворенных доброжелательностью, вежливостью работников организации социальной сферы, обеспечивающих первичный контакт и информирование получателя услуги (Уперв.конт), по отношению к числу опрошенных получателей услуг, ответивших на соответствующий вопрос анкеты ( Чобщ) | AK19: 101 | AL19: 103 | AM19: число получателей услуг, удовлетворенных доброжелательностью, вежливостью работников организации социальной сферы, обеспечивающих непосредственное оказание услуги (Уоказ.услуг), по отношению к числу опрошенных получателей услуг, ответивших на соответствующий вопрос анкеты ( Чобщ) | AN19: 103 | AO19: 103 | AP19: число получателей услуг, удовлетворенных доброжелательностью, вежливостью работников организации социальной сферы при использовании дистанционных форм взаимодействия (Увежл.дист), по отношению к числу опрошенных получателей услуг, ответивших на соответствующий вопрос анкеты (Чобщ) | AQ19: 69 | AR19: 69 | AS19: число получателей услуг, которые готовы рекомендовать организацию родственникам и знакомым (могли бы ее рекомендовать, если бы была возможность выбора организации) (Уреком), по отношению к числу опрошенных получателей услуг, ответивших на соответствующий вопрос анкеты (Чобщ) | AT19: 98 | AU19: 103 | AV19: число получателей услуг, удовлетворенных организационными условиями предоставления услуг (Уорг.усл), по отношению к числу опрошенных получателей услуг ответивших на соответствующий вопрос анкеты (Чобщ) | AW19: 100 | AX19: 103 | AY19: число получателей услуг, удовлетворенных в целом условиями оказания услуг в организации социальной сферы (Ууд), по отношению к числу опрошенных получателей услуг, ответивших на соответствующий вопрос анкеты (Чобщ) | AZ19: 98 | BA19: 103
A20: 6 | B20: МУНИЦИПАЛЬНОЕ БЮДЖЕТНОЕ ДОШКОЛЬНОЕ ОБРАЗОВАТЕЛЬНОЕ УЧРЕЖДЕНИЕ "ДЕТСКИЙ САД № 8" ГОРОДА АЛЕЙСКА АЛТАЙСКОГО КРАЯ, 2201001720, организации, осуществляющие образовательную деятельность | C20: 150 | D20: 98 | E20: 0.65 | F20: объем информации (количество материалов/единиц информации), размещенной на информационных стендах в помещении организации по отношению к количеству материалов, размещение которых установлено нормативными правовыми актами (Истенд) | G20: 15 | H20: 15 | I20: объем информации (количество материалов/единиц информации), размещенной на официальном сайте организации по отношению к количеству материалов, размещение которых установлено нормативными правовыми актами (Исайт) | J20: 46 | K20: 48 | L20: в наличии и функционируют более трех дистанционных способов взаимодействия | N20: =INDEX(Индикаторы!N30:N32,MATCH('Сведения о независимой оценке'!L20,Индикаторы!L30:L32,0)) -> 100 | O20: число получателей услуг, удовлетворенных качеством, полнотой и доступностью информации о деятельности организации социальной сферы, размещенной на информационных стендах в помещении организации социальной сферы по отношению к числу опрошенных получателей услуг, ответивших на соответствующий вопрос анкеты (Устенд) | P20: 82 | Q20: 84 | R20: число получателей услуг, удовлетворенных качеством, полнотой и доступностью информации о деятельности организации социальной сферы, размещенной на официальном сайте организации социальной сферы по отношению к числу опрошенных получателей услуг, ответивших на соответствующий вопрос анкеты (Усайт) | S20: 52 | T20: 55 | U20: наличие пяти и более комфортных условий для предоставления услуг | W20: =INDEX(Индикаторы!W30:W32,MATCH('Сведения о независимой оценке'!U20,Индикаторы!U30:U32,0)) -> 100 | X20: число получателей услуг, удовлетворенных комфортностью предоставления услуг организацией социальной сферы (Укомф), по отношению к числу опрошенных получателей услуг, ответивших на данный вопрос (Чобщ) | Y20: 88 | Z20: 98 | AA20: отсутствуют условия доступности для инвалидов | AC20: =INDEX(Индикаторы!AC30:AC32,MATCH('Сведения о независимой оценке'!AA20,Индикаторы!AA30:AA32,0)) -> 0 | AD20: количество условий доступности, позволяющих инвалидам получать услуги наравне с другими | AE20: 3 | AF20: =INDEX(Индикаторы!AF30:AF32,MATCH('Сведения о независимой оценке'!AD20,Индикаторы!AD30:AD32,0)) -> 20 | AG20: число получателей услуг-инвалидов, удовлетворенных доступностью услуг для инвалидов (Удост) , по отношению к числу опрошенных получателей услуг- инвалидов, ответивших на соответствующий вопрос анкеты (Чинв) | AH20: 10 | AI20: 10 | AJ20: число получателей услуг, удовлетворенных доброжелательностью, вежливостью работников организации социальной сферы, обеспечивающих первичный контакт и информирование получателя услуги (Уперв.конт), по отношению к числу опрошенных получателей услуг, ответивших на соответствующий вопрос анкеты ( Чобщ) | AK20: 93 | AL20: 98 | AM20: число получателей услуг, удовлетворенных доброжелательностью, вежливостью работников организации социальной сферы, обеспечивающих непосредственное оказание услуги (Уоказ.услуг), по отношению к числу опрошенных получателей услуг, ответивших на соответствующий вопрос анкеты ( Чобщ) | AN20: 95 | AO20: 98 | AP20: число получателей услуг, удовлетворенных доброжелательностью, вежливостью работников организации социальной сферы при использовании дистанционных форм взаимодействия (Увежл.дист), по отношению к числу опрошенных получателей услуг, ответивших на соответствующий вопрос анкеты (Чобщ) | AQ20: 62 | AR20: 62 | AS20: число получателей услуг, которые готовы рекомендовать организацию родственникам и знакомым (могли бы ее рекомендовать, если бы была возможность выбора организации) (Уреком), по отношению к числу опрошенных получателей услуг, ответивших на соответствующий вопрос анкеты (Чобщ) | AT20: 92 | AU20: 98 | AV20: число получателей услуг, удовлетворенных организационными условиями предоставления услуг (Уорг.усл), по отношению к числу опрошенных получателей услуг ответивших на соответствующий вопрос анкеты (Чобщ) | AW20: 96 | AX20: 98 | AY20: число получателей услуг, удовлетворенных в целом условиями оказания услуг в организации социальной сферы (Ууд), по отношению к числу опрошенных получателей услуг, ответивших на соответствующий вопрос анкеты (Чобщ) | AZ20: 94 | BA20: 98
A21: 7 | B21: МУНИЦИПАЛЬНОЕ АВТОНОМНОЕ ДОШКОЛЬНОЕ ОБРАЗОВАТЕЛЬНОЕ УЧРЕЖДЕНИЕ "ДЕТСКИЙ САД № 207", 2223032578, организации, осуществляющие образовательную деятельность | C21: 150 | D21: 76 | E21: 0.51 | F21: объем информации (количество материалов/единиц информации), размещенной на информационных стендах в помещении организации по отношению к количеству материалов, размещение которых установлено нормативными правовыми актами (Истенд) | G21: 15 | H21: 15 | I21: объем информации (количество материалов/единиц информации), размещенной на официальном сайте организации по отношению к количеству материалов, размещение которых установлено нормативными правовыми актами (Исайт) | J21: 45 | K21: 48 | L21: в наличии и функционируют более трех дистанционных способов взаимодействия | N21: =INDEX(Индикаторы!N33:N35,MATCH('Сведения о независимой оценке'!L21,Индикаторы!L33:L35,0)) -> 100 | O21: число получателей услуг, удовлетворенных качеством, полнотой и доступностью информации о деятельности организации социальной сферы, размещенной на информационных стендах в помещении организации социальной сферы по отношению к числу опрошенных получателей услуг, ответивших на соответствующий вопрос анкеты (Устенд) | P21: 61 | Q21: 63 | R21: число получателей услуг, удовлетворенных качеством, полнотой и доступностью информации о деятельности организации социальной сферы, размещенной на официальном сайте организации социальной сферы по отношению к числу опрошенных получателей услуг, ответивших на соответствующий вопрос анкеты (Усайт) | S21: 61 | T21: 65 | U21: наличие пяти и более комфортных условий для предоставления услуг | W21: =INDEX(Индикаторы!W33:W35,MATCH('Сведения о независимой оценке'!U21,Индикаторы!U33:U35,0)) -> 100 | X21: число получателей услуг, удовлетворенных комфортностью предоставления услуг организацией социальной сферы (Укомф), по отношению к числу опрошенных получателей услуг, ответивших на данный вопрос (Чобщ) | Y21: 68 | Z21: 76 | AA21: отсутствуют условия доступности для инвалидов | AC21: =INDEX(Индикаторы!AC33:AC35,MATCH('Сведения о независимой оценке'!AA21,Индикаторы!AA33:AA35,0)) -> 0 | AD21: количество условий доступности, позволяющих инвалидам получать услуги наравне с другими | AE21: 4 | AF21: =INDEX(Индикаторы!AF33:AF35,MATCH('Сведения о независимой оценке'!AD21,Индикаторы!AD33:AD35,0)) -> 20 | AG21: число получателей услуг-инвалидов, удовлетворенных доступностью услуг для инвалидов (Удост) , по отношению к числу опрошенных получателей услуг- инвалидов, ответивших на соответствующий вопрос анкеты (Чинв) | AH21: 13 | AI21: 16 | AJ21: число получателей услуг, удовлетворенных доброжелательностью, вежливостью работников организации социальной сферы, обеспечивающих первичный контакт и информирование получателя услуги (Уперв.конт), по отношению к числу опрошенных получателей услуг, ответивших на соответствующий вопрос анкеты ( Чобщ) | AK21: 74 | AL21: 76 | AM21: число получателей услуг, удовлетворенных доброжелательностью, вежливостью работников организации социальной сферы, обеспечивающих непосредственное оказание услуги (Уоказ.услуг), по отношению к числу опрошенных получателей услуг, ответивших на соответствующий вопрос анкеты ( Чобщ) | AN21: 73 | AO21: 76 | AP21: число получателей услуг, удовлетворенных доброжелательностью, вежливостью работников организации социальной сферы при использовании дистанционных форм взаимодействия (Увежл.дист), по отношению к числу опрошенных получателей услуг, ответивших на соответствующий вопрос анкеты (Чобщ) | AQ21: 50 | AR21: 50 | AS21: число получателей услуг, которые готовы рекомендовать организацию родственникам и знакомым (могли бы ее рекомендовать, если бы была возможность выбора организации) (Уреком), по отношению к числу опрошенных получателей услуг, ответивших на соответствующий вопрос анкеты (Чобщ) | AT21: 72 | AU21: 76 | AV21: число получателей услуг, удовлетворенных организационными условиями предоставления услуг (Уорг.усл), по отношению к числу опрошенных получателей услуг ответивших на соответствующий вопрос анкеты (Чобщ) | AW21: 71 | AX21: 76 | AY21: число получателей услуг, удовлетворенных в целом условиями оказания услуг в организации социальной сферы (Ууд), по отношению к числу опрошенных получателей услуг, ответивших на соответствующий вопрос анкеты (Чобщ) | AZ21: 74 | BA21: 76
A22: 8 | B22: МУНИЦИПАЛЬНОЕ АВТОНОМНОЕ ДОШКОЛЬНОЕ ОБРАЗОВАТЕЛЬНОЕ УЧРЕЖДЕНИЕ "ДЕТСКИЙ САД №263", 2225134092, организации, осуществляющие образовательную деятельность | C22: 125 | D22: 53 | E22: 0.42 | F22: объем информации (количество материалов/единиц информации), размещенной на информационных стендах в помещении организации по отношению к количеству материалов, размещение которых установлено нормативными правовыми актами (Истенд) | G22: 15 | H22: 15 | I22: объем информации (количество материалов/единиц информации), размещенной на официальном сайте организации по отношению к количеству материалов, размещение которых установлено нормативными правовыми актами (Исайт) | J22: 48 | K22: 48 | L22: в наличии и функционируют более трех дистанционных способов взаимодействия | N22: =INDEX(Индикаторы!N36:N38,MATCH('Сведения о независимой оценке'!L22,Индикаторы!L36:L38,0)) -> 100 | O22: число получателей услуг, удовлетворенных качеством, полнотой и доступностью информации о деятельности организации социальной сферы, размещенной на информационных стендах в помещении организации социальной сферы по отношению к числу опрошенных получателей услуг, ответивших на соответствующий вопрос анкеты (Устенд) | P22: 46 | Q22: 47 | R22: число получателей услуг, удовлетворенных качеством, полнотой и доступностью информации о деятельности организации социальной сферы, размещенной на официальном сайте организации социальной сферы по отношению к числу опрошенных получателей услуг, ответивших на соответствующий вопрос анкеты (Усайт) | S22: 33 | T22: 37 | U22: наличие пяти и более комфортных условий для предоставления услуг | W22: =INDEX(Индикаторы!W36:W38,MATCH('Сведения о независимой оценке'!U22,Индикаторы!U36:U38,0)) -> 100 | X22: число получателей услуг, удовлетворенных комфортностью предоставления услуг организацией социальной сферы (Укомф), по отношению к числу опрошенных получателей услуг, ответивших на данный вопрос (Чобщ) | Y22: 53 | Z22: 53 | AA22: количество условий доступности организации для инвалидов | AB22: 1 | AC22: =INDEX(Индикаторы!AC36:AC38,MATCH('Сведения о независимой оценке'!AA22,Индикаторы!AA36:AA38,0)) -> 20 | AD22: количество условий доступности, позволяющих инвалидам получать услуги наравне с другими | AE22: 4 | AF22: =INDEX(Индикаторы!AF36:AF38,MATCH('Сведения о независимой оценке'!AD22,Индикаторы!AD36:AD38,0)) -> 20 | AG22: число получателей услуг-инвалидов, удовлетворенных доступностью услуг для инвалидов (Удост) , по отношению к числу опрошенных получателей услуг- инвалидов, ответивших на соответствующий вопрос анкеты (Чинв) | AH22: 2 | AI22: 2 | AJ22: число получателей услуг, удовлетворенных доброжелательностью, вежливостью работников организации социальной сферы, обеспечивающих первичный контакт и информирование получателя услуги (Уперв.конт), по отношению к числу опрошенных получателей услуг, ответивших на соответствующий вопрос анкеты ( Чобщ) | AK22: 53 | AL22: 53 | AM22: число получателей услуг, удовлетворенных доброжелательностью, вежливостью работников организации социальной сферы, обеспечивающих непосредственное оказание услуги (Уоказ.услуг), по отношению к числу опрошенных получателей услуг, ответивших на соответствующий вопрос анкеты ( Чобщ) | AN22: 53 | AO22: 53 | AP22: число получателей услуг, удовлетворенных доброжелательностью, вежливостью работников организации социальной сферы при использовании дистанционных форм взаимодействия (Увежл.дист), по отношению к числу опрошенных получателей услуг, ответивших на соответствующий вопрос анкеты (Чобщ) | AQ22: 35 | AR22: 36 | AS22: число получателей услуг, которые готовы рекомендовать организацию родственникам и знакомым (могли бы ее рекомендовать, если бы была возможность выбора организации) (Уреком), по отношению к числу опрошенных получателей услуг, ответивших на соответствующий вопрос анкеты (Чобщ) | AT22: 53 | AU22: 53 | AV22: число получателей услуг, удовлетворенных организационными условиями предоставления услуг (Уорг.усл), по отношению к числу опрошенных получателей услуг ответивших на соответствующий вопрос анкеты (Чобщ) | AW22: 52 | AX22: 53 | AY22: число получателей услуг, удовлетворенных в целом условиями оказания услуг в организации социальной сферы (Ууд), по отношению к числу опрошенных получателей услуг, ответивших на соответствующий вопрос анкеты (Чобщ) | AZ22: 53 | BA22: 53
A23: 9 | B23: МУНИЦИПАЛЬНОЕ АВТОНОМНОЕ ДОШКОЛЬНОЕ ОБРАЗОВАТЕЛЬНОЕ УЧРЕЖДЕНИЕ "ДЕТСКИЙ САД №131", 2221031138, организации, осуществляющие образовательную деятельность | C23: 181 | D23: 101 | E23: 0.56 | F23: объем информации (количество материалов/единиц информации), размещенной на информационных стендах в помещении организации по отношению к количеству материалов, размещение которых установлено нормативными правовыми актами (Истенд) | G23: 15 | H23: 15 | I23: объем информации (количество материалов/единиц информации), размещенной на официальном сайте организации по отношению к количеству материалов, размещение которых установлено нормативными правовыми актами (Исайт) | J23: 48 | K23: 48 | L23: Количество функционирующих дистанционных способов взаимодействия (от одного до трех способов включительно) | M23: 3 | N23: =INDEX(Индикаторы!N39:N41,MATCH('Сведения о независимой оценке'!L23,Индикаторы!L39:L41,0)) -> 30 | O23: число получателей услуг, удовлетворенных качеством, полнотой и доступностью информации о деятельности организации социальной сферы, размещенной на информационных стендах в помещении организации социальной сферы по отношению к числу опрошенных получателей услуг, ответивших на соответствующий вопрос анкеты (Устенд) | P23: 81 | Q23: 81 | R23: число получателей услуг, удовлетворенных качеством, полнотой и доступностью информации о деятельности организации социальной сферы, размещенной на официальном сайте организации социальной сферы по отношению к числу опрошенных получателей услуг, ответивших на соответствующий вопрос анкеты (Усайт) | S23: 76 | T23: 78 | U23: наличие пяти и более комфортных условий для предоставления услуг | W23: =INDEX(Индикаторы!W39:W41,MATCH('Сведения о независимой оценке'!U23,Индикаторы!U39:U41,0)) -> 100 | X23: число получателей услуг, удовлетворенных комфортностью предоставления услуг организацией социальной сферы (Укомф), по отношению к числу опрошенных получателей услуг, ответивших на данный вопрос (Чобщ) | Y23: 97 | Z23: 101 | AA23: отсутствуют условия доступности для инвалидов | AC23: =INDEX(Индикаторы!AC39:AC41,MATCH('Сведения о независимой оценке'!AA23,Индикаторы!AA39:AA41,0)) -> 0 | AD23: количество условий доступности, позволяющих инвалидам получать услуги наравне с другими | AE23: 3 | AF23: =INDEX(Индикаторы!AF39:AF41,MATCH('Сведения о независимой оценке'!AD23,Индикаторы!AD39:AD41,0)) -> 20 | AG23: число получателей услуг-инвалидов, удовлетворенных доступностью услуг для инвалидов (Удост) , по отношению к числу опрошенных получателей услуг- инвалидов, ответивших на соответствующий вопрос анкеты (Чинв) | AH23: 2 | AI23: 2 | AJ23: число получателей услуг, удовлетворенных доброжелательностью, вежливостью работников организации социальной сферы, обеспечивающих первичный контакт и информирование получателя услуги (Уперв.конт), по отношению к числу опрошенных получателей услуг, ответивших на соответствующий вопрос анкеты ( Чобщ) | AK23: 95 | AL23: 101 | AM23: число получателей услуг, удовлетворенных доброжелательностью, вежливостью работников организации социальной сферы, обеспечивающих непосредственное оказание услуги (Уоказ.услуг), по отношению к числу опрошенных получателей услуг, ответивших на соответствующий вопрос анкеты ( Чобщ) | AN23: 97 | AO23: 101 | AP23: число получателей услуг, удовлетворенных доброжелательностью, вежливостью работников организации социальной сферы при использовании дистанционных форм взаимодействия (Увежл.дист), по отношению к числу опрошенных получателей услуг, ответивших на соответствующий вопрос анкеты (Чобщ) | AQ23: 63 | AR23: 63 | AS23: число получателей услуг, которые готовы рекомендовать организацию родственникам и знакомым (могли бы ее рекомендовать, если бы была возможность выбора организации) (Уреком), по отношению к числу опрошенных получателей услуг, ответивших на соответствующий вопрос анкеты (Чобщ) | AT23: 98 | AU23: 101 | AV23: число получателей услуг, удовлетворенных организационными условиями предоставления услуг (Уорг.усл), по отношению к числу опрошенных получателей услуг ответивших на соответствующий вопрос анкеты (Чобщ) | AW23: 97 | AX23: 101 | AY23: число получателей услуг, удовлетворенных в целом условиями оказания услуг в организации социальной сферы (Ууд), по отношению к числу опрошенных получателей услуг, ответивших на соответствующий вопрос анкеты (Чобщ) | AZ23: 100 | BA23: 101
A24: 10 | B24: МУНИЦИПАЛЬНОЕ АВТОНОМНОЕ ДОШКОЛЬНОЕ ОБРАЗОВАТЕЛЬНОЕ УЧРЕЖДЕНИЕ "ДЕТСКИЙ САД №196", 2222025659, организации, осуществляющие образовательную деятельность | C24: 255 | D24: 116 | E24: 0.45 | F24: объем информации (количество материалов/единиц информации), размещенной на информационных стендах в помещении организации по отношению к количеству материалов, размещение которых установлено нормативными правовыми актами (Истенд) | G24: 15 | H24: 15 | I24: объем информации (количество материалов/единиц информации), размещенной на официальном сайте организации по отношению к количеству материалов, размещение которых установлено нормативными правовыми актами (Исайт) | J24: 48 | K24: 48 | L24: в наличии и функционируют более трех дистанционных способов взаимодействия | N24: =INDEX(Индикаторы!N42:N44,MATCH('Сведения о независимой оценке'!L24,Индикаторы!L42:L44,0)) -> 100 | O24: число получателей услуг, удовлетворенных качеством, полнотой и доступностью информации о деятельности организации социальной сферы, размещенной на информационных стендах в помещении организации социальной сферы по отношению к числу опрошенных получателей услуг, ответивших на соответствующий вопрос анкеты (Устенд) | P24: 86 | Q24: 88 | R24: число получателей услуг, удовлетворенных качеством, полнотой и доступностью информации о деятельности организации социальной сферы, размещенной на официальном сайте организации социальной сферы по отношению к числу опрошенных получателей услуг, ответивших на соответствующий вопрос анкеты (Усайт) | S24: 71 | T24: 72 | U24: наличие пяти и более комфортных условий для предоставления услуг | W24: =INDEX(Индикаторы!W42:W44,MATCH('Сведения о независимой оценке'!U24,Индикаторы!U42:U44,0)) -> 100 | X24: число получателей услуг, удовлетворенных комфортностью предоставления услуг организацией социальной сферы (Укомф), по отношению к числу опрошенных получателей услуг, ответивших на данный вопрос (Чобщ) | Y24: 110 | Z24: 116 | AA24: отсутствуют условия доступности для инвалидов | AC24: =INDEX(Индикаторы!AC42:AC44,MATCH('Сведения о независимой оценке'!AA24,Индикаторы!AA42:AA44,0)) -> 0 | AD24: количество условий доступности, позволяющих инвалидам получать услуги наравне с другими | AE24: 2 | AF24: =INDEX(Индикаторы!AF42:AF44,MATCH('Сведения о независимой оценке'!AD24,Индикаторы!AD42:AD44,0)) -> 20 | AG24: число получателей услуг-инвалидов, удовлетворенных доступностью услуг для инвалидов (Удост) , по отношению к числу опрошенных получателей услуг- инвалидов, ответивших на соответствующий вопрос анкеты (Чинв) | AH24: 1 | AI24: 1 | AJ24: число получателей услуг, удовлетворенных доброжелательностью, вежливостью работников организации социальной сферы, обеспечивающих первичный контакт и информирование получателя услуги (Уперв.конт), по отношению к числу опрошенных получателей услуг, ответивших на соответствующий вопрос анкеты ( Чобщ) | AK24: 115 | AL24: 116 | AM24: число получателей услуг, удовлетворенных доброжелательностью, вежливостью работников организации социальной сферы, обеспечивающих непосредственное оказание услуги (Уоказ.услуг), по отношению к числу опрошенных получателей услуг, ответивших на соответствующий вопрос анкеты ( Чобщ) | AN24: 115 | AO24: 116 | AP24: число получателей услуг, удовлетворенных доброжелательностью, вежливостью работников организации социальной сферы при использовании дистанционных форм взаимодействия (Увежл.дист), по отношению к числу опрошенных получателей услуг, ответивших на соответствующий вопрос анкеты (Чобщ) | AQ24: 63 | AR24: 63 | AS24: число получателей услуг, которые готовы рекомендовать организацию родственникам и знакомым (могли бы ее рекомендовать, если бы была возможность выбора организации) (Уреком), по отношению к числу опрошенных получателей услуг, ответивших на соответствующий вопрос анкеты (Чобщ) | AT24: 113 | AU24: 116 | AV24: число получателей услуг, удовлетворенных организационными условиями предоставления услуг (Уорг.усл), по отношению к числу опрошенных получателей услуг ответивших на соответствующий вопрос анкеты (Чобщ) | AW24: 115 | AX24: 116 | AY24: число получателей услуг, удовлетворенных в целом условиями оказания услуг в организации социальной сферы (Ууд), по отношению к числу опрошенных получателей услуг, ответивших на соответствующий вопрос анкеты (Чобщ) | AZ24: 115 | BA24: 116
A25: 11 | B25: МУНИЦИПАЛЬНОЕ АВТОНОМНОЕ ДОШКОЛЬНОЕ ОБРАЗОВАТЕЛЬНОЕ УЧРЕЖДЕНИЕ "ДЕТСКИЙ САД №242", 2222025666, организации, осуществляющие образовательную деятельность | C25: 267 | D25: 206 | E25: 0.77 | F25: объем информации (количество материалов/единиц информации), размещенной на информационных стендах в помещении организации по отношению к количеству материалов, размещение которых установлено нормативными правовыми актами (Истенд) | G25: 15 | H25: 15 | I25: объем информации (количество материалов/единиц информации), размещенной на официальном сайте организации по отношению к количеству материалов, размещение которых установлено нормативными правовыми актами (Исайт) | J25: 47 | K25: 48 | L25: в наличии и функционируют более трех дистанционных способов взаимодействия | N25: =INDEX(Индикаторы!N45:N47,MATCH('Сведения о независимой оценке'!L25,Индикаторы!L45:L47,0)) -> 100 | O25: число получателей услуг, удовлетворенных качеством, полнотой и доступностью информации о деятельности организации социальной сферы, размещенной на информационных стендах в помещении организации социальной сферы по отношению к числу опрошенных получателей услуг, ответивших на соответствующий вопрос анкеты (Устенд) | P25: 141 | Q25: 143 | R25: число получателей услуг, удовлетворенных качеством, полнотой и доступностью информации о деятельности организации социальной сферы, размещенной на официальном сайте организации социальной сферы по отношению к числу опрошенных получателей услуг, ответивших на соответствующий вопрос анкеты (Усайт) | S25: 127 | T25: 136 | U25: наличие пяти и более комфортных условий для предоставления услуг | W25: =INDEX(Индикаторы!W45:W47,MATCH('Сведения о независимой оценке'!U25,Индикаторы!U45:U47,0)) -> 100 | X25: число получателей услуг, удовлетворенных комфортностью предоставления услуг организацией социальной сферы (Укомф), по отношению к числу опрошенных получателей услуг, ответивших на данный вопрос (Чобщ) | Y25: 189 | Z25: 206 | AA25: отсутствуют условия доступности для инвалидов | AC25: =INDEX(Индикаторы!AC45:AC47,MATCH('Сведения о независимой оценке'!AA25,Индикаторы!AA45:AA47,0)) -> 0 | AD25: количество условий доступности, позволяющих инвалидам получать услуги наравне с другими | AE25: 4 | AF25: =INDEX(Индикаторы!AF45:AF47,MATCH('Сведения о независимой оценке'!AD25,Индикаторы!AD45:AD47,0)) -> 20 | AG25: число получателей услуг-инвалидов, удовлетворенных доступностью услуг для инвалидов (Удост) , по отношению к числу опрошенных получателей услуг- инвалидов, ответивших на соответствующий вопрос анкеты (Чинв) | AH25: 1 | AI25: 1 | AJ25: число получателей услуг, удовлетворенных доброжелательностью, вежливостью работников организации социальной сферы, обеспечивающих первичный контакт и информирование получателя услуги (Уперв.конт), по отношению к числу опрошенных получателей услуг, ответивших на соответствующий вопрос анкеты ( Чобщ) | AK25: 201 | AL25: 206 | AM25: число получателей услуг, удовлетворенных доброжелательностью, вежливостью работников организации социальной сферы, обеспечивающих непосредственное оказание услуги (Уоказ.услуг), по отношению к числу опрошенных получателей услуг, ответивших на соответствующий вопрос анкеты ( Чобщ) | AN25: 202 | AO25: 206 | AP25: число получателей услуг, удовлетворенных доброжелательностью, вежливостью работников организации социальной сферы при использовании дистанционных форм взаимодействия (Увежл.дист), по отношению к числу опрошенных получателей услуг, ответивших на соответствующий вопрос анкеты (Чобщ) | AQ25: 121 | AR25: 124 | AS25: число получателей услуг, которые готовы рекомендовать организацию родственникам и знакомым (могли бы ее рекомендовать, если бы была возможность выбора организации) (Уреком), по отношению к числу опрошенных получателей услуг, ответивших на соответствующий вопрос анкеты (Чобщ) | AT25: 193 | AU25: 206 | AV25: число получателей услуг, удовлетворенных организационными условиями предоставления услуг (Уорг.усл), по отношению к числу опрошенных получателей услуг ответивших на соответствующий вопрос анкеты (Чобщ) | AW25: 186 | AX25: 206 | AY25: число получателей услуг, удовлетворенных в целом условиями оказания услуг в организации социальной сферы (Ууд), по отношению к числу опрошенных получателей услуг, ответивших на соответствующий вопрос анкеты (Чобщ) | AZ25: 200 | BA25: 206
A26: 12 | B26: МУНИЦИПАЛЬНОЕ АВТОНОМНОЕ ДОШКОЛЬНОЕ ОБРАЗОВАТЕЛЬНОЕ УЧРЕЖДЕНИЕ "ДЕТСКИЙ САД №250", 2222070010, организации, осуществляющие образовательную деятельность | C26: 618 | D26: 249 | E26: 0.4 | F26: объем информации (количество материалов/единиц информации), размещенной на информационных стендах в помещении организации по отношению к количеству материалов, размещение которых установлено нормативными правовыми актами (Истенд) | G26: 15 | H26: 15 | I26: объем информации (количество материалов/единиц информации), размещенной на официальном сайте организации по отношению к количеству материалов, размещение которых установлено нормативными правовыми актами (Исайт) | J26: 46 | K26: 48 | L26: в наличии и функционируют более трех дистанционных способов взаимодействия | N26: =INDEX(Индикаторы!N48:N50,MATCH('Сведения о независимой оценке'!L26,Индикаторы!L48:L50,0)) -> 100 | O26: число получателей услуг, удовлетворенных качеством, полнотой и доступностью информации о деятельности организации социальной сферы, размещенной на информационных стендах в помещении организации социальной сферы по отношению к числу опрошенных получателей услуг, ответивших на соответствующий вопрос анкеты (Устенд) | P26: 218 | Q26: 219 | R26: число получателей услуг, удовлетворенных качеством, полнотой и доступностью информации о деятельности организации социальной сферы, размещенной на официальном сайте организации социальной сферы по отношению к числу опрошенных получателей услуг, ответивших на соответствующий вопрос анкеты (Усайт) | S26: 205 | T26: 207 | U26: наличие пяти и более комфортных условий для предоставления услуг | W26: =INDEX(Индикаторы!W48:W50,MATCH('Сведения о независимой оценке'!U26,Индикаторы!U48:U50,0)) -> 100 | X26: число получателей услуг, удовлетворенных комфортностью предоставления услуг организацией социальной сферы (Укомф), по отношению к числу опрошенных получателей услуг, ответивших на данный вопрос (Чобщ) | Y26: 246 | Z26: 249 | AA26: количество условий доступности организации для инвалидов | AB26: 1 | AC26: =INDEX(Индикаторы!AC48:AC50,MATCH('Сведения о независимой оценке'!AA26,Индикаторы!AA48:AA50,0)) -> 20 | AD26: наличие пяти и более условий доступности | AF26: =INDEX(Индикаторы!AF48:AF50,MATCH('Сведения о независимой оценке'!AD26,Индикаторы!AD48:AD50,0)) -> 100 | AG26: число получателей услуг-инвалидов, удовлетворенных доступностью услуг для инвалидов (Удост) , по отношению к числу опрошенных получателей услуг- инвалидов, ответивших на соответствующий вопрос анкеты (Чинв) | AH26: 16 | AI26: 17 | AJ26: число получателей услуг, удовлетворенных доброжелательностью, вежливостью работников организации социальной сферы, обеспечивающих первичный контакт и информирование получателя услуги (Уперв.конт), по отношению к числу опрошенных получателей услуг, ответивших на соответствующий вопрос анкеты ( Чобщ) | AK26: 247 | AL26: 249 | AM26: число получателей услуг, удовлетворенных доброжелательностью, вежливостью работников организации социальной сферы, обеспечивающих непосредственное оказание услуги (Уоказ.услуг), по отношению к числу опрошенных получателей услуг, ответивших на соответствующий вопрос анкеты ( Чобщ) | AN26: 246 | AO26: 249 | AP26: число получателей услуг, удовлетворенных доброжелательностью, вежливостью работников организации социальной сферы при использовании дистанционных форм взаимодействия (Увежл.дист), по отношению к числу опрошенных получателей услуг, ответивших на соответствующий вопрос анкеты (Чобщ) | AQ26: 198 | AR26: 199 | AS26: число получателей услуг, которые готовы рекомендовать организацию родственникам и знакомым (могли бы ее рекомендовать, если бы была возможность выбора организации) (Уреком), по отношению к числу опрошенных получателей услуг, ответивших на соответствующий вопрос анкеты (Чобщ) | AT26: 246 | AU26: 249 | AV26: число получателей услуг, удовлетворенных организационными условиями предоставления услуг (Уорг.усл), по отношению к числу опрошенных получателей услуг ответивших на соответствующий вопрос анкеты (Чобщ) | AW26: 248 | AX26: 249 | AY26: число получателей услуг, удовлетворенных в целом условиями оказания услуг в организации социальной сферы (Ууд), по отношению к числу опрошенных получателей услуг, ответивших на соответствующий вопрос анкеты (Чобщ) | AZ26: 248 | BA26: 249
A27: 13 | B27: МУНИЦИПАЛЬНОЕ АВТОНОМНОЕ ДОШКОЛЬНОЕ ОБРАЗОВАТЕЛЬНОЕ УЧРЕЖДЕНИЕ "ДЕТСКИЙ САД №252", 2223029007, организации, осуществляющие образовательную деятельность | C27: 200 | D27: 82 | E27: 0.41 | F27: объем информации (количество материалов/единиц информации), размещенной на информационных стендах в помещении организации по отношению к количеству материалов, размещение которых установлено нормативными правовыми актами (Истенд) | G27: 15 | H27: 15 | I27: объем информации (количество материалов/единиц информации), размещенной на официальном сайте организации по отношению к количеству материалов, размещение которых установлено нормативными правовыми актами (Исайт) | J27: 47 | K27: 48 | L27: в наличии и функционируют более трех дистанционных способов взаимодействия | N27: =INDEX(Индикаторы!N51:N53,MATCH('Сведения о независимой оценке'!L27,Индикаторы!L51:L53,0)) -> 100 | O27: число получателей услуг, удовлетворенных качеством, полнотой и доступностью информации о деятельности организации социальной сферы, размещенной на информационных стендах в помещении организации социальной сферы по отношению к числу опрошенных получателей услуг, ответивших на соответствующий вопрос анкеты (Устенд) | P27: 81 | Q27: 81 | R27: число получателей услуг, удовлетворенных качеством, полнотой и доступностью информации о деятельности организации социальной сферы, размещенной на официальном сайте организации социальной сферы по отношению к числу опрошенных получателей услуг, ответивших на соответствующий вопрос анкеты (Усайт) | S27: 82 | T27: 82 | U27: наличие пяти и более комфортных условий для предоставления услуг | W27: =INDEX(Индикаторы!W51:W53,MATCH('Сведения о независимой оценке'!U27,Индикаторы!U51:U53,0)) -> 100 | X27: число получателей услуг, удовлетворенных комфортностью предоставления услуг организацией социальной сферы (Укомф), по отношению к числу опрошенных получателей услуг, ответивших на данный вопрос (Чобщ) | Y27: 82 | Z27: 82 | AA27: количество условий доступности организации для инвалидов | AB27: 3 | AC27: =INDEX(Индикаторы!AC51:AC53,MATCH('Сведения о независимой оценке'!AA27,Индикаторы!AA51:AA53,0)) -> 20 | AD27: количество условий доступности, позволяющих инвалидам получать услуги наравне с другими | AE27: 4 | AF27: =INDEX(Индикаторы!AF51:AF53,MATCH('Сведения о независимой оценке'!AD27,Индикаторы!AD51:AD53,0)) -> 20 | AG27: число получателей услуг-инвалидов, удовлетворенных доступностью услуг для инвалидов (Удост) , по отношению к числу опрошенных получателей услуг- инвалидов, ответивших на соответствующий вопрос анкеты (Чинв) | AH27: 1 | AI27: 1 | AJ27: число получателей услуг, удовлетворенных доброжелательностью, вежливостью работников организации социальной сферы, обеспечивающих первичный контакт и информирование получателя услуги (Уперв.конт), по отношению к числу опрошенных получателей услуг, ответивших на соответствующий вопрос анкеты ( Чобщ) | AK27: 82 | AL27: 82 | AM27: число получателей услуг, удовлетворенных доброжелательностью, вежливостью работников организации социальной сферы, обеспечивающих непосредственное оказание услуги (Уоказ.услуг), по отношению к числу опрошенных получателей услуг, ответивших на соответствующий вопрос анкеты ( Чобщ) | AN27: 82 | AO27: 82 | AP27: число получателей услуг, удовлетворенных доброжелательностью, вежливостью работников организации социальной сферы при использовании дистанционных форм взаимодействия (Увежл.дист), по отношению к числу опрошенных получателей услуг, ответивших на соответствующий вопрос анкеты (Чобщ) | AQ27: 81 | AR27: 81 | AS27: число получателей услуг, которые готовы рекомендовать организацию родственникам и знакомым (могли бы ее рекомендовать, если бы была возможность выбора организации) (Уреком), по отношению к числу опрошенных получателей услуг, ответивших на соответствующий вопрос анкеты (Чобщ) | AT27: 82 | AU27: 82 | AV27: число получателей услуг, удовлетворенных организационными условиями предоставления услуг (Уорг.усл), по отношению к числу опрошенных получателей услуг ответивших на соответствующий вопрос анкеты (Чобщ) | AW27: 82 | AX27: 82 | AY27: число получателей услуг, удовлетворенных в целом условиями оказания услуг в организации социальной сферы (Ууд), по отношению к числу опрошенных получателей услуг, ответивших на соответствующий вопрос анкеты (Чобщ) | AZ27: 82 | BA27: 82
A28: 14 | B28: МУНИЦИПАЛЬНОЕ АВТОНОМНОЕ ДОШКОЛЬНОЕ ОБРАЗОВАТЕЛЬНОЕ УЧРЕЖДЕНИЕ "ДЕТСКИЙ САД №257", 2225114699, организации, осуществляющие образовательную деятельность | C28: 212 | D28: 166 | E28: 0.78 | F28: объем информации (количество материалов/единиц информации), размещенной на информационных стендах в помещении организации по отношению к количеству материалов, размещение которых установлено нормативными правовыми актами (Истенд) | G28: 15 | H28: 15 | I28: объем информации (количество материалов/единиц информации), размещенной на официальном сайте организации по отношению к количеству материалов, размещение которых установлено нормативными правовыми актами (Исайт) | J28: 47 | K28: 48 | L28: в наличии и функционируют более трех дистанционных способов взаимодействия | N28: =INDEX(Индикаторы!N54:N56,MATCH('Сведения о независимой оценке'!L28,Индикаторы!L54:L56,0)) -> 100 | O28: число получателей услуг, удовлетворенных качеством, полнотой и доступностью информации о деятельности организации социальной сферы, размещенной на информационных стендах в помещении организации социальной сферы по отношению к числу опрошенных получателей услуг, ответивших на соответствующий вопрос анкеты (Устенд) | P28: 116 | Q28: 117 | R28: число получателей услуг, удовлетворенных качеством, полнотой и доступностью информации о деятельности организации социальной сферы, размещенной на официальном сайте организации социальной сферы по отношению к числу опрошенных получателей услуг, ответивших на соответствующий вопрос анкеты (Усайт) | S28: 106 | T28: 110 | U28: наличие пяти и более комфортных условий для предоставления услуг | W28: =INDEX(Индикаторы!W54:W56,MATCH('Сведения о независимой оценке'!U28,Индикаторы!U54:U56,0)) -> 100 | X28: число получателей услуг, удовлетворенных комфортностью предоставления услуг организацией социальной сферы (Укомф), по отношению к числу опрошенных получателей услуг, ответивших на данный вопрос (Чобщ) | Y28: 163 | Z28: 166 | AA28: отсутствуют условия доступности для инвалидов | AC28: =INDEX(Индикаторы!AC54:AC56,MATCH('Сведения о независимой оценке'!AA28,Индикаторы!AA54:AA56,0)) -> 0 | AD28: наличие пяти и более условий доступности | AF28: =INDEX(Индикаторы!AF54:AF56,MATCH('Сведения о независимой оценке'!AD28,Индикаторы!AD54:AD56,0)) -> 100 | AG28: число получателей услуг-инвалидов, удовлетворенных доступностью услуг для инвалидов (Удост) , по отношению к числу опрошенных получателей услуг- инвалидов, ответивших на соответствующий вопрос анкеты (Чинв) | AH28: 3 | AI28: 3 | AJ28: число получателей услуг, удовлетворенных доброжелательностью, вежливостью работников организации социальной сферы, обеспечивающих первичный контакт и информирование получателя услуги (Уперв.конт), по отношению к числу опрошенных получателей услуг, ответивших на соответствующий вопрос анкеты ( Чобщ) | AK28: 164 | AL28: 166 | AM28: число получателей услуг, удовлетворенных доброжелательностью, вежливостью работников организации социальной сферы, обеспечивающих непосредственное оказание услуги (Уоказ.услуг), по отношению к числу опрошенных получателей услуг, ответивших на соответствующий вопрос анкеты ( Чобщ) | AN28: 163 | AO28: 166 | AP28: число получателей услуг, удовлетворенных доброжелательностью, вежливостью работников организации социальной сферы при использовании дистанционных форм взаимодействия (Увежл.дист), по отношению к числу опрошенных получателей услуг, ответивших на соответствующий вопрос анкеты (Чобщ) | AQ28: 82 | AR28: 83 | AS28: число получателей услуг, которые готовы рекомендовать организацию родственникам и знакомым (могли бы ее рекомендовать, если бы была возможность выбора организации) (Уреком), по отношению к числу опрошенных получателей услуг, ответивших на соответствующий вопрос анкеты (Чобщ) | AT28: 163 | AU28: 166 | AV28: число получателей услуг, удовлетворенных организационными условиями предоставления услуг (Уорг.усл), по отношению к числу опрошенных получателей услуг ответивших на соответствующий вопрос анкеты (Чобщ) | AW28: 164 | AX28: 166 | AY28: число получателей услуг, удовлетворенных в целом условиями оказания услуг в организации социальной сферы (Ууд), по отношению к числу опрошенных получателей услуг, ответивших на соответствующий вопрос анкеты (Чобщ) | AZ28: 166 | BA28: 166
A29: 15 | B29: МУНИЦИПАЛЬНОЕ АВТОНОМНОЕ ДОШКОЛЬНОЕ ОБРАЗОВАТЕЛЬНОЕ УЧРЕЖДЕНИЕ "ДЕТСКИЙ САД № 261 "ИСТОКИ", 2221207455, организации, осуществляющие образовательную деятельность | C29: 363 | D29: 147 | E29: 0.4 | F29: объем информации (количество материалов/единиц информации), размещенной на информационных стендах в помещении организации по отношению к количеству материалов, размещение которых установлено нормативными правовыми актами (Истенд) | G29: 15 | H29: 15 | I29: объем информации (количество материалов/единиц информации), размещенной на официальном сайте организации по отношению к количеству материалов, размещение которых установлено нормативными правовыми актами (Исайт) | J29: 48 | K29: 48 | L29: в наличии и функционируют более трех дистанционных способов взаимодействия | N29: =INDEX(Индикаторы!N57:N59,MATCH('Сведения о независимой оценке'!L29,Индикаторы!L57:L59,0)) -> 100 | O29: число получателей услуг, удовлетворенных качеством, полнотой и доступностью информации о деятельности организации социальной сферы, размещенной на информационных стендах в помещении организации социальной сферы по отношению к числу опрошенных получателей услуг, ответивших на соответствующий вопрос анкеты (Устенд) | P29: 145 | Q29: 145 | R29: число получателей услуг, удовлетворенных качеством, полнотой и доступностью информации о деятельности организации социальной сферы, размещенной на официальном сайте организации социальной сферы по отношению к числу опрошенных получателей услуг, ответивших на соответствующий вопрос анкеты (Усайт) | S29: 143 | T29: 143 | U29: наличие пяти и более комфортных условий для предоставления услуг | W29: =INDEX(Индикаторы!W57:W59,MATCH('Сведения о независимой оценке'!U29,Индикаторы!U57:U59,0)) -> 100 | X29: число получателей услуг, удовлетворенных комфортностью предоставления услуг организацией социальной сферы (Укомф), по отношению к числу опрошенных получателей услуг, ответивших на данный вопрос (Чобщ) | Y29: 147 | Z29: 147 | AA29: количество условий доступности организации для инвалидов | AB29: 4 | AC29: =INDEX(Индикаторы!AC57:AC59,MATCH('Сведения о независимой оценке'!AA29,Индикаторы!AA57:AA59,0)) -> 20 | AD29: наличие пяти и более условий доступности | AF29: =INDEX(Индикаторы!AF57:AF59,MATCH('Сведения о независимой оценке'!AD29,Индикаторы!AD57:AD59,0)) -> 100 | AG29: число получателей услуг-инвалидов, удовлетворенных доступностью услуг для инвалидов (Удост) , по отношению к числу опрошенных получателей услуг- инвалидов, ответивших на соответствующий вопрос анкеты (Чинв) | AH29: 6 | AI29: 6 | AJ29: число получателей услуг, удовлетворенных доброжелательностью, вежливостью работников организации социальной сферы, обеспечивающих первичный контакт и информирование получателя услуги (Уперв.конт), по отношению к числу опрошенных получателей услуг, ответивших на соответствующий вопрос анкеты ( Чобщ) | AK29: 147 | AL29: 147 | AM29: число получателей услуг, удовлетворенных доброжелательностью, вежливостью работников организации социальной сферы, обеспечивающих непосредственное оказание услуги (Уоказ.услуг), по отношению к числу опрошенных получателей услуг, ответивших на соответствующий вопрос анкеты ( Чобщ) | AN29: 147 | AO29: 147 | AP29: число получателей услуг, удовлетворенных доброжелательностью, вежливостью работников организации социальной сферы при использовании дистанционных форм взаимодействия (Увежл.дист), по отношению к числу опрошенных получателей услуг, ответивших на соответствующий вопрос анкеты (Чобщ) | AQ29: 142 | AR29: 142 | AS29: число получателей услуг, которые готовы рекомендовать организацию родственникам и знакомым (могли бы ее рекомендовать, если бы была возможность выбора организации) (Уреком), по отношению к числу опрошенных получателей услуг, ответивших на соответствующий вопрос анкеты (Чобщ) | AT29: 146 | AU29: 147 | AV29: число получателей услуг, удовлетворенных организационными условиями предоставления услуг (Уорг.усл), по отношению к числу опрошенных получателей услуг ответивших на соответствующий вопрос анкеты (Чобщ) | AW29: 147 | AX29: 147 | AY29: число получателей услуг, удовлетворенных в целом условиями оказания услуг в организации социальной сферы (Ууд), по отношению к числу опрошенных получателей услуг, ответивших на соответствующий вопрос анкеты (Чобщ) | AZ29: 146 | BA29: 147
A30: 16 | B30: МУНИЦИПАЛЬНОЕ АВТОНОМНОЕ ДОШКОЛЬНОЕ ОБРАЗОВАТЕЛЬНОЕ УЧРЕЖДЕНИЕ "ДЕТСКИЙ САД №264", 2222814290, организации, осуществляющие образовательную деятельность | C30: 314 | D30: 189 | E30: 0.6 | F30: объем информации (количество материалов/единиц информации), размещенной на информационных стендах в помещении организации по отношению к количеству материалов, размещение которых установлено нормативными правовыми актами (Истенд) | G30: 15 | H30: 15 | I30: объем информации (количество материалов/единиц информации), размещенной на официальном сайте организации по отношению к количеству материалов, размещение которых установлено нормативными правовыми актами (Исайт) | J30: 46 | K30: 48 | L30: в наличии и функционируют более трех дистанционных способов взаимодействия | N30: =INDEX(Индикаторы!N60:N62,MATCH('Сведения о независимой оценке'!L30,Индикаторы!L60:L62,0)) -> 100 | O30: число получателей услуг, удовлетворенных качеством, полнотой и доступностью информации о деятельности организации социальной сферы, размещенной на информационных стендах в помещении организации социальной сферы по отношению к числу опрошенных получателей услуг, ответивших на соответствующий вопрос анкеты (Устенд) | P30: 162 | Q30: 163 | R30: число получателей услуг, удовлетворенных качеством, полнотой и доступностью информации о деятельности организации социальной сферы, размещенной на официальном сайте организации социальной сферы по отношению к числу опрошенных получателей услуг, ответивших на соответствующий вопрос анкеты (Усайт) | S30: 163 | T30: 166 | U30: наличие пяти и более комфортных условий для предоставления услуг | W30: =INDEX(Индикаторы!W60:W62,MATCH('Сведения о независимой оценке'!U30,Индикаторы!U60:U62,0)) -> 100 | X30: число получателей услуг, удовлетворенных комфортностью предоставления услуг организацией социальной сферы (Укомф), по отношению к числу опрошенных получателей услуг, ответивших на данный вопрос (Чобщ) | Y30: 188 | Z30: 189 | AA30: отсутствуют условия доступности для инвалидов | AC30: =INDEX(Индикаторы!AC60:AC62,MATCH('Сведения о независимой оценке'!AA30,Индикаторы!AA60:AA62,0)) -> 0 | AD30: количество условий доступности, позволяющих инвалидам получать услуги наравне с другими | AE30: 3 | AF30: =INDEX(Индикаторы!AF60:AF62,MATCH('Сведения о независимой оценке'!AD30,Индикаторы!AD60:AD62,0)) -> 20 | AG30: число получателей услуг-инвалидов, удовлетворенных доступностью услуг для инвалидов (Удост) , по отношению к числу опрошенных получателей услуг- инвалидов, ответивших на соответствующий вопрос анкеты (Чинв) | AH30: 14 | AI30: 14 | AJ30: число получателей услуг, удовлетворенных доброжелательностью, вежливостью работников организации социальной сферы, обеспечивающих первичный контакт и информирование получателя услуги (Уперв.конт), по отношению к числу опрошенных получателей услуг, ответивших на соответствующий вопрос анкеты ( Чобщ) | AK30: 189 | AL30: 189 | AM30: число получателей услуг, удовлетворенных доброжелательностью, вежливостью работников организации социальной сферы, обеспечивающих непосредственное оказание услуги (Уоказ.услуг), по отношению к числу опрошенных получателей услуг, ответивших на соответствующий вопрос анкеты ( Чобщ) | AN30: 189 | AO30: 189 | AP30: число получателей услуг, удовлетворенных доброжелательностью, вежливостью работников организации социальной сферы при использовании дистанционных форм взаимодействия (Увежл.дист), по отношению к числу опрошенных получателей услуг, ответивших на соответствующий вопрос анкеты (Чобщ) | AQ30: 138 | AR30: 138 | AS30: число получателей услуг, которые готовы рекомендовать организацию родственникам и знакомым (могли бы ее рекомендовать, если бы была возможность выбора организации) (Уреком), по отношению к числу опрошенных получателей услуг, ответивших на соответствующий вопрос анкеты (Чобщ) | AT30: 185 | AU30: 189 | AV30: число получателей услуг, удовлетворенных организационными условиями предоставления услуг (Уорг.усл), по отношению к числу опрошенных получателей услуг ответивших на соответствующий вопрос анкеты (Чобщ) | AW30: 188 | AX30: 189 | AY30: число получателей услуг, удовлетворенных в целом условиями оказания услуг в организации социальной сферы (Ууд), по отношению к числу опрошенных получателей услуг, ответивших на соответствующий вопрос анкеты (Чобщ) | AZ30: 189 | BA30: 189
A31: 17 | B31: МУНИЦИПАЛЬНОЕ АВТОНОМНОЕ ДОШКОЛЬНОЕ ОБРАЗОВАТЕЛЬНОЕ УЧРЕЖДЕНИЕ "ДЕТСКИЙ САД №265", 2223596528, организации, осуществляющие образовательную деятельность | C31: 228 | D31: 139 | E31: 0.61 | F31: объем информации (количество материалов/единиц информации), размещенной на информационных стендах в помещении организации по отношению к количеству материалов, размещение которых установлено нормативными правовыми актами (Истенд) | G31: 15 | H31: 15 | I31: объем информации (количество материалов/единиц информации), размещенной на официальном сайте организации по отношению к количеству материалов, размещение которых установлено нормативными правовыми актами (Исайт) | J31: 46 | K31: 48 | L31: в наличии и функционируют более трех дистанционных способов взаимодействия | N31: =INDEX(Индикаторы!N63:N65,MATCH('Сведения о независимой оценке'!L31,Индикаторы!L63:L65,0)) -> 100 | O31: число получателей услуг, удовлетворенных качеством, полнотой и доступностью информации о деятельности организации социальной сферы, размещенной на информационных стендах в помещении организации социальной сферы по отношению к числу опрошенных получателей услуг, ответивших на соответствующий вопрос анкеты (Устенд) | P31: 122 | Q31: 124 | R31: число получателей услуг, удовлетворенных качеством, полнотой и доступностью информации о деятельности организации социальной сферы, размещенной на официальном сайте организации социальной сферы по отношению к числу опрошенных получателей услуг, ответивших на соответствующий вопрос анкеты (Усайт) | S31: 117 | T31: 122 | U31: наличие пяти и более комфортных условий для предоставления услуг | W31: =INDEX(Индикаторы!W63:W65,MATCH('Сведения о независимой оценке'!U31,Индикаторы!U63:U65,0)) -> 100 | X31: число получателей услуг, удовлетворенных комфортностью предоставления услуг организацией социальной сферы (Укомф), по отношению к числу опрошенных получателей услуг, ответивших на данный вопрос (Чобщ) | Y31: 136 | Z31: 139 | AA31: количество условий доступности организации для инвалидов | AB31: 1 | AC31: =INDEX(Индикаторы!AC63:AC65,MATCH('Сведения о независимой оценке'!AA31,Индикаторы!AA63:AA65,0)) -> 20 | AD31: количество условий доступности, позволяющих инвалидам получать услуги наравне с другими | AE31: 4 | AF31: =INDEX(Индикаторы!AF63:AF65,MATCH('Сведения о независимой оценке'!AD31,Индикаторы!AD63:AD65,0)) -> 20 | AG31: число получателей услуг-инвалидов, удовлетворенных доступностью услуг для инвалидов (Удост) , по отношению к числу опрошенных получателей услуг- инвалидов, ответивших на соответствующий вопрос анкеты (Чинв) | AH31: 6 | AI31: 6 | AJ31: число получателей услуг, удовлетворенных доброжелательностью, вежливостью работников организации социальной сферы, обеспечивающих первичный контакт и информирование получателя услуги (Уперв.конт), по отношению к числу опрошенных получателей услуг, ответивших на соответствующий вопрос анкеты ( Чобщ) | AK31: 139 | AL31: 139 | AM31: число получателей услуг, удовлетворенных доброжелательностью, вежливостью работников организации социальной сферы, обеспечивающих непосредственное оказание услуги (Уоказ.услуг), по отношению к числу опрошенных получателей услуг, ответивших на соответствующий вопрос анкеты ( Чобщ) | AN31: 138 | AO31: 139 | AP31: число получателей услуг, удовлетворенных доброжелательностью, вежливостью работников организации социальной сферы при использовании дистанционных форм взаимодействия (Увежл.дист), по отношению к числу опрошенных получателей услуг, ответивших на соответствующий вопрос анкеты (Чобщ) | AQ31: 83 | AR31: 85 | AS31: число получателей услуг, которые готовы рекомендовать организацию родственникам и знакомым (могли бы ее рекомендовать, если бы была возможность выбора организации) (Уреком), по отношению к числу опрошенных получателей услуг, ответивших на соответствующий вопрос анкеты (Чобщ) | AT31: 136 | AU31: 139 | AV31: число получателей услуг, удовлетворенных организационными условиями предоставления услуг (Уорг.усл), по отношению к числу опрошенных получателей услуг ответивших на соответствующий вопрос анкеты (Чобщ) | AW31: 129 | AX31: 139 | AY31: число получателей услуг, удовлетворенных в целом условиями оказания услуг в организации социальной сферы (Ууд), по отношению к числу опрошенных получателей услуг, ответивших на соответствующий вопрос анкеты (Чобщ) | AZ31: 134 | BA31: 139
A32: 18 | B32: МУНИЦИПАЛЬНОЕ АВТОНОМНОЕ ДОШКОЛЬНОЕ ОБРАЗОВАТЕЛЬНОЕ УЧРЕЖДЕНИЕ "ДЕТСКИЙ САД №266", 2222828198, организации, осуществляющие образовательную деятельность | C32: 334 | D32: 137 | E32: 0.41 | F32: объем информации (количество материалов/единиц информации), размещенной на информационных стендах в помещении организации по отношению к количеству материалов, размещение которых установлено нормативными правовыми актами (Истенд) | G32: 15 | H32: 15 | I32: объем информации (количество материалов/единиц информации), размещенной на официальном сайте организации по отношению к количеству материалов, размещение которых установлено нормативными правовыми актами (Исайт) | J32: 48 | K32: 48 | L32: в наличии и функционируют более трех дистанционных способов взаимодействия | N32: =INDEX(Индикаторы!N66:N68,MATCH('Сведения о независимой оценке'!L32,Индикаторы!L66:L68,0)) -> 100 | O32: число получателей услуг, удовлетворенных качеством, полнотой и доступностью информации о деятельности организации социальной сферы, размещенной на информационных стендах в помещении организации социальной сферы по отношению к числу опрошенных получателей услуг, ответивших на соответствующий вопрос анкеты (Устенд) | P32: 123 | Q32: 123 | R32: число получателей услуг, удовлетворенных качеством, полнотой и доступностью информации о деятельности организации социальной сферы, размещенной на официальном сайте организации социальной сферы по отношению к числу опрошенных получателей услуг, ответивших на соответствующий вопрос анкеты (Усайт) | S32: 116 | T32: 119 | U32: наличие пяти и более комфортных условий для предоставления услуг | W32: =INDEX(Индикаторы!W66:W68,MATCH('Сведения о независимой оценке'!U32,Индикаторы!U66:U68,0)) -> 100 | X32: число получателей услуг, удовлетворенных комфортностью предоставления услуг организацией социальной сферы (Укомф), по отношению к числу опрошенных получателей услуг, ответивших на данный вопрос (Чобщ) | Y32: 135 | Z32: 137 | AA32: отсутствуют условия доступности для инвалидов | AC32: =INDEX(Индикаторы!AC66:AC68,MATCH('Сведения о независимой оценке'!AA32,Индикаторы!AA66:AA68,0)) -> 0 | AD32: количество условий доступности, позволяющих инвалидам получать услуги наравне с другими | AE32: 3 | AF32: =INDEX(Индикаторы!AF66:AF68,MATCH('Сведения о независимой оценке'!AD32,Индикаторы!AD66:AD68,0)) -> 20 | AG32: число получателей услуг-инвалидов, удовлетворенных доступностью услуг для инвалидов (Удост) , по отношению к числу опрошенных получателей услуг- инвалидов, ответивших на соответствующий вопрос анкеты (Чинв) | AH32: 4 | AI32: 4 | AJ32: число получателей услуг, удовлетворенных доброжелательностью, вежливостью работников организации социальной сферы, обеспечивающих первичный контакт и информирование получателя услуги (Уперв.конт), по отношению к числу опрошенных получателей услуг, ответивших на соответствующий вопрос анкеты ( Чобщ) | AK32: 134 | AL32: 137 | AM32: число получателей услуг, удовлетворенных доброжелательностью, вежливостью работников организации социальной сферы, обеспечивающих непосредственное оказание услуги (Уоказ.услуг), по отношению к числу опрошенных получателей услуг, ответивших на соответствующий вопрос анкеты ( Чобщ) | AN32: 135 | AO32: 137 | AP32: число получателей услуг, удовлетворенных доброжелательностью, вежливостью работников организации социальной сферы при использовании дистанционных форм взаимодействия (Увежл.дист), по отношению к числу опрошенных получателей услуг, ответивших на соответствующий вопрос анкеты (Чобщ) | AQ32: 102 | AR32: 102 | AS32: число получателей услуг, которые готовы рекомендовать организацию родственникам и знакомым (могли бы ее рекомендовать, если бы была возможность выбора организации) (Уреком), по отношению к числу опрошенных получателей услуг, ответивших на соответствующий вопрос анкеты (Чобщ) | AT32: 135 | AU32: 137 | AV32: число получателей услуг, удовлетворенных организационными условиями предоставления услуг (Уорг.усл), по отношению к числу опрошенных получателей услуг ответивших на соответствующий вопрос анкеты (Чобщ) | AW32: 132 | AX32: 137 | AY32: число получателей услуг, удовлетворенных в целом условиями оказания услуг в организации социальной сферы (Ууд), по отношению к числу опрошенных получателей услуг, ответивших на соответствующий вопрос анкеты (Чобщ) | AZ32: 136 | BA32: 137
A33: 19 | B33: МУНИЦИПАЛЬНОЕ АВТОНОМНОЕ ДОШКОЛЬНОЕ ОБРАЗОВАТЕЛЬНОЕ УЧРЕЖДЕНИЕ "ДЕТСКИЙ САД №267", 2222830133, организации, осуществляющие образовательную деятельность | C33: 297 | D33: 285 | E33: 0.96 | F33: объем информации (количество материалов/единиц информации), размещенной на информационных стендах в помещении организации по отношению к количеству материалов, размещение которых установлено нормативными правовыми актами (Истенд) | G33: 15 | H33: 15 | I33: объем информации (количество материалов/единиц информации), размещенной на официальном сайте организации по отношению к количеству материалов, размещение которых установлено нормативными правовыми актами (Исайт) | J33: 46 | K33: 48 | L33: в наличии и функционируют более трех дистанционных способов взаимодействия | N33: =INDEX(Индикаторы!N69:N71,MATCH('Сведения о независимой оценке'!L33,Индикаторы!L69:L71,0)) -> 100 | O33: число получателей услуг, удовлетворенных качеством, полнотой и доступностью информации о деятельности организации социальной сферы, размещенной на информационных стендах в помещении организации социальной сферы по отношению к числу опрошенных получателей услуг, ответивших на соответствующий вопрос анкеты (Устенд) | P33: 210 | Q33: 214 | R33: число получателей услуг, удовлетворенных качеством, полнотой и доступностью информации о деятельности организации социальной сферы, размещенной на официальном сайте организации социальной сферы по отношению к числу опрошенных получателей услуг, ответивших на соответствующий вопрос анкеты (Усайт) | S33: 170 | T33: 188 | U33: наличие пяти и более комфортных условий для предоставления услуг | W33: =INDEX(Индикаторы!W69:W71,MATCH('Сведения о независимой оценке'!U33,Индикаторы!U69:U71,0)) -> 100 | X33: число получателей услуг, удовлетворенных комфортностью предоставления услуг организацией социальной сферы (Укомф), по отношению к числу опрошенных получателей услуг, ответивших на данный вопрос (Чобщ) | Y33: 259 | Z33: 285 | AA33: количество условий доступности организации для инвалидов | AB33: 1 | AC33: =INDEX(Индикаторы!AC69:AC71,MATCH('Сведения о независимой оценке'!AA33,Индикаторы!AA69:AA71,0)) -> 20 | AD33: количество условий доступности, позволяющих инвалидам получать услуги наравне с другими | AE33: 2 | AF33: =INDEX(Индикаторы!AF69:AF71,MATCH('Сведения о независимой оценке'!AD33,Индикаторы!AD69:AD71,0)) -> 20 | AG33: число получателей услуг-инвалидов, удовлетворенных доступностью услуг для инвалидов (Удост) , по отношению к числу опрошенных получателей услуг- инвалидов, ответивших на соответствующий вопрос анкеты (Чинв) | AH33: 7 | AI33: 7 | AJ33: число получателей услуг, удовлетворенных доброжелательностью, вежливостью работников организации социальной сферы, обеспечивающих первичный контакт и информирование получателя услуги (Уперв.конт), по отношению к числу опрошенных получателей услуг, ответивших на соответствующий вопрос анкеты ( Чобщ) | AK33: 276 | AL33: 285 | AM33: число получателей услуг, удовлетворенных доброжелательностью, вежливостью работников организации социальной сферы, обеспечивающих непосредственное оказание услуги (Уоказ.услуг), по отношению к числу опрошенных получателей услуг, ответивших на соответствующий вопрос анкеты ( Чобщ) | AN33: 280 | AO33: 285 | AP33: число получателей услуг, удовлетворенных доброжелательностью, вежливостью работников организации социальной сферы при использовании дистанционных форм взаимодействия (Увежл.дист), по отношению к числу опрошенных получателей услуг, ответивших на соответствующий вопрос анкеты (Чобщ) | AQ33: 156 | AR33: 160 | AS33: число получателей услуг, которые готовы рекомендовать организацию родственникам и знакомым (могли бы ее рекомендовать, если бы была возможность выбора организации) (Уреком), по отношению к числу опрошенных получателей услуг, ответивших на соответствующий вопрос анкеты (Чобщ) | AT33: 268 | AU33: 285 | AV33: число получателей услуг, удовлетворенных организационными условиями предоставления услуг (Уорг.усл), по отношению к числу опрошенных получателей услуг ответивших на соответствующий вопрос анкеты (Чобщ) | AW33: 260 | AX33: 285 | AY33: число получателей услуг, удовлетворенных в целом условиями оказания услуг в организации социальной сферы (Ууд), по отношению к числу опрошенных получателей услуг, ответивших на соответствующий вопрос анкеты (Чобщ) | AZ33: 269 | BA33: 285
A34: 20 | B34: МУНИЦИПАЛЬНОЕ АВТОНОМНОЕ ДОШКОЛЬНОЕ ОБРАЗОВАТЕЛЬНОЕ УЧРЕЖДЕНИЕ "ДЕТСКИЙ САД №268", 2222830976, организации, осуществляющие образовательную деятельность | C34: 261 | D34: 175 | E34: 0.67 | F34: объем информации (количество материалов/единиц информации), размещенной на информационных стендах в помещении организации по отношению к количеству материалов, размещение которых установлено нормативными правовыми актами (Истенд) | G34: 15 | H34: 15 | I34: объем информации (количество материалов/единиц информации), размещенной на официальном сайте организации по отношению к количеству материалов, размещение которых установлено нормативными правовыми актами (Исайт) | J34: 47 | K34: 48 | L34: в наличии и функционируют более трех дистанционных способов взаимодействия | N34: =INDEX(Индикаторы!N72:N74,MATCH('Сведения о независимой оценке'!L34,Индикаторы!L72:L74,0)) -> 100 | O34: число получателей услуг, удовлетворенных качеством, полнотой и доступностью информации о деятельности организации социальной сферы, размещенной на информационных стендах в помещении организации социальной сферы по отношению к числу опрошенных получателей услуг, ответивших на соответствующий вопрос анкеты (Устенд) | P34: 127 | Q34: 130 | R34: число получателей услуг, удовлетворенных качеством, полнотой и доступностью информации о деятельности организации социальной сферы, размещенной на официальном сайте организации социальной сферы по отношению к числу опрошенных получателей услуг, ответивших на соответствующий вопрос анкеты (Усайт) | S34: 126 | T34: 136 | U34: наличие пяти и более комфортных условий для предоставления услуг | W34: =INDEX(Индикаторы!W72:W74,MATCH('Сведения о независимой оценке'!U34,Индикаторы!U72:U74,0)) -> 100 | X34: число получателей услуг, удовлетворенных комфортностью предоставления услуг организацией социальной сферы (Укомф), по отношению к числу опрошенных получателей услуг, ответивших на данный вопрос (Чобщ) | Y34: 169 | Z34: 175 | AA34: количество условий доступности организации для инвалидов | AB34: 1 | AC34: =INDEX(Индикаторы!AC72:AC74,MATCH('Сведения о независимой оценке'!AA34,Индикаторы!AA72:AA74,0)) -> 20 | AD34: количество условий доступности, позволяющих инвалидам получать услуги наравне с другими | AE34: 4 | AF34: =INDEX(Индикаторы!AF72:AF74,MATCH('Сведения о независимой оценке'!AD34,Индикаторы!AD72:AD74,0)) -> 20 | AG34: число получателей услуг-инвалидов, удовлетворенных доступностью услуг для инвалидов (Удост) , по отношению к числу опрошенных получателей услуг- инвалидов, ответивших на соответствующий вопрос анкеты (Чинв) | AH34: 8 | AI34: 8 | AJ34: число получателей услуг, удовлетворенных доброжелательностью, вежливостью работников организации социальной сферы, обеспечивающих первичный контакт и информирование получателя услуги (Уперв.конт), по отношению к числу опрошенных получателей услуг, ответивших на соответствующий вопрос анкеты ( Чобщ) | AK34: 173 | AL34: 175 | AM34: число получателей услуг, удовлетворенных доброжелательностью, вежливостью работников организации социальной сферы, обеспечивающих непосредственное оказание услуги (Уоказ.услуг), по отношению к числу опрошенных получателей услуг, ответивших на соответствующий вопрос анкеты ( Чобщ) | AN34: 174 | AO34: 175 | AP34: число получателей услуг, удовлетворенных доброжелательностью, вежливостью работников организации социальной сферы при использовании дистанционных форм взаимодействия (Увежл.дист), по отношению к числу опрошенных получателей услуг, ответивших на соответствующий вопрос анкеты (Чобщ) | AQ34: 105 | AR34: 105 | AS34: число получателей услуг, которые готовы рекомендовать организацию родственникам и знакомым (могли бы ее рекомендовать, если бы была возможность выбора организации) (Уреком), по отношению к числу опрошенных получателей услуг, ответивших на соответствующий вопрос анкеты (Чобщ) | AT34: 174 | AU34: 175 | AV34: число получателей услуг, удовлетворенных организационными условиями предоставления услуг (Уорг.усл), по отношению к числу опрошенных получателей услуг ответивших на соответствующий вопрос анкеты (Чобщ) | AW34: 166 | AX34: 175 | AY34: число получателей услуг, удовлетворенных в целом условиями оказания услуг в организации социальной сферы (Ууд), по отношению к числу опрошенных получателей услуг, ответивших на соответствующий вопрос анкеты (Чобщ) | AZ34: 174 | BA34: 175
A35: 21 | B35: МУНИЦИПАЛЬНОЕ АВТОНОМНОЕ ДОШКОЛЬНОЕ ОБРАЗОВАТЕЛЬНОЕ УЧРЕЖДЕНИЕ "ДЕТСКИЙ САД №269", 2222841738, организации, осуществляющие образовательную деятельность | C35: 117 | D35: 47 | E35: 0.4 | F35: объем информации (количество материалов/единиц информации), размещенной на информационных стендах в помещении организации по отношению к количеству материалов, размещение которых установлено нормативными правовыми актами (Истенд) | G35: 15 | H35: 15 | I35: объем информации (количество материалов/единиц информации), размещенной на официальном сайте организации по отношению к количеству материалов, размещение которых установлено нормативными правовыми актами (Исайт) | J35: 47 | K35: 48 | L35: в наличии и функционируют более трех дистанционных способов взаимодействия | N35: =INDEX(Индикаторы!N75:N77,MATCH('Сведения о независимой оценке'!L35,Индикаторы!L75:L77,0)) -> 100 | O35: число получателей услуг, удовлетворенных качеством, полнотой и доступностью информации о деятельности организации социальной сферы, размещенной на информационных стендах в помещении организации социальной сферы по отношению к числу опрошенных получателей услуг, ответивших на соответствующий вопрос анкеты (Устенд) | P35: 45 | Q35: 45 | R35: число получателей услуг, удовлетворенных качеством, полнотой и доступностью информации о деятельности организации социальной сферы, размещенной на официальном сайте организации социальной сферы по отношению к числу опрошенных получателей услуг, ответивших на соответствующий вопрос анкеты (Усайт) | S35: 46 | T35: 46 | U35: наличие пяти и более комфортных условий для предоставления услуг | W35: =INDEX(Индикаторы!W75:W77,MATCH('Сведения о независимой оценке'!U35,Индикаторы!U75:U77,0)) -> 100 | X35: число получателей услуг, удовлетворенных комфортностью предоставления услуг организацией социальной сферы (Укомф), по отношению к числу опрошенных получателей услуг, ответивших на данный вопрос (Чобщ) | Y35: 47 | Z35: 47 | AA35: количество условий доступности организации для инвалидов | AB35: 2 | AC35: =INDEX(Индикаторы!AC75:AC77,MATCH('Сведения о независимой оценке'!AA35,Индикаторы!AA75:AA77,0)) -> 20 | AD35: наличие пяти и более условий доступности | AF35: =INDEX(Индикаторы!AF75:AF77,MATCH('Сведения о независимой оценке'!AD35,Индикаторы!AD75:AD77,0)) -> 100 | AG35: число получателей услуг-инвалидов, удовлетворенных доступностью услуг для инвалидов (Удост) , по отношению к числу опрошенных получателей услуг- инвалидов, ответивших на соответствующий вопрос анкеты (Чинв) | AH35: 5 | AI35: 5 | AJ35: число получателей услуг, удовлетворенных доброжелательностью, вежливостью работников организации социальной сферы, обеспечивающих первичный контакт и информирование получателя услуги (Уперв.конт), по отношению к числу опрошенных получателей услуг, ответивших на соответствующий вопрос анкеты ( Чобщ) | AK35: 47 | AL35: 47 | AM35: число получателей услуг, удовлетворенных доброжелательностью, вежливостью работников организации социальной сферы, обеспечивающих непосредственное оказание услуги (Уоказ.услуг), по отношению к числу опрошенных получателей услуг, ответивших на соответствующий вопрос анкеты ( Чобщ) | AN35: 47 | AO35: 47 | AP35: число получателей услуг, удовлетворенных доброжелательностью, вежливостью работников организации социальной сферы при использовании дистанционных форм взаимодействия (Увежл.дист), по отношению к числу опрошенных получателей услуг, ответивших на соответствующий вопрос анкеты (Чобщ) | AQ35: 44 | AR35: 44 | AS35: число получателей услуг, которые готовы рекомендовать организацию родственникам и знакомым (могли бы ее рекомендовать, если бы была возможность выбора организации) (Уреком), по отношению к числу опрошенных получателей услуг, ответивших на соответствующий вопрос анкеты (Чобщ) | AT35: 47 | AU35: 47 | AV35: число получателей услуг, удовлетворенных организационными условиями предоставления услуг (Уорг.усл), по отношению к числу опрошенных получателей услуг ответивших на соответствующий вопрос анкеты (Чобщ) | AW35: 47 | AX35: 47 | AY35: число получателей услуг, удовлетворенных в целом условиями оказания услуг в организации социальной сферы (Ууд), по отношению к числу опрошенных получателей услуг, ответивших на соответствующий вопрос анкеты (Чобщ) | AZ35: 47 | BA35: 47
A36: 22 | B36: МУНИЦИПАЛЬНОЕ АВТОНОМНОЕ ДОШКОЛЬНОЕ ОБРАЗОВАТЕЛЬНОЕ УЧРЕЖДЕНИЕ "ДЕТСКИЙ САД №270", 2222841696, организации, осуществляющие образовательную деятельность | C36: 193 | D36: 101 | E36: 0.52 | F36: объем информации (количество материалов/единиц информации), размещенной на информационных стендах в помещении организации по отношению к количеству материалов, размещение которых установлено нормативными правовыми актами (Истенд) | G36: 15 | H36: 15 | I36: объем информации (количество материалов/единиц информации), размещенной на официальном сайте организации по отношению к количеству материалов, размещение которых установлено нормативными правовыми актами (Исайт) | J36: 47 | K36: 48 | L36: в наличии и функционируют более трех дистанционных способов взаимодействия | N36: =INDEX(Индикаторы!N78:N80,MATCH('Сведения о независимой оценке'!L36,Индикаторы!L78:L80,0)) -> 100 | O36: число получателей услуг, удовлетворенных качеством, полнотой и доступностью информации о деятельности организации социальной сферы, размещенной на информационных стендах в помещении организации социальной сферы по отношению к числу опрошенных получателей услуг, ответивших на соответствующий вопрос анкеты (Устенд) | P36: 80 | Q36: 81 | R36: число получателей услуг, удовлетворенных качеством, полнотой и доступностью информации о деятельности организации социальной сферы, размещенной на официальном сайте организации социальной сферы по отношению к числу опрошенных получателей услуг, ответивших на соответствующий вопрос анкеты (Усайт) | S36: 71 | T36: 76 | U36: наличие пяти и более комфортных условий для предоставления услуг | W36: =INDEX(Индикаторы!W78:W80,MATCH('Сведения о независимой оценке'!U36,Индикаторы!U78:U80,0)) -> 100 | X36: число получателей услуг, удовлетворенных комфортностью предоставления услуг организацией социальной сферы (Укомф), по отношению к числу опрошенных получателей услуг, ответивших на данный вопрос (Чобщ) | Y36: 97 | Z36: 101 | AA36: количество условий доступности организации для инвалидов | AB36: 1 | AC36: =INDEX(Индикаторы!AC78:AC80,MATCH('Сведения о независимой оценке'!AA36,Индикаторы!AA78:AA80,0)) -> 20 | AD36: количество условий доступности, позволяющих инвалидам получать услуги наравне с другими | AE36: 4 | AF36: =INDEX(Индикаторы!AF78:AF80,MATCH('Сведения о независимой оценке'!AD36,Индикаторы!AD78:AD80,0)) -> 20 | AG36: число получателей услуг-инвалидов, удовлетворенных доступностью услуг для инвалидов (Удост) , по отношению к числу опрошенных получателей услуг- инвалидов, ответивших на соответствующий вопрос анкеты (Чинв) | AH36: 4 | AI36: 4 | AJ36: число получателей услуг, удовлетворенных доброжелательностью, вежливостью работников организации социальной сферы, обеспечивающих первичный контакт и информирование получателя услуги (Уперв.конт), по отношению к числу опрошенных получателей услуг, ответивших на соответствующий вопрос анкеты ( Чобщ) | AK36: 99 | AL36: 101 | AM36: число получателей услуг, удовлетворенных доброжелательностью, вежливостью работников организации социальной сферы, обеспечивающих непосредственное оказание услуги (Уоказ.услуг), по отношению к числу опрошенных получателей услуг, ответивших на соответствующий вопрос анкеты ( Чобщ) | AN36: 99 | AO36: 101 | AP36: число получателей услуг, удовлетворенных доброжелательностью, вежливостью работников организации социальной сферы при использовании дистанционных форм взаимодействия (Увежл.дист), по отношению к числу опрошенных получателей услуг, ответивших на соответствующий вопрос анкеты (Чобщ) | AQ36: 55 | AR36: 57 | AS36: число получателей услуг, которые готовы рекомендовать организацию родственникам и знакомым (могли бы ее рекомендовать, если бы была возможность выбора организации) (Уреком), по отношению к числу опрошенных получателей услуг, ответивших на соответствующий вопрос анкеты (Чобщ) | AT36: 99 | AU36: 101 | AV36: число получателей услуг, удовлетворенных организационными условиями предоставления услуг (Уорг.усл), по отношению к числу опрошенных получателей услуг ответивших на соответствующий вопрос анкеты (Чобщ) | AW36: 93 | AX36: 101 | AY36: число получателей услуг, удовлетворенных в целом условиями оказания услуг в организации социальной сферы (Ууд), по отношению к числу опрошенных получателей услуг, ответивших на соответствующий вопрос анкеты (Чобщ) | AZ36: 100 | BA36: 101
A37: 23 | B37: МУНИЦИПАЛЬНОЕ АВТОНОМНОЕ ДОШКОЛЬНОЕ ОБРАЗОВАТЕЛЬНОЕ УЧРЕЖДЕНИЕ "ДЕТСКИЙ САД №271", 2223608526, организации, осуществляющие образовательную деятельность | C37: 145 | D37: 71 | E37: 0.49 | F37: объем информации (количество материалов/единиц информации), размещенной на информационных стендах в помещении организации по отношению к количеству материалов, размещение которых установлено нормативными правовыми актами (Истенд) | G37: 15 | H37: 15 | I37: объем информации (количество материалов/единиц информации), размещенной на официальном сайте организации по отношению к количеству материалов, размещение которых установлено нормативными правовыми актами (Исайт) | J37: 47 | K37: 48 | L37: в наличии и функционируют более трех дистанционных способов взаимодействия | N37: =INDEX(Индикаторы!N81:N83,MATCH('Сведения о независимой оценке'!L37,Индикаторы!L81:L83,0)) -> 100 | O37: число получателей услуг, удовлетворенных качеством, полнотой и доступностью информации о деятельности организации социальной сферы, размещенной на информационных стендах в помещении организации социальной сферы по отношению к числу опрошенных получателей услуг, ответивших на соответствующий вопрос анкеты (Устенд) | P37: 71 | Q37: 71 | R37: число получателей услуг, удовлетворенных качеством, полнотой и доступностью информации о деятельности организации социальной сферы, размещенной на официальном сайте организации социальной сферы по отношению к числу опрошенных получателей услуг, ответивших на соответствующий вопрос анкеты (Усайт) | S37: 68 | T37: 68 | U37: наличие пяти и более комфортных условий для предоставления услуг | W37: =INDEX(Индикаторы!W81:W83,MATCH('Сведения о независимой оценке'!U37,Индикаторы!U81:U83,0)) -> 100 | X37: число получателей услуг, удовлетворенных комфортностью предоставления услуг организацией социальной сферы (Укомф), по отношению к числу опрошенных получателей услуг, ответивших на данный вопрос (Чобщ) | Y37: 71 | Z37: 71 | AA37: количество условий доступности организации для инвалидов | AB37: 2 | AC37: =INDEX(Индикаторы!AC81:AC83,MATCH('Сведения о независимой оценке'!AA37,Индикаторы!AA81:AA83,0)) -> 20 | AD37: количество условий доступности, позволяющих инвалидам получать услуги наравне с другими | AE37: 4 | AF37: =INDEX(Индикаторы!AF81:AF83,MATCH('Сведения о независимой оценке'!AD37,Индикаторы!AD81:AD83,0)) -> 20 | AG37: число получателей услуг-инвалидов, удовлетворенных доступностью услуг для инвалидов (Удост) , по отношению к числу опрошенных получателей услуг- инвалидов, ответивших на соответствующий вопрос анкеты (Чинв) | AH37: 0 | AI37: 2 | AJ37: число получателей услуг, удовлетворенных доброжелательностью, вежливостью работников организации социальной сферы, обеспечивающих первичный контакт и информирование получателя услуги (Уперв.конт), по отношению к числу опрошенных получателей услуг, ответивших на соответствующий вопрос анкеты ( Чобщ) | AK37: 71 | AL37: 71 | AM37: число получателей услуг, удовлетворенных доброжелательностью, вежливостью работников организации социальной сферы, обеспечивающих непосредственное оказание услуги (Уоказ.услуг), по отношению к числу опрошенных получателей услуг, ответивших на соответствующий вопрос анкеты ( Чобщ) | AN37: 71 | AO37: 71 | AP37: число получателей услуг, удовлетворенных доброжелательностью, вежливостью работников организации социальной сферы при использовании дистанционных форм взаимодействия (Увежл.дист), по отношению к числу опрошенных получателей услуг, ответивших на соответствующий вопрос анкеты (Чобщ) | AQ37: 70 | AR37: 70 | AS37: число получателей услуг, которые готовы рекомендовать организацию родственникам и знакомым (могли бы ее рекомендовать, если бы была возможность выбора организации) (Уреком), по отношению к числу опрошенных получателей услуг, ответивших на соответствующий вопрос анкеты (Чобщ) | AT37: 70 | AU37: 71 | AV37: число получателей услуг, удовлетворенных организационными условиями предоставления услуг (Уорг.усл), по отношению к числу опрошенных получателей услуг ответивших на соответствующий вопрос анкеты (Чобщ) | AW37: 71 | AX37: 71 | AY37: число получателей услуг, удовлетворенных в целом условиями оказания услуг в организации социальной сферы (Ууд), по отношению к числу опрошенных получателей услуг, ответивших на соответствующий вопрос анкеты (Чобщ) | AZ37: 71 | BA37: 71
A38: 24 | B38: МУНИЦИПАЛЬНОЕ АВТОНОМНОЕ ДОШКОЛЬНОЕ ОБРАЗОВАТЕЛЬНОЕ УЧРЕЖДЕНИЕ "ДЕТСКИЙ САД №273 "СТРИЖИ", 2222876890, организации, осуществляющие образовательную деятельность | C38: 332 | D38: 151 | E38: 0.45 | F38: объем информации (количество материалов/единиц информации), размещенной на информационных стендах в помещении организации по отношению к количеству материалов, размещение которых установлено нормативными правовыми актами (Истенд) | G38: 15 | H38: 15 | I38: объем информации (количество материалов/единиц информации), размещенной на официальном сайте организации по отношению к количеству материалов, размещение которых установлено нормативными правовыми актами (Исайт) | J38: 46 | K38: 48 | L38: в наличии и функционируют более трех дистанционных способов взаимодействия | N38: =INDEX(Индикаторы!N84:N86,MATCH('Сведения о независимой оценке'!L38,Индикаторы!L84:L86,0)) -> 100 | O38: число получателей услуг, удовлетворенных качеством, полнотой и доступностью информации о деятельности организации социальной сферы, размещенной на информационных стендах в помещении организации социальной сферы по отношению к числу опрошенных получателей услуг, ответивших на соответствующий вопрос анкеты (Устенд) | P38: 140 | Q38: 142 | R38: число получателей услуг, удовлетворенных качеством, полнотой и доступностью информации о деятельности организации социальной сферы, размещенной на официальном сайте организации социальной сферы по отношению к числу опрошенных получателей услуг, ответивших на соответствующий вопрос анкеты (Усайт) | S38: 138 | T38: 138 | U38: наличие пяти и более комфортных условий для предоставления услуг | W38: =INDEX(Индикаторы!W84:W86,MATCH('Сведения о независимой оценке'!U38,Индикаторы!U84:U86,0)) -> 100 | X38: число получателей услуг, удовлетворенных комфортностью предоставления услуг организацией социальной сферы (Укомф), по отношению к числу опрошенных получателей услуг, ответивших на данный вопрос (Чобщ) | Y38: 150 | Z38: 151 | AA38: количество условий доступности организации для инвалидов | AB38: 4 | AC38: =INDEX(Индикаторы!AC84:AC86,MATCH('Сведения о независимой оценке'!AA38,Индикаторы!AA84:AA86,0)) -> 20 | AD38: наличие пяти и более условий доступности | AF38: =INDEX(Индикаторы!AF84:AF86,MATCH('Сведения о независимой оценке'!AD38,Индикаторы!AD84:AD86,0)) -> 100 | AG38: число получателей услуг-инвалидов, удовлетворенных доступностью услуг для инвалидов (Удост) , по отношению к числу опрошенных получателей услуг- инвалидов, ответивших на соответствующий вопрос анкеты (Чинв) | AH38: 7 | AI38: 7 | AJ38: число получателей услуг, удовлетворенных доброжелательностью, вежливостью работников организации социальной сферы, обеспечивающих первичный контакт и информирование получателя услуги (Уперв.конт), по отношению к числу опрошенных получателей услуг, ответивших на соответствующий вопрос анкеты ( Чобщ) | AK38: 151 | AL38: 151 | AM38: число получателей услуг, удовлетворенных доброжелательностью, вежливостью работников организации социальной сферы, обеспечивающих непосредственное оказание услуги (Уоказ.услуг), по отношению к числу опрошенных получателей услуг, ответивших на соответствующий вопрос анкеты ( Чобщ) | AN38: 151 | AO38: 151 | AP38: число получателей услуг, удовлетворенных доброжелательностью, вежливостью работников организации социальной сферы при использовании дистанционных форм взаимодействия (Увежл.дист), по отношению к числу опрошенных получателей услуг, ответивших на соответствующий вопрос анкеты (Чобщ) | AQ38: 138 | AR38: 138 | AS38: число получателей услуг, которые готовы рекомендовать организацию родственникам и знакомым (могли бы ее рекомендовать, если бы была возможность выбора организации) (Уреком), по отношению к числу опрошенных получателей услуг, ответивших на соответствующий вопрос анкеты (Чобщ) | AT38: 151 | AU38: 151 | AV38: число получателей услуг, удовлетворенных организационными условиями предоставления услуг (Уорг.усл), по отношению к числу опрошенных получателей услуг ответивших на соответствующий вопрос анкеты (Чобщ) | AW38: 151 | AX38: 151 | AY38: число получателей услуг, удовлетворенных в целом условиями оказания услуг в организации социальной сферы (Ууд), по отношению к числу опрошенных получателей услуг, ответивших на соответствующий вопрос анкеты (Чобщ) | AZ38: 151 | BA38: 151
A39: 25 | B39: МУНИЦИПАЛЬНОЕ АВТОНОМНОЕ ДОШКОЛЬНОЕ ОБРАЗОВАТЕЛЬНОЕ УЧРЕЖДЕНИЕ "ДЕТСКИЙ САД №170", 2223041999, организации, осуществляющие образовательную деятельность | C39: 106 | D39: 124 | E39: 1.17 | F39: объем информации (количество материалов/единиц информации), размещенной на информационных стендах в помещении организации по отношению к количеству материалов, размещение которых установлено нормативными правовыми актами (Истенд) | G39: 15 | H39: 15 | I39: объем информации (количество материалов/единиц информации), размещенной на официальном сайте организации по отношению к количеству материалов, размещение которых установлено нормативными правовыми актами (Исайт) | J39: 48 | K39: 48 | L39: в наличии и функционируют более трех дистанционных способов взаимодействия | N39: =INDEX(Индикаторы!N87:N89,MATCH('Сведения о независимой оценке'!L39,Индикаторы!L87:L89,0)) -> 100 | O39: число получателей услуг, удовлетворенных качеством, полнотой и доступностью информации о деятельности организации социальной сферы, размещенной на информационных стендах в помещении организации социальной сферы по отношению к числу опрошенных получателей услуг, ответивших на соответствующий вопрос анкеты (Устенд) | P39: 100 | Q39: 106 | R39: число получателей услуг, удовлетворенных качеством, полнотой и доступностью информации о деятельности организации социальной сферы, размещенной на официальном сайте организации социальной сферы по отношению к числу опрошенных получателей услуг, ответивших на соответствующий вопрос анкеты (Усайт) | S39: 87 | T39: 91 | U39: наличие пяти и более комфортных условий для предоставления услуг | W39: =INDEX(Индикаторы!W87:W89,MATCH('Сведения о независимой оценке'!U39,Индикаторы!U87:U89,0)) -> 100 | X39: число получателей услуг, удовлетворенных комфортностью предоставления услуг организацией социальной сферы (Укомф), по отношению к числу опрошенных получателей услуг, ответивших на данный вопрос (Чобщ) | Y39: 113 | Z39: 124 | AA39: отсутствуют условия доступности для инвалидов | AC39: =INDEX(Индикаторы!AC87:AC89,MATCH('Сведения о независимой оценке'!AA39,Индикаторы!AA87:AA89,0)) -> 0 | AD39: наличие пяти и более условий доступности | AF39: =INDEX(Индикаторы!AF87:AF89,MATCH('Сведения о независимой оценке'!AD39,Индикаторы!AD87:AD89,0)) -> 100 | AG39: число получателей услуг-инвалидов, удовлетворенных доступностью услуг для инвалидов (Удост) , по отношению к числу опрошенных получателей услуг- инвалидов, ответивших на соответствующий вопрос анкеты (Чинв) | AH39: 11 | AI39: 13 | AJ39: число получателей услуг, удовлетворенных доброжелательностью, вежливостью работников организации социальной сферы, обеспечивающих первичный контакт и информирование получателя услуги (Уперв.конт), по отношению к числу опрошенных получателей услуг, ответивших на соответствующий вопрос анкеты ( Чобщ) | AK39: 118 | AL39: 124 | AM39: число получателей услуг, удовлетворенных доброжелательностью, вежливостью работников организации социальной сферы, обеспечивающих непосредственное оказание услуги (Уоказ.услуг), по отношению к числу опрошенных получателей услуг, ответивших на соответствующий вопрос анкеты ( Чобщ) | AN39: 121 | AO39: 124 | AP39: число получателей услуг, удовлетворенных доброжелательностью, вежливостью работников организации социальной сферы при использовании дистанционных форм взаимодействия (Увежл.дист), по отношению к числу опрошенных получателей услуг, ответивших на соответствующий вопрос анкеты (Чобщ) | AQ39: 90 | AR39: 91 | AS39: число получателей услуг, которые готовы рекомендовать организацию родственникам и знакомым (могли бы ее рекомендовать, если бы была возможность выбора организации) (Уреком), по отношению к числу опрошенных получателей услуг, ответивших на соответствующий вопрос анкеты (Чобщ) | AT39: 115 | AU39: 124 | AV39: число получателей услуг, удовлетворенных организационными условиями предоставления услуг (Уорг.усл), по отношению к числу опрошенных получателей услуг ответивших на соответствующий вопрос анкеты (Чобщ) | AW39: 117 | AX39: 124 | AY39: число получателей услуг, удовлетворенных в целом условиями оказания услуг в организации социальной сферы (Ууд), по отношению к числу опрошенных получателей услуг, ответивших на соответствующий вопрос анкеты (Чобщ) | AZ39: 115 | BA39: 124
A40: 26 | B40: МУНИЦИПАЛЬНОЕ АВТОНОМНОЕ ДОШКОЛЬНОЕ ОБРАЗОВАТЕЛЬНОЕ УЧРЕЖДЕНИЕ "ДЕТСКИЙ САД №109", 2224043501, организации, осуществляющие образовательную деятельность | C40: 368 | D40: 64 | E40: 0.17 | F40: объем информации (количество материалов/единиц информации), размещенной на информационных стендах в помещении организации по отношению к количеству материалов, размещение которых установлено нормативными правовыми актами (Истенд) | G40: 15 | H40: 15 | I40: объем информации (количество материалов/единиц информации), размещенной на официальном сайте организации по отношению к количеству материалов, размещение которых установлено нормативными правовыми актами (Исайт) | J40: 48 | K40: 48 | L40: в наличии и функционируют более трех дистанционных способов взаимодействия | N40: =INDEX(Индикаторы!N90:N92,MATCH('Сведения о независимой оценке'!L40,Индикаторы!L90:L92,0)) -> 100 | O40: число получателей услуг, удовлетворенных качеством, полнотой и доступностью информации о деятельности организации социальной сферы, размещенной на информационных стендах в помещении организации социальной сферы по отношению к числу опрошенных получателей услуг, ответивших на соответствующий вопрос анкеты (Устенд) | P40: 49 | Q40: 49 | R40: число получателей услуг, удовлетворенных качеством, полнотой и доступностью информации о деятельности организации социальной сферы, размещенной на официальном сайте организации социальной сферы по отношению к числу опрошенных получателей услуг, ответивших на соответствующий вопрос анкеты (Усайт) | S40: 48 | T40: 50 | U40: наличие пяти и более комфортных условий для предоставления услуг | W40: =INDEX(Индикаторы!W90:W92,MATCH('Сведения о независимой оценке'!U40,Индикаторы!U90:U92,0)) -> 100 | X40: число получателей услуг, удовлетворенных комфортностью предоставления услуг организацией социальной сферы (Укомф), по отношению к числу опрошенных получателей услуг, ответивших на данный вопрос (Чобщ) | Y40: 64 | Z40: 64 | AA40: количество условий доступности организации для инвалидов | AB40: 1 | AC40: =INDEX(Индикаторы!AC90:AC92,MATCH('Сведения о независимой оценке'!AA40,Индикаторы!AA90:AA92,0)) -> 20 | AD40: количество условий доступности, позволяющих инвалидам получать услуги наравне с другими | AE40: 4 | AF40: =INDEX(Индикаторы!AF90:AF92,MATCH('Сведения о независимой оценке'!AD40,Индикаторы!AD90:AD92,0)) -> 20 | AG40: число получателей услуг-инвалидов, удовлетворенных доступностью услуг для инвалидов (Удост) , по отношению к числу опрошенных получателей услуг- инвалидов, ответивших на соответствующий вопрос анкеты (Чинв) | AH40: 1 | AI40: 1 | AJ40: число получателей услуг, удовлетворенных доброжелательностью, вежливостью работников организации социальной сферы, обеспечивающих первичный контакт и информирование получателя услуги (Уперв.конт), по отношению к числу опрошенных получателей услуг, ответивших на соответствующий вопрос анкеты ( Чобщ) | AK40: 64 | AL40: 64 | AM40: число получателей услуг, удовлетворенных доброжелательностью, вежливостью работников организации социальной сферы, обеспечивающих непосредственное оказание услуги (Уоказ.услуг), по отношению к числу опрошенных получателей услуг, ответивших на соответствующий вопрос анкеты ( Чобщ) | AN40: 62 | AO40: 64 | AP40: число получателей услуг, удовлетворенных доброжелательностью, вежливостью работников организации социальной сферы при использовании дистанционных форм взаимодействия (Увежл.дист), по отношению к числу опрошенных получателей услуг, ответивших на соответствующий вопрос анкеты (Чобщ) | AQ40: 42 | AR40: 42 | AS40: число получателей услуг, которые готовы рекомендовать организацию родственникам и знакомым (могли бы ее рекомендовать, если бы была возможность выбора организации) (Уреком), по отношению к числу опрошенных получателей услуг, ответивших на соответствующий вопрос анкеты (Чобщ) | AT40: 62 | AU40: 64 | AV40: число получателей услуг, удовлетворенных организационными условиями предоставления услуг (Уорг.усл), по отношению к числу опрошенных получателей услуг ответивших на соответствующий вопрос анкеты (Чобщ) | AW40: 64 | AX40: 64 | AY40: число получателей услуг, удовлетворенных в целом условиями оказания услуг в организации социальной сферы (Ууд), по отношению к числу опрошенных получателей услуг, ответивших на соответствующий вопрос анкеты (Чобщ) | AZ40: 63 | BA40: 64
A41: 27 | B41: МУНИЦИПАЛЬНОЕ БЮДЖЕТНОЕ ДОШКОЛЬНОЕ ОБРАЗОВАТЕЛЬНОЕ УЧРЕЖДЕНИЕ "ДЕТСКИЙ САД №225", 2224043903, организации, осуществляющие образовательную деятельность | C41: 207 | D41: 105 | E41: 0.51 | F41: объем информации (количество материалов/единиц информации), размещенной на информационных стендах в помещении организации по отношению к количеству материалов, размещение которых установлено нормативными правовыми актами (Истенд) | G41: 15 | H41: 15 | I41: объем информации (количество материалов/единиц информации), размещенной на официальном сайте организации по отношению к количеству материалов, размещение которых установлено нормативными правовыми актами (Исайт) | J41: 47 | K41: 48 | L41: Количество функционирующих дистанционных способов взаимодействия (от одного до трех способов включительно) | M41: 3 | N41: =INDEX(Индикаторы!N93:N95,MATCH('Сведения о независимой оценке'!L41,Индикаторы!L93:L95,0)) -> 30 | O41: число получателей услуг, удовлетворенных качеством, полнотой и доступностью информации о деятельности организации социальной сферы, размещенной на информационных стендах в помещении организации социальной сферы по отношению к числу опрошенных получателей услуг, ответивших на соответствующий вопрос анкеты (Устенд) | P41: 81 | Q41: 82 | R41: число получателей услуг, удовлетворенных качеством, полнотой и доступностью информации о деятельности организации социальной сферы, размещенной на официальном сайте организации социальной сферы по отношению к числу опрошенных получателей услуг, ответивших на соответствующий вопрос анкеты (Усайт) | S41: 74 | T41: 77 | U41: наличие пяти и более комфортных условий для предоставления услуг | W41: =INDEX(Индикаторы!W93:W95,MATCH('Сведения о независимой оценке'!U41,Индикаторы!U93:U95,0)) -> 100 | X41: число получателей услуг, удовлетворенных комфортностью предоставления услуг организацией социальной сферы (Укомф), по отношению к числу опрошенных получателей услуг, ответивших на данный вопрос (Чобщ) | Y41: 102 | Z41: 105 | AA41: количество условий доступности организации для инвалидов | AB41: 1 | AC41: =INDEX(Индикаторы!AC93:AC95,MATCH('Сведения о независимой оценке'!AA41,Индикаторы!AA93:AA95,0)) -> 20 | AD41: количество условий доступности, позволяющих инвалидам получать услуги наравне с другими | AE41: 4 | AF41: =INDEX(Индикаторы!AF93:AF95,MATCH('Сведения о независимой оценке'!AD41,Индикаторы!AD93:AD95,0)) -> 20 | AG41: число получателей услуг-инвалидов, удовлетворенных доступностью услуг для инвалидов (Удост) , по отношению к числу опрошенных получателей услуг- инвалидов, ответивших на соответствующий вопрос анкеты (Чинв) | AH41: 5 | AI41: 5 | AJ41: число получателей услуг, удовлетворенных доброжелательностью, вежливостью работников организации социальной сферы, обеспечивающих первичный контакт и информирование получателя услуги (Уперв.конт), по отношению к числу опрошенных получателей услуг, ответивших на соответствующий вопрос анкеты ( Чобщ) | AK41: 105 | AL41: 105 | AM41: число получателей услуг, удовлетворенных доброжелательностью, вежливостью работников организации социальной сферы, обеспечивающих непосредственное оказание услуги (Уоказ.услуг), по отношению к числу опрошенных получателей услуг, ответивших на соответствующий вопрос анкеты ( Чобщ) | AN41: 105 | AO41: 105 | AP41: число получателей услуг, удовлетворенных доброжелательностью, вежливостью работников организации социальной сферы при использовании дистанционных форм взаимодействия (Увежл.дист), по отношению к числу опрошенных получателей услуг, ответивших на соответствующий вопрос анкеты (Чобщ) | AQ41: 64 | AR41: 64 | AS41: число получателей услуг, которые готовы рекомендовать организацию родственникам и знакомым (могли бы ее рекомендовать, если бы была возможность выбора организации) (Уреком), по отношению к числу опрошенных получателей услуг, ответивших на соответствующий вопрос анкеты (Чобщ) | AT41: 100 | AU41: 105 | AV41: число получателей услуг, удовлетворенных организационными условиями предоставления услуг (Уорг.усл), по отношению к числу опрошенных получателей услуг ответивших на соответствующий вопрос анкеты (Чобщ) | AW41: 105 | AX41: 105 | AY41: число получателей услуг, удовлетворенных в целом условиями оказания услуг в организации социальной сферы (Ууд), по отношению к числу опрошенных получателей услуг, ответивших на соответствующий вопрос анкеты (Чобщ) | AZ41: 103 | BA41: 105
A42: 28 | B42: МУНИЦИПАЛЬНОЕ БЮДЖЕТНОЕ ДОШКОЛЬНОЕ ОБРАЗОВАТЕЛЬНОЕ УЧРЕЖДЕНИЕ "ДЕТСКИЙ САД №172", 2222026003, организации, осуществляющие образовательную деятельность | C42: 194 | D42: 122 | E42: 0.63 | F42: объем информации (количество материалов/единиц информации), размещенной на информационных стендах в помещении организации по отношению к количеству материалов, размещение которых установлено нормативными правовыми актами (Истенд) | G42: 15 | H42: 15 | I42: объем информации (количество материалов/единиц информации), размещенной на официальном сайте организации по отношению к количеству материалов, размещение которых установлено нормативными правовыми актами (Исайт) | J42: 47 | K42: 48 | L42: в наличии и функционируют более трех дистанционных способов взаимодействия | N42: =INDEX(Индикаторы!N96:N98,MATCH('Сведения о независимой оценке'!L42,Индикаторы!L96:L98,0)) -> 100 | O42: число получателей услуг, удовлетворенных качеством, полнотой и доступностью информации о деятельности организации социальной сферы, размещенной на информационных стендах в помещении организации социальной сферы по отношению к числу опрошенных получателей услуг, ответивших на соответствующий вопрос анкеты (Устенд) | P42: 79 | Q42: 80 | R42: число получателей услуг, удовлетворенных качеством, полнотой и доступностью информации о деятельности организации социальной сферы, размещенной на официальном сайте организации социальной сферы по отношению к числу опрошенных получателей услуг, ответивших на соответствующий вопрос анкеты (Усайт) | S42: 67 | T42: 76 | U42: наличие пяти и более комфортных условий для предоставления услуг | W42: =INDEX(Индикаторы!W96:W98,MATCH('Сведения о независимой оценке'!U42,Индикаторы!U96:U98,0)) -> 100 | X42: число получателей услуг, удовлетворенных комфортностью предоставления услуг организацией социальной сферы (Укомф), по отношению к числу опрошенных получателей услуг, ответивших на данный вопрос (Чобщ) | Y42: 111 | Z42: 122 | AA42: отсутствуют условия доступности для инвалидов | AC42: =INDEX(Индикаторы!AC96:AC98,MATCH('Сведения о независимой оценке'!AA42,Индикаторы!AA96:AA98,0)) -> 0 | AD42: количество условий доступности, позволяющих инвалидам получать услуги наравне с другими | AE42: 4 | AF42: =INDEX(Индикаторы!AF96:AF98,MATCH('Сведения о независимой оценке'!AD42,Индикаторы!AD96:AD98,0)) -> 20 | AG42: число получателей услуг-инвалидов, удовлетворенных доступностью услуг для инвалидов (Удост) , по отношению к числу опрошенных получателей услуг- инвалидов, ответивших на соответствующий вопрос анкеты (Чинв) | AH42: 2 | AI42: 2 | AJ42: число получателей услуг, удовлетворенных доброжелательностью, вежливостью работников организации социальной сферы, обеспечивающих первичный контакт и информирование получателя услуги (Уперв.конт), по отношению к числу опрошенных получателей услуг, ответивших на соответствующий вопрос анкеты ( Чобщ) | AK42: 117 | AL42: 122 | AM42: число получателей услуг, удовлетворенных доброжелательностью, вежливостью работников организации социальной сферы, обеспечивающих непосредственное оказание услуги (Уоказ.услуг), по отношению к числу опрошенных получателей услуг, ответивших на соответствующий вопрос анкеты ( Чобщ) | AN42: 116 | AO42: 122 | AP42: число получателей услуг, удовлетворенных доброжелательностью, вежливостью работников организации социальной сферы при использовании дистанционных форм взаимодействия (Увежл.дист), по отношению к числу опрошенных получателей услуг, ответивших на соответствующий вопрос анкеты (Чобщ) | AQ42: 72 | AR42: 73 | AS42: число получателей услуг, которые готовы рекомендовать организацию родственникам и знакомым (могли бы ее рекомендовать, если бы была возможность выбора организации) (Уреком), по отношению к числу опрошенных получателей услуг, ответивших на соответствующий вопрос анкеты (Чобщ) | AT42: 118 | AU42: 122 | AV42: число получателей услуг, удовлетворенных организационными условиями предоставления услуг (Уорг.усл), по отношению к числу опрошенных получателей услуг ответивших на соответствующий вопрос анкеты (Чобщ) | AW42: 119 | AX42: 122 | AY42: число получателей услуг, удовлетворенных в целом условиями оказания услуг в организации социальной сферы (Ууд), по отношению к числу опрошенных получателей услуг, ответивших на соответствующий вопрос анкеты (Чобщ) | AZ42: 117 | BA42: 122
A43: 29 | B43: МУНИЦИПАЛЬНОЕ БЮДЖЕТНОЕ ДОШКОЛЬНОЕ ОБРАЗОВАТЕЛЬНОЕ УЧРЕЖДЕНИЕ "ДЕТСКИЙ САД №185", 2223032521, организации, осуществляющие образовательную деятельность | C43: 150 | D43: 128 | E43: 0.85 | F43: объем информации (количество материалов/единиц информации), размещенной на информационных стендах в помещении организации по отношению к количеству материалов, размещение которых установлено нормативными правовыми актами (Истенд) | G43: 15 | H43: 15 | I43: объем информации (количество материалов/единиц информации), размещенной на официальном сайте организации по отношению к количеству материалов, размещение которых установлено нормативными правовыми актами (Исайт) | J43: 48 | K43: 48 | L43: в наличии и функционируют более трех дистанционных способов взаимодействия | N43: =INDEX(Индикаторы!N99:N101,MATCH('Сведения о независимой оценке'!L43,Индикаторы!L99:L101,0)) -> 100 | O43: число получателей услуг, удовлетворенных качеством, полнотой и доступностью информации о деятельности организации социальной сферы, размещенной на информационных стендах в помещении организации социальной сферы по отношению к числу опрошенных получателей услуг, ответивших на соответствующий вопрос анкеты (Устенд) | P43: 103 | Q43: 104 | R43: число получателей услуг, удовлетворенных качеством, полнотой и доступностью информации о деятельности организации социальной сферы, размещенной на официальном сайте организации социальной сферы по отношению к числу опрошенных получателей услуг, ответивших на соответствующий вопрос анкеты (Усайт) | S43: 97 | T43: 103 | U43: наличие пяти и более комфортных условий для предоставления услуг | W43: =INDEX(Индикаторы!W99:W101,MATCH('Сведения о независимой оценке'!U43,Индикаторы!U99:U101,0)) -> 100 | X43: число получателей услуг, удовлетворенных комфортностью предоставления услуг организацией социальной сферы (Укомф), по отношению к числу опрошенных получателей услуг, ответивших на данный вопрос (Чобщ) | Y43: 119 | Z43: 128 | AA43: количество условий доступности организации для инвалидов | AB43: 1 | AC43: =INDEX(Индикаторы!AC99:AC101,MATCH('Сведения о независимой оценке'!AA43,Индикаторы!AA99:AA101,0)) -> 20 | AD43: наличие пяти и более условий доступности | AF43: =INDEX(Индикаторы!AF99:AF101,MATCH('Сведения о независимой оценке'!AD43,Индикаторы!AD99:AD101,0)) -> 100 | AG43: число получателей услуг-инвалидов, удовлетворенных доступностью услуг для инвалидов (Удост) , по отношению к числу опрошенных получателей услуг- инвалидов, ответивших на соответствующий вопрос анкеты (Чинв) | AH43: 4 | AI43: 5 | AJ43: число получателей услуг, удовлетворенных доброжелательностью, вежливостью работников организации социальной сферы, обеспечивающих первичный контакт и информирование получателя услуги (Уперв.конт), по отношению к числу опрошенных получателей услуг, ответивших на соответствующий вопрос анкеты ( Чобщ) | AK43: 128 | AL43: 128 | AM43: число получателей услуг, удовлетворенных доброжелательностью, вежливостью работников организации социальной сферы, обеспечивающих непосредственное оказание услуги (Уоказ.услуг), по отношению к числу опрошенных получателей услуг, ответивших на соответствующий вопрос анкеты ( Чобщ) | AN43: 128 | AO43: 128 | AP43: число получателей услуг, удовлетворенных доброжелательностью, вежливостью работников организации социальной сферы при использовании дистанционных форм взаимодействия (Увежл.дист), по отношению к числу опрошенных получателей услуг, ответивших на соответствующий вопрос анкеты (Чобщ) | AQ43: 81 | AR43: 81 | AS43: число получателей услуг, которые готовы рекомендовать организацию родственникам и знакомым (могли бы ее рекомендовать, если бы была возможность выбора организации) (Уреком), по отношению к числу опрошенных получателей услуг, ответивших на соответствующий вопрос анкеты (Чобщ) | AT43: 126 | AU43: 128 | AV43: число получателей услуг, удовлетворенных организационными условиями предоставления услуг (Уорг.усл), по отношению к числу опрошенных получателей услуг ответивших на соответствующий вопрос анкеты (Чобщ) | AW43: 124 | AX43: 128 | AY43: число получателей услуг, удовлетворенных в целом условиями оказания услуг в организации социальной сферы (Ууд), по отношению к числу опрошенных получателей услуг, ответивших на соответствующий вопрос анкеты (Чобщ) | AZ43: 124 | BA43: 128
A44: 30 | B44: МУНИЦИПАЛЬНОЕ БЮДЖЕТНОЕ ДОШКОЛЬНОЕ ОБРАЗОВАТЕЛЬНОЕ УЧРЕЖДЕНИЕ "ДЕТСКИЙ САД №203", 2224045820, организации, осуществляющие образовательную деятельность | C44: 101 | D44: 47 | E44: 0.47 | F44: объем информации (количество материалов/единиц информации), размещенной на информационных стендах в помещении организации по отношению к количеству материалов, размещение которых установлено нормативными правовыми актами (Истенд) | G44: 15 | H44: 15 | I44: объем информации (количество материалов/единиц информации), размещенной на официальном сайте организации по отношению к количеству материалов, размещение которых установлено нормативными правовыми актами (Исайт) | J44: 47 | K44: 48 | L44: в наличии и функционируют более трех дистанционных способов взаимодействия | N44: =INDEX(Индикаторы!N102:N104,MATCH('Сведения о независимой оценке'!L44,Индикаторы!L102:L104,0)) -> 100 | O44: число получателей услуг, удовлетворенных качеством, полнотой и доступностью информации о деятельности организации социальной сферы, размещенной на информационных стендах в помещении организации социальной сферы по отношению к числу опрошенных получателей услуг, ответивших на соответствующий вопрос анкеты (Устенд) | P44: 45 | Q44: 45 | R44: число получателей услуг, удовлетворенных качеством, полнотой и доступностью информации о деятельности организации социальной сферы, размещенной на официальном сайте организации социальной сферы по отношению к числу опрошенных получателей услуг, ответивших на соответствующий вопрос анкеты (Усайт) | S44: 45 | T44: 45 | U44: наличие пяти и более комфортных условий для предоставления услуг | W44: =INDEX(Индикаторы!W102:W104,MATCH('Сведения о независимой оценке'!U44,Индикаторы!U102:U104,0)) -> 100 | X44: число получателей услуг, удовлетворенных комфортностью предоставления услуг организацией социальной сферы (Укомф), по отношению к числу опрошенных получателей услуг, ответивших на данный вопрос (Чобщ) | Y44: 46 | Z44: 47 | AA44: отсутствуют условия доступности для инвалидов | AC44: =INDEX(Индикаторы!AC102:AC104,MATCH('Сведения о независимой оценке'!AA44,Индикаторы!AA102:AA104,0)) -> 0 | AD44: количество условий доступности, позволяющих инвалидам получать услуги наравне с другими | AE44: 4 | AF44: =INDEX(Индикаторы!AF102:AF104,MATCH('Сведения о независимой оценке'!AD44,Индикаторы!AD102:AD104,0)) -> 20 | AG44: число получателей услуг-инвалидов, удовлетворенных доступностью услуг для инвалидов (Удост) , по отношению к числу опрошенных получателей услуг- инвалидов, ответивших на соответствующий вопрос анкеты (Чинв) | AH44: 1 | AI44: 1 | AJ44: число получателей услуг, удовлетворенных доброжелательностью, вежливостью работников организации социальной сферы, обеспечивающих первичный контакт и информирование получателя услуги (Уперв.конт), по отношению к числу опрошенных получателей услуг, ответивших на соответствующий вопрос анкеты ( Чобщ) | AK44: 46 | AL44: 47 | AM44: число получателей услуг, удовлетворенных доброжелательностью, вежливостью работников организации социальной сферы, обеспечивающих непосредственное оказание услуги (Уоказ.услуг), по отношению к числу опрошенных получателей услуг, ответивших на соответствующий вопрос анкеты ( Чобщ) | AN44: 46 | AO44: 47 | AP44: число получателей услуг, удовлетворенных доброжелательностью, вежливостью работников организации социальной сферы при использовании дистанционных форм взаимодействия (Увежл.дист), по отношению к числу опрошенных получателей услуг, ответивших на соответствующий вопрос анкеты (Чобщ) | AQ44: 45 | AR44: 46 | AS44: число получателей услуг, которые готовы рекомендовать организацию родственникам и знакомым (могли бы ее рекомендовать, если бы была возможность выбора организации) (Уреком), по отношению к числу опрошенных получателей услуг, ответивших на соответствующий вопрос анкеты (Чобщ) | AT44: 46 | AU44: 47 | AV44: число получателей услуг, удовлетворенных организационными условиями предоставления услуг (Уорг.усл), по отношению к числу опрошенных получателей услуг ответивших на соответствующий вопрос анкеты (Чобщ) | AW44: 47 | AX44: 47 | AY44: число получателей услуг, удовлетворенных в целом условиями оказания услуг в организации социальной сферы (Ууд), по отношению к числу опрошенных получателей услуг, ответивших на соответствующий вопрос анкеты (Чобщ) | AZ44: 47 | BA44: 47
A45: 31 | B45: МУНИЦИПАЛЬНОЕ БЮДЖЕТНОЕ ДОШКОЛЬНОЕ ОБРАЗОВАТЕЛЬНОЕ УЧРЕЖДЕНИЕ "ДЕТСКИЙ САД №204", 2224043639, организации, осуществляющие образовательную деятельность | C45: 70 | D45: 45 | E45: 0.64 | F45: объем информации (количество материалов/единиц информации), размещенной на информационных стендах в помещении организации по отношению к количеству материалов, размещение которых установлено нормативными правовыми актами (Истенд) | G45: 15 | H45: 15 | I45: объем информации (количество материалов/единиц информации), размещенной на официальном сайте организации по отношению к количеству материалов, размещение которых установлено нормативными правовыми актами (Исайт) | J45: 47 | K45: 48 | L45: в наличии и функционируют более трех дистанционных способов взаимодействия | N45: =INDEX(Индикаторы!N105:N107,MATCH('Сведения о независимой оценке'!L45,Индикаторы!L105:L107,0)) -> 100 | O45: число получателей услуг, удовлетворенных качеством, полнотой и доступностью информации о деятельности организации социальной сферы, размещенной на информационных стендах в помещении организации социальной сферы по отношению к числу опрошенных получателей услуг, ответивших на соответствующий вопрос анкеты (Устенд) | P45: 31 | Q45: 33 | R45: число получателей услуг, удовлетворенных качеством, полнотой и доступностью информации о деятельности организации социальной сферы, размещенной на официальном сайте организации социальной сферы по отношению к числу опрошенных получателей услуг, ответивших на соответствующий вопрос анкеты (Усайт) | S45: 34 | T45: 37 | U45: наличие пяти и более комфортных условий для предоставления услуг | W45: =INDEX(Индикаторы!W105:W107,MATCH('Сведения о независимой оценке'!U45,Индикаторы!U105:U107,0)) -> 100 | X45: число получателей услуг, удовлетворенных комфортностью предоставления услуг организацией социальной сферы (Укомф), по отношению к числу опрошенных получателей услуг, ответивших на данный вопрос (Чобщ) | Y45: 41 | Z45: 45 | AA45: отсутствуют условия доступности для инвалидов | AC45: =INDEX(Индикаторы!AC105:AC107,MATCH('Сведения о независимой оценке'!AA45,Индикаторы!AA105:AA107,0)) -> 0 | AD45: количество условий доступности, позволяющих инвалидам получать услуги наравне с другими | AE45: 3 | AF45: =INDEX(Индикаторы!AF105:AF107,MATCH('Сведения о независимой оценке'!AD45,Индикаторы!AD105:AD107,0)) -> 20 | AG45: число получателей услуг-инвалидов, удовлетворенных доступностью услуг для инвалидов (Удост) , по отношению к числу опрошенных получателей услуг- инвалидов, ответивших на соответствующий вопрос анкеты (Чинв) | AH45: 4 | AI45: 4 | AJ45: число получателей услуг, удовлетворенных доброжелательностью, вежливостью работников организации социальной сферы, обеспечивающих первичный контакт и информирование получателя услуги (Уперв.конт), по отношению к числу опрошенных получателей услуг, ответивших на соответствующий вопрос анкеты ( Чобщ) | AK45: 44 | AL45: 45 | AM45: число получателей услуг, удовлетворенных доброжелательностью, вежливостью работников организации социальной сферы, обеспечивающих непосредственное оказание услуги (Уоказ.услуг), по отношению к числу опрошенных получателей услуг, ответивших на соответствующий вопрос анкеты ( Чобщ) | AN45: 44 | AO45: 45 | AP45: число получателей услуг, удовлетворенных доброжелательностью, вежливостью работников организации социальной сферы при использовании дистанционных форм взаимодействия (Увежл.дист), по отношению к числу опрошенных получателей услуг, ответивших на соответствующий вопрос анкеты (Чобщ) | AQ45: 31 | AR45: 32 | AS45: число получателей услуг, которые готовы рекомендовать организацию родственникам и знакомым (могли бы ее рекомендовать, если бы была возможность выбора организации) (Уреком), по отношению к числу опрошенных получателей услуг, ответивших на соответствующий вопрос анкеты (Чобщ) | AT45: 41 | AU45: 45 | AV45: число получателей услуг, удовлетворенных организационными условиями предоставления услуг (Уорг.усл), по отношению к числу опрошенных получателей услуг ответивших на соответствующий вопрос анкеты (Чобщ) | AW45: 43 | AX45: 45 | AY45: число получателей услуг, удовлетворенных в целом условиями оказания услуг в организации социальной сферы (Ууд), по отношению к числу опрошенных получателей услуг, ответивших на соответствующий вопрос анкеты (Чобщ) | AZ45: 42 | BA45: 45
A46: 32 | B46: МУНИЦИПАЛЬНОЕ БЮДЖЕТНОЕ ДОШКОЛЬНОЕ ОБРАЗОВАТЕЛЬНОЕ УЧРЕЖДЕНИЕ "ДЕТСКИЙ САД №227", 2224040170, организации, осуществляющие образовательную деятельность | C46: 62 | D46: 28 | E46: 0.45 | F46: объем информации (количество материалов/единиц информации), размещенной на информационных стендах в помещении организации по отношению к количеству материалов, размещение которых установлено нормативными правовыми актами (Истенд) | G46: 15 | H46: 15 | I46: объем информации (количество материалов/единиц информации), размещенной на официальном сайте организации по отношению к количеству материалов, размещение которых установлено нормативными правовыми актами (Исайт) | J46: 47 | K46: 48 | L46: в наличии и функционируют более трех дистанционных способов взаимодействия | N46: =INDEX(Индикаторы!N108:N110,MATCH('Сведения о независимой оценке'!L46,Индикаторы!L108:L110,0)) -> 100 | O46: число получателей услуг, удовлетворенных качеством, полнотой и доступностью информации о деятельности организации социальной сферы, размещенной на информационных стендах в помещении организации социальной сферы по отношению к числу опрошенных получателей услуг, ответивших на соответствующий вопрос анкеты (Устенд) | P46: 25 | Q46: 25 | R46: число получателей услуг, удовлетворенных качеством, полнотой и доступностью информации о деятельности организации социальной сферы, размещенной на официальном сайте организации социальной сферы по отношению к числу опрошенных получателей услуг, ответивших на соответствующий вопрос анкеты (Усайт) | S46: 21 | T46: 22 | U46: наличие пяти и более комфортных условий для предоставления услуг | W46: =INDEX(Индикаторы!W108:W110,MATCH('Сведения о независимой оценке'!U46,Индикаторы!U108:U110,0)) -> 100 | X46: число получателей услуг, удовлетворенных комфортностью предоставления услуг организацией социальной сферы (Укомф), по отношению к числу опрошенных получателей услуг, ответивших на данный вопрос (Чобщ) | Y46: 28 | Z46: 28 | AA46: количество условий доступности организации для инвалидов | AB46: 1 | AC46: =INDEX(Индикаторы!AC108:AC110,MATCH('Сведения о независимой оценке'!AA46,Индикаторы!AA108:AA110,0)) -> 20 | AD46: количество условий доступности, позволяющих инвалидам получать услуги наравне с другими | AE46: 4 | AF46: =INDEX(Индикаторы!AF108:AF110,MATCH('Сведения о независимой оценке'!AD46,Индикаторы!AD108:AD110,0)) -> 20 | AG46: число получателей услуг-инвалидов, удовлетворенных доступностью услуг для инвалидов (Удост) , по отношению к числу опрошенных получателей услуг- инвалидов, ответивших на соответствующий вопрос анкеты (Чинв) | AH46: 1 | AI46: 1 | AJ46: число получателей услуг, удовлетворенных доброжелательностью, вежливостью работников организации социальной сферы, обеспечивающих первичный контакт и информирование получателя услуги (Уперв.конт), по отношению к числу опрошенных получателей услуг, ответивших на соответствующий вопрос анкеты ( Чобщ) | AK46: 28 | AL46: 28 | AM46: число получателей услуг, удовлетворенных доброжелательностью, вежливостью работников организации социальной сферы, обеспечивающих непосредственное оказание услуги (Уоказ.услуг), по отношению к числу опрошенных получателей услуг, ответивших на соответствующий вопрос анкеты ( Чобщ) | AN46: 28 | AO46: 28 | AP46: число получателей услуг, удовлетворенных доброжелательностью, вежливостью работников организации социальной сферы при использовании дистанционных форм взаимодействия (Увежл.дист), по отношению к числу опрошенных получателей услуг, ответивших на соответствующий вопрос анкеты (Чобщ) | AQ46: 22 | AR46: 22 | AS46: число получателей услуг, которые готовы рекомендовать организацию родственникам и знакомым (могли бы ее рекомендовать, если бы была возможность выбора организации) (Уреком), по отношению к числу опрошенных получателей услуг, ответивших на соответствующий вопрос анкеты (Чобщ) | AT46: 28 | AU46: 28 | AV46: число получателей услуг, удовлетворенных организационными условиями предоставления услуг (Уорг.усл), по отношению к числу опрошенных получателей услуг ответивших на соответствующий вопрос анкеты (Чобщ) | AW46: 28 | AX46: 28 | AY46: число получателей услуг, удовлетворенных в целом условиями оказания услуг в организации социальной сферы (Ууд), по отношению к числу опрошенных получателей услуг, ответивших на соответствующий вопрос анкеты (Чобщ) | AZ46: 28 | BA46: 28
A47: 33 | B47: МУНИЦИПАЛЬНОЕ БЮДЖЕТНОЕ ДОШКОЛЬНОЕ ОБРАЗОВАТЕЛЬНОЕ УЧРЕЖДЕНИЕ "ДЕТСКИЙ САД №56", 2224043653, организации, осуществляющие образовательную деятельность | C47: 137 | D47: 98 | E47: 0.72 | F47: объем информации (количество материалов/единиц информации), размещенной на информационных стендах в помещении организации по отношению к количеству материалов, размещение которых установлено нормативными правовыми актами (Истенд) | G47: 15 | H47: 15 | I47: объем информации (количество материалов/единиц информации), размещенной на официальном сайте организации по отношению к количеству материалов, размещение которых установлено нормативными правовыми актами (Исайт) | J47: 46 | K47: 48 | L47: в наличии и функционируют более трех дистанционных способов взаимодействия | N47: =INDEX(Индикаторы!N111:N113,MATCH('Сведения о независимой оценке'!L47,Индикаторы!L111:L113,0)) -> 100 | O47: число получателей услуг, удовлетворенных качеством, полнотой и доступностью информации о деятельности организации социальной сферы, размещенной на информационных стендах в помещении организации социальной сферы по отношению к числу опрошенных получателей услуг, ответивших на соответствующий вопрос анкеты (Устенд) | P47: 64 | Q47: 64 | R47: число получателей услуг, удовлетворенных качеством, полнотой и доступностью информации о деятельности организации социальной сферы, размещенной на официальном сайте организации социальной сферы по отношению к числу опрошенных получателей услуг, ответивших на соответствующий вопрос анкеты (Усайт) | S47: 73 | T47: 73 | U47: наличие пяти и более комфортных условий для предоставления услуг | W47: =INDEX(Индикаторы!W111:W113,MATCH('Сведения о независимой оценке'!U47,Индикаторы!U111:U113,0)) -> 100 | X47: число получателей услуг, удовлетворенных комфортностью предоставления услуг организацией социальной сферы (Укомф), по отношению к числу опрошенных получателей услуг, ответивших на данный вопрос (Чобщ) | Y47: 94 | Z47: 98 | AA47: количество условий доступности организации для инвалидов | AB47: 1 | AC47: =INDEX(Индикаторы!AC111:AC113,MATCH('Сведения о независимой оценке'!AA47,Индикаторы!AA111:AA113,0)) -> 20 | AD47: количество условий доступности, позволяющих инвалидам получать услуги наравне с другими | AE47: 3 | AF47: =INDEX(Индикаторы!AF111:AF113,MATCH('Сведения о независимой оценке'!AD47,Индикаторы!AD111:AD113,0)) -> 20 | AG47: число получателей услуг-инвалидов, удовлетворенных доступностью услуг для инвалидов (Удост) , по отношению к числу опрошенных получателей услуг- инвалидов, ответивших на соответствующий вопрос анкеты (Чинв) | AH47: 21 | AI47: 21 | AJ47: число получателей услуг, удовлетворенных доброжелательностью, вежливостью работников организации социальной сферы, обеспечивающих первичный контакт и информирование получателя услуги (Уперв.конт), по отношению к числу опрошенных получателей услуг, ответивших на соответствующий вопрос анкеты ( Чобщ) | AK47: 97 | AL47: 98 | AM47: число получателей услуг, удовлетворенных доброжелательностью, вежливостью работников организации социальной сферы, обеспечивающих непосредственное оказание услуги (Уоказ.услуг), по отношению к числу опрошенных получателей услуг, ответивших на соответствующий вопрос анкеты ( Чобщ) | AN47: 97 | AO47: 98 | AP47: число получателей услуг, удовлетворенных доброжелательностью, вежливостью работников организации социальной сферы при использовании дистанционных форм взаимодействия (Увежл.дист), по отношению к числу опрошенных получателей услуг, ответивших на соответствующий вопрос анкеты (Чобщ) | AQ47: 65 | AR47: 65 | AS47: число получателей услуг, которые готовы рекомендовать организацию родственникам и знакомым (могли бы ее рекомендовать, если бы была возможность выбора организации) (Уреком), по отношению к числу опрошенных получателей услуг, ответивших на соответствующий вопрос анкеты (Чобщ) | AT47: 98 | AU47: 98 | AV47: число получателей услуг, удовлетворенных организационными условиями предоставления услуг (Уорг.усл), по отношению к числу опрошенных получателей услуг ответивших на соответствующий вопрос анкеты (Чобщ) | AW47: 96 | AX47: 98 | AY47: число получателей услуг, удовлетворенных в целом условиями оказания услуг в организации социальной сферы (Ууд), по отношению к числу опрошенных получателей услуг, ответивших на соответствующий вопрос анкеты (Чобщ) | AZ47: 97 | BA47: 98
A48: 34 | B48: МУНИЦИПАЛЬНОЕ БЮДЖЕТНОЕ ДОШКОЛЬНОЕ ОБРАЗОВАТЕЛЬНОЕ УЧРЕЖДЕНИЕ "ДЕТСКИЙ САД №157", 2223032592, организации, осуществляющие образовательную деятельность | C48: 209 | D48: 228 | E48: 1.09 | F48: объем информации (количество материалов/единиц информации), размещенной на информационных стендах в помещении организации по отношению к количеству материалов, размещение которых установлено нормативными правовыми актами (Истенд) | G48: 15 | H48: 15 | I48: объем информации (количество материалов/единиц информации), размещенной на официальном сайте организации по отношению к количеству материалов, размещение которых установлено нормативными правовыми актами (Исайт) | J48: 48 | K48: 48 | L48: Количество функционирующих дистанционных способов взаимодействия (от одного до трех способов включительно) | M48: 3 | N48: =INDEX(Индикаторы!N114:N116,MATCH('Сведения о независимой оценке'!L48,Индикаторы!L114:L116,0)) -> 30 | O48: число получателей услуг, удовлетворенных качеством, полнотой и доступностью информации о деятельности организации социальной сферы, размещенной на информационных стендах в помещении организации социальной сферы по отношению к числу опрошенных получателей услуг, ответивших на соответствующий вопрос анкеты (Устенд) | P48: 181 | Q48: 181 | R48: число получателей услуг, удовлетворенных качеством, полнотой и доступностью информации о деятельности организации социальной сферы, размещенной на официальном сайте организации социальной сферы по отношению к числу опрошенных получателей услуг, ответивших на соответствующий вопрос анкеты (Усайт) | S48: 138 | T48: 141 | U48: наличие пяти и более комфортных условий для предоставления услуг | W48: =INDEX(Индикаторы!W114:W116,MATCH('Сведения о независимой оценке'!U48,Индикаторы!U114:U116,0)) -> 100 | X48: число получателей услуг, удовлетворенных комфортностью предоставления услуг организацией социальной сферы (Укомф), по отношению к числу опрошенных получателей услуг, ответивших на данный вопрос (Чобщ) | Y48: 210 | Z48: 228 | AA48: количество условий доступности организации для инвалидов | AB48: 1 | AC48: =INDEX(Индикаторы!AC114:AC116,MATCH('Сведения о независимой оценке'!AA48,Индикаторы!AA114:AA116,0)) -> 20 | AD48: наличие пяти и более условий доступности | AF48: =INDEX(Индикаторы!AF114:AF116,MATCH('Сведения о независимой оценке'!AD48,Индикаторы!AD114:AD116,0)) -> 100 | AG48: число получателей услуг-инвалидов, удовлетворенных доступностью услуг для инвалидов (Удост) , по отношению к числу опрошенных получателей услуг- инвалидов, ответивших на соответствующий вопрос анкеты (Чинв) | AH48: 4 | AI48: 7 | AJ48: число получателей услуг, удовлетворенных доброжелательностью, вежливостью работников организации социальной сферы, обеспечивающих первичный контакт и информирование получателя услуги (Уперв.конт), по отношению к числу опрошенных получателей услуг, ответивших на соответствующий вопрос анкеты ( Чобщ) | AK48: 223 | AL48: 228 | AM48: число получателей услуг, удовлетворенных доброжелательностью, вежливостью работников организации социальной сферы, обеспечивающих непосредственное оказание услуги (Уоказ.услуг), по отношению к числу опрошенных получателей услуг, ответивших на соответствующий вопрос анкеты ( Чобщ) | AN48: 224 | AO48: 228 | AP48: число получателей услуг, удовлетворенных доброжелательностью, вежливостью работников организации социальной сферы при использовании дистанционных форм взаимодействия (Увежл.дист), по отношению к числу опрошенных получателей услуг, ответивших на соответствующий вопрос анкеты (Чобщ) | AQ48: 134 | AR48: 136 | AS48: число получателей услуг, которые готовы рекомендовать организацию родственникам и знакомым (могли бы ее рекомендовать, если бы была возможность выбора организации) (Уреком), по отношению к числу опрошенных получателей услуг, ответивших на соответствующий вопрос анкеты (Чобщ) | AT48: 223 | AU48: 228 | AV48: число получателей услуг, удовлетворенных организационными условиями предоставления услуг (Уорг.усл), по отношению к числу опрошенных получателей услуг ответивших на соответствующий вопрос анкеты (Чобщ) | AW48: 224 | AX48: 228 | AY48: число получателей услуг, удовлетворенных в целом условиями оказания услуг в организации социальной сферы (Ууд), по отношению к числу опрошенных получателей услуг, ответивших на соответствующий вопрос анкеты (Чобщ) | AZ48: 224 | BA48: 228
A49: 35 | B49: МУНИЦИПАЛЬНОЕ БЮДЖЕТНОЕ ДОШКОЛЬНОЕ ОБРАЗОВАТЕЛЬНОЕ УЧРЕЖДЕНИЕ "ДЕТСКИЙ САД № 197" КОМБИНИРОВАННОГО ВИДА, 2225042839, организации, осуществляющие образовательную деятельность | C49: 181 | D49: 80 | E49: 0.44 | F49: объем информации (количество материалов/единиц информации), размещенной на информационных стендах в помещении организации по отношению к количеству материалов, размещение которых установлено нормативными правовыми актами (Истенд) | G49: 15 | H49: 15 | I49: объем информации (количество материалов/единиц информации), размещенной на официальном сайте организации по отношению к количеству материалов, размещение которых установлено нормативными правовыми актами (Исайт) | J49: 46 | K49: 48 | L49: в наличии и функционируют более трех дистанционных способов взаимодействия | N49: =INDEX(Индикаторы!N117:N119,MATCH('Сведения о независимой оценке'!L49,Индикаторы!L117:L119,0)) -> 100 | O49: число получателей услуг, удовлетворенных качеством, полнотой и доступностью информации о деятельности организации социальной сферы, размещенной на информационных стендах в помещении организации социальной сферы по отношению к числу опрошенных получателей услуг, ответивших на соответствующий вопрос анкеты (Устенд) | P49: 79 | Q49: 79 | R49: число получателей услуг, удовлетворенных качеством, полнотой и доступностью информации о деятельности организации социальной сферы, размещенной на официальном сайте организации социальной сферы по отношению к числу опрошенных получателей услуг, ответивших на соответствующий вопрос анкеты (Усайт) | S49: 79 | T49: 79 | U49: наличие пяти и более комфортных условий для предоставления услуг | W49: =INDEX(Индикаторы!W117:W119,MATCH('Сведения о независимой оценке'!U49,Индикаторы!U117:U119,0)) -> 100 | X49: число получателей услуг, удовлетворенных комфортностью предоставления услуг организацией социальной сферы (Укомф), по отношению к числу опрошенных получателей услуг, ответивших на данный вопрос (Чобщ) | Y49: 80 | Z49: 80 | AA49: отсутствуют условия доступности для инвалидов | AC49: =INDEX(Индикаторы!AC117:AC119,MATCH('Сведения о независимой оценке'!AA49,Индикаторы!AA117:AA119,0)) -> 0 | AD49: количество условий доступности, позволяющих инвалидам получать услуги наравне с другими | AE49: 3 | AF49: =INDEX(Индикаторы!AF117:AF119,MATCH('Сведения о независимой оценке'!AD49,Индикаторы!AD117:AD119,0)) -> 20 | AG49: число получателей услуг-инвалидов, удовлетворенных доступностью услуг для инвалидов (Удост) , по отношению к числу опрошенных получателей услуг- инвалидов, ответивших на соответствующий вопрос анкеты (Чинв) | AH49: 7 | AI49: 7 | AJ49: число получателей услуг, удовлетворенных доброжелательностью, вежливостью работников организации социальной сферы, обеспечивающих первичный контакт и информирование получателя услуги (Уперв.конт), по отношению к числу опрошенных получателей услуг, ответивших на соответствующий вопрос анкеты ( Чобщ) | AK49: 80 | AL49: 80 | AM49: число получателей услуг, удовлетворенных доброжелательностью, вежливостью работников организации социальной сферы, обеспечивающих непосредственное оказание услуги (Уоказ.услуг), по отношению к числу опрошенных получателей услуг, ответивших на соответствующий вопрос анкеты ( Чобщ) | AN49: 80 | AO49: 80 | AP49: число получателей услуг, удовлетворенных доброжелательностью, вежливостью работников организации социальной сферы при использовании дистанционных форм взаимодействия (Увежл.дист), по отношению к числу опрошенных получателей услуг, ответивших на соответствующий вопрос анкеты (Чобщ) | AQ49: 73 | AR49: 73 | AS49: число получателей услуг, которые готовы рекомендовать организацию родственникам и знакомым (могли бы ее рекомендовать, если бы была возможность выбора организации) (Уреком), по отношению к числу опрошенных получателей услуг, ответивших на соответствующий вопрос анкеты (Чобщ) | AT49: 80 | AU49: 80 | AV49: число получателей услуг, удовлетворенных организационными условиями предоставления услуг (Уорг.усл), по отношению к числу опрошенных получателей услуг ответивших на соответствующий вопрос анкеты (Чобщ) | AW49: 80 | AX49: 80 | AY49: число получателей услуг, удовлетворенных в целом условиями оказания услуг в организации социальной сферы (Ууд), по отношению к числу опрошенных получателей услуг, ответивших на соответствующий вопрос анкеты (Чобщ) | AZ49: 79 | BA49: 80
A50: 36 | B50: МУНИЦИПАЛЬНОЕ БЮДЖЕТНОЕ ДОШКОЛЬНОЕ ОБРАЗОВАТЕЛЬНОЕ УЧРЕЖДЕНИЕ "ДЕТСКИЙ САД №202", 2224043580, организации, осуществляющие образовательную деятельность | C50: 175 | D50: 93 | E50: 0.53 | F50: объем информации (количество материалов/единиц информации), размещенной на информационных стендах в помещении организации по отношению к количеству материалов, размещение которых установлено нормативными правовыми актами (Истенд) | G50: 15 | H50: 15 | I50: объем информации (количество материалов/единиц информации), размещенной на официальном сайте организации по отношению к количеству материалов, размещение которых установлено нормативными правовыми актами (Исайт) | J50: 48 | K50: 48 | L50: в наличии и функционируют более трех дистанционных способов взаимодействия | N50: =INDEX(Индикаторы!N120:N122,MATCH('Сведения о независимой оценке'!L50,Индикаторы!L120:L122,0)) -> 100 | O50: число получателей услуг, удовлетворенных качеством, полнотой и доступностью информации о деятельности организации социальной сферы, размещенной на информационных стендах в помещении организации социальной сферы по отношению к числу опрошенных получателей услуг, ответивших на соответствующий вопрос анкеты (Устенд) | P50: 75 | Q50: 75 | R50: число получателей услуг, удовлетворенных качеством, полнотой и доступностью информации о деятельности организации социальной сферы, размещенной на официальном сайте организации социальной сферы по отношению к числу опрошенных получателей услуг, ответивших на соответствующий вопрос анкеты (Усайт) | S50: 61 | T50: 62 | U50: наличие пяти и более комфортных условий для предоставления услуг | W50: =INDEX(Индикаторы!W120:W122,MATCH('Сведения о независимой оценке'!U50,Индикаторы!U120:U122,0)) -> 100 | X50: число получателей услуг, удовлетворенных комфортностью предоставления услуг организацией социальной сферы (Укомф), по отношению к числу опрошенных получателей услуг, ответивших на данный вопрос (Чобщ) | Y50: 93 | Z50: 93 | AA50: количество условий доступности организации для инвалидов | AB50: 1 | AC50: =INDEX(Индикаторы!AC120:AC122,MATCH('Сведения о независимой оценке'!AA50,Индикаторы!AA120:AA122,0)) -> 20 | AD50: количество условий доступности, позволяющих инвалидам получать услуги наравне с другими | AE50: 4 | AF50: =INDEX(Индикаторы!AF120:AF122,MATCH('Сведения о независимой оценке'!AD50,Индикаторы!AD120:AD122,0)) -> 20 | AG50: число получателей услуг-инвалидов, удовлетворенных доступностью услуг для инвалидов (Удост) , по отношению к числу опрошенных получателей услуг- инвалидов, ответивших на соответствующий вопрос анкеты (Чинв) | AH50: 6 | AI50: 6 | AJ50: число получателей услуг, удовлетворенных доброжелательностью, вежливостью работников организации социальной сферы, обеспечивающих первичный контакт и информирование получателя услуги (Уперв.конт), по отношению к числу опрошенных получателей услуг, ответивших на соответствующий вопрос анкеты ( Чобщ) | AK50: 93 | AL50: 93 | AM50: число получателей услуг, удовлетворенных доброжелательностью, вежливостью работников организации социальной сферы, обеспечивающих непосредственное оказание услуги (Уоказ.услуг), по отношению к числу опрошенных получателей услуг, ответивших на соответствующий вопрос анкеты ( Чобщ) | AN50: 92 | AO50: 93 | AP50: число получателей услуг, удовлетворенных доброжелательностью, вежливостью работников организации социальной сферы при использовании дистанционных форм взаимодействия (Увежл.дист), по отношению к числу опрошенных получателей услуг, ответивших на соответствующий вопрос анкеты (Чобщ) | AQ50: 61 | AR50: 61 | AS50: число получателей услуг, которые готовы рекомендовать организацию родственникам и знакомым (могли бы ее рекомендовать, если бы была возможность выбора организации) (Уреком), по отношению к числу опрошенных получателей услуг, ответивших на соответствующий вопрос анкеты (Чобщ) | AT50: 92 | AU50: 93 | AV50: число получателей услуг, удовлетворенных организационными условиями предоставления услуг (Уорг.усл), по отношению к числу опрошенных получателей услуг ответивших на соответствующий вопрос анкеты (Чобщ) | AW50: 93 | AX50: 93 | AY50: число получателей услуг, удовлетворенных в целом условиями оказания услуг в организации социальной сферы (Ууд), по отношению к числу опрошенных получателей услуг, ответивших на соответствующий вопрос анкеты (Чобщ) | AZ50: 93 | BA50: 93
A51: 37 | B51: МУНИЦИПАЛЬНОЕ БЮДЖЕТНОЕ ДОШКОЛЬНОЕ ОБРАЗОВАТЕЛЬНОЕ УЧРЕЖДЕНИЕ "ДЕТСКИЙ САД №212", 2223033645, организации, осуществляющие образовательную деятельность | C51: 235 | D51: 114 | E51: 0.49 | F51: объем информации (количество материалов/единиц информации), размещенной на информационных стендах в помещении организации по отношению к количеству материалов, размещение которых установлено нормативными правовыми актами (Истенд) | G51: 15 | H51: 15 | I51: объем информации (количество материалов/единиц информации), размещенной на официальном сайте организации по отношению к количеству материалов, размещение которых установлено нормативными правовыми актами (Исайт) | J51: 48 | K51: 48 | L51: в наличии и функционируют более трех дистанционных способов взаимодействия | N51: =INDEX(Индикаторы!N123:N125,MATCH('Сведения о независимой оценке'!L51,Индикаторы!L123:L125,0)) -> 100 | O51: число получателей услуг, удовлетворенных качеством, полнотой и доступностью информации о деятельности организации социальной сферы, размещенной на информационных стендах в помещении организации социальной сферы по отношению к числу опрошенных получателей услуг, ответивших на соответствующий вопрос анкеты (Устенд) | P51: 94 | Q51: 97 | R51: число получателей услуг, удовлетворенных качеством, полнотой и доступностью информации о деятельности организации социальной сферы, размещенной на официальном сайте организации социальной сферы по отношению к числу опрошенных получателей услуг, ответивших на соответствующий вопрос анкеты (Усайт) | S51: 91 | T51: 94 | U51: наличие пяти и более комфортных условий для предоставления услуг | W51: =INDEX(Индикаторы!W123:W125,MATCH('Сведения о независимой оценке'!U51,Индикаторы!U123:U125,0)) -> 100 | X51: число получателей услуг, удовлетворенных комфортностью предоставления услуг организацией социальной сферы (Укомф), по отношению к числу опрошенных получателей услуг, ответивших на данный вопрос (Чобщ) | Y51: 108 | Z51: 114 | AA51: количество условий доступности организации для инвалидов | AB51: 4 | AC51: =INDEX(Индикаторы!AC123:AC125,MATCH('Сведения о независимой оценке'!AA51,Индикаторы!AA123:AA125,0)) -> 20 | AD51: наличие пяти и более условий доступности | AF51: =INDEX(Индикаторы!AF123:AF125,MATCH('Сведения о независимой оценке'!AD51,Индикаторы!AD123:AD125,0)) -> 100 | AG51: число получателей услуг-инвалидов, удовлетворенных доступностью услуг для инвалидов (Удост) , по отношению к числу опрошенных получателей услуг- инвалидов, ответивших на соответствующий вопрос анкеты (Чинв) | AH51: 3 | AI51: 4 | AJ51: число получателей услуг, удовлетворенных доброжелательностью, вежливостью работников организации социальной сферы, обеспечивающих первичный контакт и информирование получателя услуги (Уперв.конт), по отношению к числу опрошенных получателей услуг, ответивших на соответствующий вопрос анкеты ( Чобщ) | AK51: 112 | AL51: 114 | AM51: число получателей услуг, удовлетворенных доброжелательностью, вежливостью работников организации социальной сферы, обеспечивающих непосредственное оказание услуги (Уоказ.услуг), по отношению к числу опрошенных получателей услуг, ответивших на соответствующий вопрос анкеты ( Чобщ) | AN51: 112 | AO51: 114 | AP51: число получателей услуг, удовлетворенных доброжелательностью, вежливостью работников организации социальной сферы при использовании дистанционных форм взаимодействия (Увежл.дист), по отношению к числу опрошенных получателей услуг, ответивших на соответствующий вопрос анкеты (Чобщ) | AQ51: 76 | AR51: 77 | AS51: число получателей услуг, которые готовы рекомендовать организацию родственникам и знакомым (могли бы ее рекомендовать, если бы была возможность выбора организации) (Уреком), по отношению к числу опрошенных получателей услуг, ответивших на соответствующий вопрос анкеты (Чобщ) | AT51: 110 | AU51: 114 | AV51: число получателей услуг, удовлетворенных организационными условиями предоставления услуг (Уорг.усл), по отношению к числу опрошенных получателей услуг ответивших на соответствующий вопрос анкеты (Чобщ) | AW51: 112 | AX51: 114 | AY51: число получателей услуг, удовлетворенных в целом условиями оказания услуг в организации социальной сферы (Ууд), по отношению к числу опрошенных получателей услуг, ответивших на соответствующий вопрос анкеты (Чобщ) | AZ51: 111 | BA51: 114
A52: 38 | B52: МУНИЦИПАЛЬНОЕ БЮДЖЕТНОЕ ДОШКОЛЬНОЕ ОБРАЗОВАТЕЛЬНОЕ УЧРЕЖДЕНИЕ "ДЕТСКИЙ САД № 222", 2222026010, организации, осуществляющие образовательную деятельность | C52: 146 | D52: 69 | E52: 0.47 | F52: объем информации (количество материалов/единиц информации), размещенной на информационных стендах в помещении организации по отношению к количеству материалов, размещение которых установлено нормативными правовыми актами (Истенд) | G52: 15 | H52: 15 | I52: объем информации (количество материалов/единиц информации), размещенной на официальном сайте организации по отношению к количеству материалов, размещение которых установлено нормативными правовыми актами (Исайт) | J52: 46 | K52: 48 | L52: в наличии и функционируют более трех дистанционных способов взаимодействия | N52: =INDEX(Индикаторы!N126:N128,MATCH('Сведения о независимой оценке'!L52,Индикаторы!L126:L128,0)) -> 100 | O52: число получателей услуг, удовлетворенных качеством, полнотой и доступностью информации о деятельности организации социальной сферы, размещенной на информационных стендах в помещении организации социальной сферы по отношению к числу опрошенных получателей услуг, ответивших на соответствующий вопрос анкеты (Устенд) | P52: 68 | Q52: 68 | R52: число получателей услуг, удовлетворенных качеством, полнотой и доступностью информации о деятельности организации социальной сферы, размещенной на официальном сайте организации социальной сферы по отношению к числу опрошенных получателей услуг, ответивших на соответствующий вопрос анкеты (Усайт) | S52: 65 | T52: 65 | U52: наличие пяти и более комфортных условий для предоставления услуг | W52: =INDEX(Индикаторы!W126:W128,MATCH('Сведения о независимой оценке'!U52,Индикаторы!U126:U128,0)) -> 100 | X52: число получателей услуг, удовлетворенных комфортностью предоставления услуг организацией социальной сферы (Укомф), по отношению к числу опрошенных получателей услуг, ответивших на данный вопрос (Чобщ) | Y52: 68 | Z52: 69 | AA52: отсутствуют условия доступности для инвалидов | AC52: =INDEX(Индикаторы!AC126:AC128,MATCH('Сведения о независимой оценке'!AA52,Индикаторы!AA126:AA128,0)) -> 0 | AD52: количество условий доступности, позволяющих инвалидам получать услуги наравне с другими | AE52: 2 | AF52: =INDEX(Индикаторы!AF126:AF128,MATCH('Сведения о независимой оценке'!AD52,Индикаторы!AD126:AD128,0)) -> 20 | AG52: число получателей услуг-инвалидов, удовлетворенных доступностью услуг для инвалидов (Удост) , по отношению к числу опрошенных получателей услуг- инвалидов, ответивших на соответствующий вопрос анкеты (Чинв) | AH52: 6 | AI52: 6 | AJ52: число получателей услуг, удовлетворенных доброжелательностью, вежливостью работников организации социальной сферы, обеспечивающих первичный контакт и информирование получателя услуги (Уперв.конт), по отношению к числу опрошенных получателей услуг, ответивших на соответствующий вопрос анкеты ( Чобщ) | AK52: 69 | AL52: 69 | AM52: число получателей услуг, удовлетворенных доброжелательностью, вежливостью работников организации социальной сферы, обеспечивающих непосредственное оказание услуги (Уоказ.услуг), по отношению к числу опрошенных получателей услуг, ответивших на соответствующий вопрос анкеты ( Чобщ) | AN52: 69 | AO52: 69 | AP52: число получателей услуг, удовлетворенных доброжелательностью, вежливостью работников организации социальной сферы при использовании дистанционных форм взаимодействия (Увежл.дист), по отношению к числу опрошенных получателей услуг, ответивших на соответствующий вопрос анкеты (Чобщ) | AQ52: 65 | AR52: 65 | AS52: число получателей услуг, которые готовы рекомендовать организацию родственникам и знакомым (могли бы ее рекомендовать, если бы была возможность выбора организации) (Уреком), по отношению к числу опрошенных получателей услуг, ответивших на соответствующий вопрос анкеты (Чобщ) | AT52: 69 | AU52: 69 | AV52: число получателей услуг, удовлетворенных организационными условиями предоставления услуг (Уорг.усл), по отношению к числу опрошенных получателей услуг ответивших на соответствующий вопрос анкеты (Чобщ) | AW52: 69 | AX52: 69 | AY52: число получателей услуг, удовлетворенных в целом условиями оказания услуг в организации социальной сферы (Ууд), по отношению к числу опрошенных получателей услуг, ответивших на соответствующий вопрос анкеты (Чобщ) | AZ52: 69 | BA52: 69
A53: 39 | B53: МУНИЦИПАЛЬНОЕ БЮДЖЕТНОЕ ДОШКОЛЬНОЕ ОБРАЗОВАТЕЛЬНОЕ УЧРЕЖДЕНИЕ "ДЕТСКИЙ САД №223", 2222030264, организации, осуществляющие образовательную деятельность | C53: 231 | D53: 111 | E53: 0.48 | F53: объем информации (количество материалов/единиц информации), размещенной на информационных стендах в помещении организации по отношению к количеству материалов, размещение которых установлено нормативными правовыми актами (Истенд) | G53: 15 | H53: 15 | I53: объем информации (количество материалов/единиц информации), размещенной на официальном сайте организации по отношению к количеству материалов, размещение которых установлено нормативными правовыми актами (Исайт) | J53: 48 | K53: 48 | L53: в наличии и функционируют более трех дистанционных способов взаимодействия | N53: =INDEX(Индикаторы!N129:N131,MATCH('Сведения о независимой оценке'!L53,Индикаторы!L129:L131,0)) -> 100 | O53: число получателей услуг, удовлетворенных качеством, полнотой и доступностью информации о деятельности организации социальной сферы, размещенной на информационных стендах в помещении организации социальной сферы по отношению к числу опрошенных получателей услуг, ответивших на соответствующий вопрос анкеты (Устенд) | P53: 85 | Q53: 86 | R53: число получателей услуг, удовлетворенных качеством, полнотой и доступностью информации о деятельности организации социальной сферы, размещенной на официальном сайте организации социальной сферы по отношению к числу опрошенных получателей услуг, ответивших на соответствующий вопрос анкеты (Усайт) | S53: 78 | T53: 81 | U53: наличие пяти и более комфортных условий для предоставления услуг | W53: =INDEX(Индикаторы!W129:W131,MATCH('Сведения о независимой оценке'!U53,Индикаторы!U129:U131,0)) -> 100 | X53: число получателей услуг, удовлетворенных комфортностью предоставления услуг организацией социальной сферы (Укомф), по отношению к числу опрошенных получателей услуг, ответивших на данный вопрос (Чобщ) | Y53: 108 | Z53: 111 | AA53: количество условий доступности организации для инвалидов | AB53: 3 | AC53: =INDEX(Индикаторы!AC129:AC131,MATCH('Сведения о независимой оценке'!AA53,Индикаторы!AA129:AA131,0)) -> 20 | AD53: количество условий доступности, позволяющих инвалидам получать услуги наравне с другими | AE53: 2 | AF53: =INDEX(Индикаторы!AF129:AF131,MATCH('Сведения о независимой оценке'!AD53,Индикаторы!AD129:AD131,0)) -> 20 | AG53: число получателей услуг-инвалидов, удовлетворенных доступностью услуг для инвалидов (Удост) , по отношению к числу опрошенных получателей услуг- инвалидов, ответивших на соответствующий вопрос анкеты (Чинв) | AH53: 3 | AI53: 3 | AJ53: число получателей услуг, удовлетворенных доброжелательностью, вежливостью работников организации социальной сферы, обеспечивающих первичный контакт и информирование получателя услуги (Уперв.конт), по отношению к числу опрошенных получателей услуг, ответивших на соответствующий вопрос анкеты ( Чобщ) | AK53: 109 | AL53: 111 | AM53: число получателей услуг, удовлетворенных доброжелательностью, вежливостью работников организации социальной сферы, обеспечивающих непосредственное оказание услуги (Уоказ.услуг), по отношению к числу опрошенных получателей услуг, ответивших на соответствующий вопрос анкеты ( Чобщ) | AN53: 108 | AO53: 111 | AP53: число получателей услуг, удовлетворенных доброжелательностью, вежливостью работников организации социальной сферы при использовании дистанционных форм взаимодействия (Увежл.дист), по отношению к числу опрошенных получателей услуг, ответивших на соответствующий вопрос анкеты (Чобщ) | AQ53: 69 | AR53: 70 | AS53: число получателей услуг, которые готовы рекомендовать организацию родственникам и знакомым (могли бы ее рекомендовать, если бы была возможность выбора организации) (Уреком), по отношению к числу опрошенных получателей услуг, ответивших на соответствующий вопрос анкеты (Чобщ) | AT53: 109 | AU53: 111 | AV53: число получателей услуг, удовлетворенных организационными условиями предоставления услуг (Уорг.усл), по отношению к числу опрошенных получателей услуг ответивших на соответствующий вопрос анкеты (Чобщ) | AW53: 110 | AX53: 111 | AY53: число получателей услуг, удовлетворенных в целом условиями оказания услуг в организации социальной сферы (Ууд), по отношению к числу опрошенных получателей услуг, ответивших на соответствующий вопрос анкеты (Чобщ) | AZ53: 111 | BA53: 111
A54: 40 | B54: МУНИЦИПАЛЬНОЕ БЮДЖЕТНОЕ ДОШКОЛЬНОЕ ОБРАЗОВАТЕЛЬНОЕ УЧРЕЖДЕНИЕ "ДЕТСКИЙ САД №224", 2223032507, организации, осуществляющие образовательную деятельность | C54: 216 | D54: 93 | E54: 0.43 | F54: объем информации (количество материалов/единиц информации), размещенной на информационных стендах в помещении организации по отношению к количеству материалов, размещение которых установлено нормативными правовыми актами (Истенд) | G54: 15 | H54: 15 | I54: объем информации (количество материалов/единиц информации), размещенной на официальном сайте организации по отношению к количеству материалов, размещение которых установлено нормативными правовыми актами (Исайт) | J54: 46 | K54: 48 | L54: в наличии и функционируют более трех дистанционных способов взаимодействия | N54: =INDEX(Индикаторы!N132:N134,MATCH('Сведения о независимой оценке'!L54,Индикаторы!L132:L134,0)) -> 100 | O54: число получателей услуг, удовлетворенных качеством, полнотой и доступностью информации о деятельности организации социальной сферы, размещенной на информационных стендах в помещении организации социальной сферы по отношению к числу опрошенных получателей услуг, ответивших на соответствующий вопрос анкеты (Устенд) | P54: 83 | Q54: 84 | R54: число получателей услуг, удовлетворенных качеством, полнотой и доступностью информации о деятельности организации социальной сферы, размещенной на официальном сайте организации социальной сферы по отношению к числу опрошенных получателей услуг, ответивших на соответствующий вопрос анкеты (Усайт) | S54: 69 | T54: 70 | U54: наличие пяти и более комфортных условий для предоставления услуг | W54: =INDEX(Индикаторы!W132:W134,MATCH('Сведения о независимой оценке'!U54,Индикаторы!U132:U134,0)) -> 100 | X54: число получателей услуг, удовлетворенных комфортностью предоставления услуг организацией социальной сферы (Укомф), по отношению к числу опрошенных получателей услуг, ответивших на данный вопрос (Чобщ) | Y54: 90 | Z54: 93 | AA54: отсутствуют условия доступности для инвалидов | AC54: =INDEX(Индикаторы!AC132:AC134,MATCH('Сведения о независимой оценке'!AA54,Индикаторы!AA132:AA134,0)) -> 0 | AD54: количество условий доступности, позволяющих инвалидам получать услуги наравне с другими | AE54: 1 | AF54: =INDEX(Индикаторы!AF132:AF134,MATCH('Сведения о независимой оценке'!AD54,Индикаторы!AD132:AD134,0)) -> 20 | AG54: число получателей услуг-инвалидов, удовлетворенных доступностью услуг для инвалидов (Удост) , по отношению к числу опрошенных получателей услуг- инвалидов, ответивших на соответствующий вопрос анкеты (Чинв) | AH54: 2 | AI54: 2 | AJ54: число получателей услуг, удовлетворенных доброжелательностью, вежливостью работников организации социальной сферы, обеспечивающих первичный контакт и информирование получателя услуги (Уперв.конт), по отношению к числу опрошенных получателей услуг, ответивших на соответствующий вопрос анкеты ( Чобщ) | AK54: 92 | AL54: 93 | AM54: число получателей услуг, удовлетворенных доброжелательностью, вежливостью работников организации социальной сферы, обеспечивающих непосредственное оказание услуги (Уоказ.услуг), по отношению к числу опрошенных получателей услуг, ответивших на соответствующий вопрос анкеты ( Чобщ) | AN54: 92 | AO54: 93 | AP54: число получателей услуг, удовлетворенных доброжелательностью, вежливостью работников организации социальной сферы при использовании дистанционных форм взаимодействия (Увежл.дист), по отношению к числу опрошенных получателей услуг, ответивших на соответствующий вопрос анкеты (Чобщ) | AQ54: 60 | AR54: 61 | AS54: число получателей услуг, которые готовы рекомендовать организацию родственникам и знакомым (могли бы ее рекомендовать, если бы была возможность выбора организации) (Уреком), по отношению к числу опрошенных получателей услуг, ответивших на соответствующий вопрос анкеты (Чобщ) | AT54: 91 | AU54: 93 | AV54: число получателей услуг, удовлетворенных организационными условиями предоставления услуг (Уорг.усл), по отношению к числу опрошенных получателей услуг ответивших на соответствующий вопрос анкеты (Чобщ) | AW54: 91 | AX54: 93 | AY54: число получателей услуг, удовлетворенных в целом условиями оказания услуг в организации социальной сферы (Ууд), по отношению к числу опрошенных получателей услуг, ответивших на соответствующий вопрос анкеты (Чобщ) | AZ54: 91 | BA54: 93
A55: 41 | B55: МУНИЦИПАЛЬНОЕ БЮДЖЕТНОЕ ДОШКОЛЬНОЕ ОБРАЗОВАТЕЛЬНОЕ УЧРЕЖДЕНИЕ "ДЕТСКИЙ САД №236", 2222025708, организации, осуществляющие образовательную деятельность | C55: 137 | D55: 114 | E55: 0.83 | F55: объем информации (количество материалов/единиц информации), размещенной на информационных стендах в помещении организации по отношению к количеству материалов, размещение которых установлено нормативными правовыми актами (Истенд) | G55: 15 | H55: 15 | I55: объем информации (количество материалов/единиц информации), размещенной на официальном сайте организации по отношению к количеству материалов, размещение которых установлено нормативными правовыми актами (Исайт) | J55: 47 | K55: 48 | L55: в наличии и функционируют более трех дистанционных способов взаимодействия | N55: =INDEX(Индикаторы!N135:N137,MATCH('Сведения о независимой оценке'!L55,Индикаторы!L135:L137,0)) -> 100 | O55: число получателей услуг, удовлетворенных качеством, полнотой и доступностью информации о деятельности организации социальной сферы, размещенной на информационных стендах в помещении организации социальной сферы по отношению к числу опрошенных получателей услуг, ответивших на соответствующий вопрос анкеты (Устенд) | P55: 94 | Q55: 95 | R55: число получателей услуг, удовлетворенных качеством, полнотой и доступностью информации о деятельности организации социальной сферы, размещенной на официальном сайте организации социальной сферы по отношению к числу опрошенных получателей услуг, ответивших на соответствующий вопрос анкеты (Усайт) | S55: 81 | T55: 86 | U55: наличие пяти и более комфортных условий для предоставления услуг | W55: =INDEX(Индикаторы!W135:W137,MATCH('Сведения о независимой оценке'!U55,Индикаторы!U135:U137,0)) -> 100 | X55: число получателей услуг, удовлетворенных комфортностью предоставления услуг организацией социальной сферы (Укомф), по отношению к числу опрошенных получателей услуг, ответивших на данный вопрос (Чобщ) | Y55: 107 | Z55: 114 | AA55: количество условий доступности организации для инвалидов | AB55: 2 | AC55: =INDEX(Индикаторы!AC135:AC137,MATCH('Сведения о независимой оценке'!AA55,Индикаторы!AA135:AA137,0)) -> 20 | AD55: наличие пяти и более условий доступности | AF55: =INDEX(Индикаторы!AF135:AF137,MATCH('Сведения о независимой оценке'!AD55,Индикаторы!AD135:AD137,0)) -> 100 | AG55: число получателей услуг-инвалидов, удовлетворенных доступностью услуг для инвалидов (Удост) , по отношению к числу опрошенных получателей услуг- инвалидов, ответивших на соответствующий вопрос анкеты (Чинв) | AH55: 2 | AI55: 2 | AJ55: число получателей услуг, удовлетворенных доброжелательностью, вежливостью работников организации социальной сферы, обеспечивающих первичный контакт и информирование получателя услуги (Уперв.конт), по отношению к числу опрошенных получателей услуг, ответивших на соответствующий вопрос анкеты ( Чобщ) | AK55: 113 | AL55: 114 | AM55: число получателей услуг, удовлетворенных доброжелательностью, вежливостью работников организации социальной сферы, обеспечивающих непосредственное оказание услуги (Уоказ.услуг), по отношению к числу опрошенных получателей услуг, ответивших на соответствующий вопрос анкеты ( Чобщ) | AN55: 112 | AO55: 114 | AP55: число получателей услуг, удовлетворенных доброжелательностью, вежливостью работников организации социальной сферы при использовании дистанционных форм взаимодействия (Увежл.дист), по отношению к числу опрошенных получателей услуг, ответивших на соответствующий вопрос анкеты (Чобщ) | AQ55: 71 | AR55: 71 | AS55: число получателей услуг, которые готовы рекомендовать организацию родственникам и знакомым (могли бы ее рекомендовать, если бы была возможность выбора организации) (Уреком), по отношению к числу опрошенных получателей услуг, ответивших на соответствующий вопрос анкеты (Чобщ) | AT55: 108 | AU55: 114 | AV55: число получателей услуг, удовлетворенных организационными условиями предоставления услуг (Уорг.усл), по отношению к числу опрошенных получателей услуг ответивших на соответствующий вопрос анкеты (Чобщ) | AW55: 111 | AX55: 114 | AY55: число получателей услуг, удовлетворенных в целом условиями оказания услуг в организации социальной сферы (Ууд), по отношению к числу опрошенных получателей услуг, ответивших на соответствующий вопрос анкеты (Чобщ) | AZ55: 111 | BA55: 114
A56: 42 | B56: МУНИЦИПАЛЬНОЕ БЮДЖЕТНОЕ ДОШКОЛЬНОЕ ОБРАЗОВАТЕЛЬНОЕ УЧРЕЖДЕНИЕ "ДЕТСКИЙ САД № 28", 2224043558, организации, осуществляющие образовательную деятельность | C56: 115 | D56: 49 | E56: 0.43 | F56: объем информации (количество материалов/единиц информации), размещенной на информационных стендах в помещении организации по отношению к количеству материалов, размещение которых установлено нормативными правовыми актами (Истенд) | G56: 15 | H56: 15 | I56: объем информации (количество материалов/единиц информации), размещенной на официальном сайте организации по отношению к количеству материалов, размещение которых установлено нормативными правовыми актами (Исайт) | J56: 46 | K56: 48 | L56: в наличии и функционируют более трех дистанционных способов взаимодействия | N56: =INDEX(Индикаторы!N138:N140,MATCH('Сведения о независимой оценке'!L56,Индикаторы!L138:L140,0)) -> 100 | O56: число получателей услуг, удовлетворенных качеством, полнотой и доступностью информации о деятельности организации социальной сферы, размещенной на информационных стендах в помещении организации социальной сферы по отношению к числу опрошенных получателей услуг, ответивших на соответствующий вопрос анкеты (Устенд) | P56: 45 | Q56: 45 | R56: число получателей услуг, удовлетворенных качеством, полнотой и доступностью информации о деятельности организации социальной сферы, размещенной на официальном сайте организации социальной сферы по отношению к числу опрошенных получателей услуг, ответивших на соответствующий вопрос анкеты (Усайт) | S56: 43 | T56: 43 | U56: наличие пяти и более комфортных условий для предоставления услуг | W56: =INDEX(Индикаторы!W138:W140,MATCH('Сведения о независимой оценке'!U56,Индикаторы!U138:U140,0)) -> 100 | X56: число получателей услуг, удовлетворенных комфортностью предоставления услуг организацией социальной сферы (Укомф), по отношению к числу опрошенных получателей услуг, ответивших на данный вопрос (Чобщ) | Y56: 49 | Z56: 49 | AA56: количество условий доступности организации для инвалидов | AB56: 2 | AC56: =INDEX(Индикаторы!AC138:AC140,MATCH('Сведения о независимой оценке'!AA56,Индикаторы!AA138:AA140,0)) -> 20 | AD56: наличие пяти и более условий доступности | AF56: =INDEX(Индикаторы!AF138:AF140,MATCH('Сведения о независимой оценке'!AD56,Индикаторы!AD138:AD140,0)) -> 100 | AG56: число получателей услуг-инвалидов, удовлетворенных доступностью услуг для инвалидов (Удост) , по отношению к числу опрошенных получателей услуг- инвалидов, ответивших на соответствующий вопрос анкеты (Чинв) | AH56: 3 | AI56: 3 | AJ56: число получателей услуг, удовлетворенных доброжелательностью, вежливостью работников организации социальной сферы, обеспечивающих первичный контакт и информирование получателя услуги (Уперв.конт), по отношению к числу опрошенных получателей услуг, ответивших на соответствующий вопрос анкеты ( Чобщ) | AK56: 49 | AL56: 49 | AM56: число получателей услуг, удовлетворенных доброжелательностью, вежливостью работников организации социальной сферы, обеспечивающих непосредственное оказание услуги (Уоказ.услуг), по отношению к числу опрошенных получателей услуг, ответивших на соответствующий вопрос анкеты ( Чобщ) | AN56: 49 | AO56: 49 | AP56: число получателей услуг, удовлетворенных доброжелательностью, вежливостью работников организации социальной сферы при использовании дистанционных форм взаимодействия (Увежл.дист), по отношению к числу опрошенных получателей услуг, ответивших на соответствующий вопрос анкеты (Чобщ) | AQ56: 41 | AR56: 41 | AS56: число получателей услуг, которые готовы рекомендовать организацию родственникам и знакомым (могли бы ее рекомендовать, если бы была возможность выбора организации) (Уреком), по отношению к числу опрошенных получателей услуг, ответивших на соответствующий вопрос анкеты (Чобщ) | AT56: 49 | AU56: 49 | AV56: число получателей услуг, удовлетворенных организационными условиями предоставления услуг (Уорг.усл), по отношению к числу опрошенных получателей услуг ответивших на соответствующий вопрос анкеты (Чобщ) | AW56: 49 | AX56: 49 | AY56: число получателей услуг, удовлетворенных в целом условиями оказания услуг в организации социальной сферы (Ууд), по отношению к числу опрошенных получателей услуг, ответивших на соответствующий вопрос анкеты (Чобщ) | AZ56: 49 | BA56: 49
A57: 43 | B57: МУНИЦИПАЛЬНОЕ БЮДЖЕТНОЕ ДОШКОЛЬНОЕ ОБРАЗОВАТЕЛЬНОЕ УЧРЕЖДЕНИЕ "ДЕТСКИЙ САД №101", 2221031346, организации, осуществляющие образовательную деятельность | C57: 119 | D57: 89 | E57: 0.75 | F57: объем информации (количество материалов/единиц информации), размещенной на информационных стендах в помещении организации по отношению к количеству материалов, размещение которых установлено нормативными правовыми актами (Истенд) | G57: 15 | H57: 15 | I57: объем информации (количество материалов/единиц информации), размещенной на официальном сайте организации по отношению к количеству материалов, размещение которых установлено нормативными правовыми актами (Исайт) | J57: 47 | K57: 48 | L57: Количество функционирующих дистанционных способов взаимодействия (от одного до трех способов включительно) | M57: 3 | N57: =INDEX(Индикаторы!N141:N143,MATCH('Сведения о независимой оценке'!L57,Индикаторы!L141:L143,0)) -> 30 | O57: число получателей услуг, удовлетворенных качеством, полнотой и доступностью информации о деятельности организации социальной сферы, размещенной на информационных стендах в помещении организации социальной сферы по отношению к числу опрошенных получателей услуг, ответивших на соответствующий вопрос анкеты (Устенд) | P57: 67 | Q57: 70 | R57: число получателей услуг, удовлетворенных качеством, полнотой и доступностью информации о деятельности организации социальной сферы, размещенной на официальном сайте организации социальной сферы по отношению к числу опрошенных получателей услуг, ответивших на соответствующий вопрос анкеты (Усайт) | S57: 53 | T57: 58 | U57: наличие пяти и более комфортных условий для предоставления услуг | W57: =INDEX(Индикаторы!W141:W143,MATCH('Сведения о независимой оценке'!U57,Индикаторы!U141:U143,0)) -> 100 | X57: число получателей услуг, удовлетворенных комфортностью предоставления услуг организацией социальной сферы (Укомф), по отношению к числу опрошенных получателей услуг, ответивших на данный вопрос (Чобщ) | Y57: 77 | Z57: 89 | AA57: отсутствуют условия доступности для инвалидов | AC57: =INDEX(Индикаторы!AC141:AC143,MATCH('Сведения о независимой оценке'!AA57,Индикаторы!AA141:AA143,0)) -> 0 | AD57: количество условий доступности, позволяющих инвалидам получать услуги наравне с другими | AE57: 4 | AF57: =INDEX(Индикаторы!AF141:AF143,MATCH('Сведения о независимой оценке'!AD57,Индикаторы!AD141:AD143,0)) -> 20 | AG57: число получателей услуг-инвалидов, удовлетворенных доступностью услуг для инвалидов (Удост) , по отношению к числу опрошенных получателей услуг- инвалидов, ответивших на соответствующий вопрос анкеты (Чинв) | AH57: 1 | AI57: 1 | AJ57: число получателей услуг, удовлетворенных доброжелательностью, вежливостью работников организации социальной сферы, обеспечивающих первичный контакт и информирование получателя услуги (Уперв.конт), по отношению к числу опрошенных получателей услуг, ответивших на соответствующий вопрос анкеты ( Чобщ) | AK57: 87 | AL57: 89 | AM57: число получателей услуг, удовлетворенных доброжелательностью, вежливостью работников организации социальной сферы, обеспечивающих непосредственное оказание услуги (Уоказ.услуг), по отношению к числу опрошенных получателей услуг, ответивших на соответствующий вопрос анкеты ( Чобщ) | AN57: 84 | AO57: 89 | AP57: число получателей услуг, удовлетворенных доброжелательностью, вежливостью работников организации социальной сферы при использовании дистанционных форм взаимодействия (Увежл.дист), по отношению к числу опрошенных получателей услуг, ответивших на соответствующий вопрос анкеты (Чобщ) | AQ57: 53 | AR57: 55 | AS57: число получателей услуг, которые готовы рекомендовать организацию родственникам и знакомым (могли бы ее рекомендовать, если бы была возможность выбора организации) (Уреком), по отношению к числу опрошенных получателей услуг, ответивших на соответствующий вопрос анкеты (Чобщ) | AT57: 80 | AU57: 89 | AV57: число получателей услуг, удовлетворенных организационными условиями предоставления услуг (Уорг.усл), по отношению к числу опрошенных получателей услуг ответивших на соответствующий вопрос анкеты (Чобщ) | AW57: 74 | AX57: 89 | AY57: число получателей услуг, удовлетворенных в целом условиями оказания услуг в организации социальной сферы (Ууд), по отношению к числу опрошенных получателей услуг, ответивших на соответствующий вопрос анкеты (Чобщ) | AZ57: 79 | BA57: 89
A58: 44 | B58: МУНИЦИПАЛЬНОЕ БЮДЖЕТНОЕ ДОШКОЛЬНОЕ ОБРАЗОВАТЕЛЬНОЕ УЧРЕЖДЕНИЕ "ДЕТСКИЙ САД №103", 2224051076, организации, осуществляющие образовательную деятельность | C58: 204 | D58: 126 | E58: 0.62 | F58: объем информации (количество материалов/единиц информации), размещенной на информационных стендах в помещении организации по отношению к количеству материалов, размещение которых установлено нормативными правовыми актами (Истенд) | G58: 15 | H58: 15 | I58: объем информации (количество материалов/единиц информации), размещенной на официальном сайте организации по отношению к количеству материалов, размещение которых установлено нормативными правовыми актами (Исайт) | J58: 47 | K58: 48 | L58: в наличии и функционируют более трех дистанционных способов взаимодействия | N58: =INDEX(Индикаторы!N144:N146,MATCH('Сведения о независимой оценке'!L58,Индикаторы!L144:L146,0)) -> 100 | O58: число получателей услуг, удовлетворенных качеством, полнотой и доступностью информации о деятельности организации социальной сферы, размещенной на информационных стендах в помещении организации социальной сферы по отношению к числу опрошенных получателей услуг, ответивших на соответствующий вопрос анкеты (Устенд) | P58: 91 | Q58: 91 | R58: число получателей услуг, удовлетворенных качеством, полнотой и доступностью информации о деятельности организации социальной сферы, размещенной на официальном сайте организации социальной сферы по отношению к числу опрошенных получателей услуг, ответивших на соответствующий вопрос анкеты (Усайт) | S58: 84 | T58: 88 | U58: наличие пяти и более комфортных условий для предоставления услуг | W58: =INDEX(Индикаторы!W144:W146,MATCH('Сведения о независимой оценке'!U58,Индикаторы!U144:U146,0)) -> 100 | X58: число получателей услуг, удовлетворенных комфортностью предоставления услуг организацией социальной сферы (Укомф), по отношению к числу опрошенных получателей услуг, ответивших на данный вопрос (Чобщ) | Y58: 122 | Z58: 126 | AA58: количество условий доступности организации для инвалидов | AB58: 1 | AC58: =INDEX(Индикаторы!AC144:AC146,MATCH('Сведения о независимой оценке'!AA58,Индикаторы!AA144:AA146,0)) -> 20 | AD58: наличие пяти и более условий доступности | AF58: =INDEX(Индикаторы!AF144:AF146,MATCH('Сведения о независимой оценке'!AD58,Индикаторы!AD144:AD146,0)) -> 100 | AG58: число получателей услуг-инвалидов, удовлетворенных доступностью услуг для инвалидов (Удост) , по отношению к числу опрошенных получателей услуг- инвалидов, ответивших на соответствующий вопрос анкеты (Чинв) | AH58: 3 | AI58: 3 | AJ58: число получателей услуг, удовлетворенных доброжелательностью, вежливостью работников организации социальной сферы, обеспечивающих первичный контакт и информирование получателя услуги (Уперв.конт), по отношению к числу опрошенных получателей услуг, ответивших на соответствующий вопрос анкеты ( Чобщ) | AK58: 125 | AL58: 126 | AM58: число получателей услуг, удовлетворенных доброжелательностью, вежливостью работников организации социальной сферы, обеспечивающих непосредственное оказание услуги (Уоказ.услуг), по отношению к числу опрошенных получателей услуг, ответивших на соответствующий вопрос анкеты ( Чобщ) | AN58: 124 | AO58: 126 | AP58: число получателей услуг, удовлетворенных доброжелательностью, вежливостью работников организации социальной сферы при использовании дистанционных форм взаимодействия (Увежл.дист), по отношению к числу опрошенных получателей услуг, ответивших на соответствующий вопрос анкеты (Чобщ) | AQ58: 69 | AR58: 70 | AS58: число получателей услуг, которые готовы рекомендовать организацию родственникам и знакомым (могли бы ее рекомендовать, если бы была возможность выбора организации) (Уреком), по отношению к числу опрошенных получателей услуг, ответивших на соответствующий вопрос анкеты (Чобщ) | AT58: 124 | AU58: 126 | AV58: число получателей услуг, удовлетворенных организационными условиями предоставления услуг (Уорг.усл), по отношению к числу опрошенных получателей услуг ответивших на соответствующий вопрос анкеты (Чобщ) | AW58: 123 | AX58: 126 | AY58: число получателей услуг, удовлетворенных в целом условиями оказания услуг в организации социальной сферы (Ууд), по отношению к числу опрошенных получателей услуг, ответивших на соответствующий вопрос анкеты (Чобщ) | AZ58: 125 | BA58: 126
