Workbook

Sheet Сведения о независимой оценке
A1: Количественные результаты независимой оценки качества оказания услуг организациями
A2: Шаблон сформирован 14.01.2025 06:04
A3: Публично-правовое образование | C3: 01000000 - Алтайский край
A4: Сфера деятельности | C4: 2 - Образование
A5: Период проведения независимой оценки | C5: 2024 год
A6: Основание для определения перечня показателей | C6: Единый порядок расчета (Приказ Минтруда № 344н от 31.05.2018 г.)
A8: Пожалуйста, введите значения выполнения индикаторов
A9: № п.п. | B9: Организация | C9: Численность получателей услуг организации | D9: Количество респондентов | E9: Доля респондентов | F9: Общие критерии оценки
F10: 1 - критерий открытости и доступности информации об организации | U10: 2 - критерий комфортности условий предоставления услуги, в том числе время ожидания ее предоставления | AA10: 3 - критерий доступности услуг для инвалидов | AJ10: 4 - критерий доброжелательности, вежливости работников организации | AS10: 5 - критерий удовлетворенности условиями оказания услуг
F11: Показатели | U11: Показатели | AA11: Показатели | AJ11: Показатели | AS11: Показатели
F12: 1.1 Соответствие информации о деятельности организации социальной сферы, размещенной на общедоступных информационных ресурсах, ее содержанию и порядку (форме), установленным законодательными и иными нормативными правовыми актами Российской Федерации | L12: 1.2 Наличие на официальном сайте организации социальной сферы информации о дистанционных способах обратной связи и взаимодействия с получателями услуг и их функционирование | O12: 1.3 Доля получателей услуг, удовлетворенных открытостью, полнотой и доступностью информации о деятельности организации социальной сферы | U12: 2.1 Обеспечение в организации социальной сферы комфортных условий предоставления услуг | X12: 2.3 Доля получателей услуг удовлетворенных комфортностью предоставления услуг организацией социальной сферы | AA12: 3.1 Оборудование помещений организации социальной сферы и прилегающей к ней территории с учетом доступности для инвалидов | AD12: 3.2 Обеспечение в организации социальной сферы условий доступности, позволяющих инвалидам получать услуги наравне с другими | AG12: 3.3 Доля получателей услуг, удовлетворенных доступностью услуг для инвалидов | AJ12: 4.1 Доля получателей услуг, удовлетворенных доброжелательностью, вежливостью работников организации социальной сферы, обеспечивающих первичный контакт и информирование получателя услуги при непосредственном обращении в организацию социальной сферы | AM12: 4.2 Доля получателей услуг, удовлетворенных доброжелательностью, вежливостью работников организации социальной сферы, обеспечивающих непосредственное оказание услуги при обращении в организацию социальной сферы | AP12: 4.3 Доля получателей услуг, удовлетворенных доброжелательностью, вежливостью работников организации социальной сферы при использовании дистанционных форм взаимодействия | AS12: 5.1 Доля получателей услуг, которые готовы рекомендовать организацию социальной сферы родственникам и знакомым (могли бы ее рекомендовать, если бы была возможность выбора организации социальной сферы) | AV12: 5.2 Доля получателей услуг, удовлетворенных организационными условиями предоставления услуг | AY12: 5.3 Доля получателей услуг, удовлетворенных в целом условиями оказания услуг в организации социальной сферы
F13: 1.1.1 - Соответствие информации о деятельности организации социальной сферы, размещенной на информационных стендах в помещении организации социальной сферы, ее содержанию и порядку (форме), установленным нормативными правовыми актами. | I13: 1.1.2 - Соответствие информации о деятельности организации социальной сферы, размещенной на официальном сайте организации социальной сферы, ее содержанию и порядку (форме), установленным нормативными правовыми актами. | L13: 1.2.1 - Наличие и функционирование на официальном сайте организации информации о дистанционных способах взаимодействия с получателями услуг: телефона; электронной почты; электронных сервисов (форма для подачи электронного обращения (жалобы, предложения), получение консультации по оказываемым услугам и пр.); раздела «Часто задаваемые вопросы»; технической возможности выражения получателем услуг мнения о качестве условий оказания услуг организацией социальной сферы (наличие анкеты для опроса граждан или гиперссылки на нее); иного дистанционного способа взаимодействия. | O13: 1.3.1 - Удовлетворенность качеством, полнотой и доступностью информации о деятельности организации социальной сферы, размещенной на информационных стендах в помещении организации социальной сферы. | R13: 1.3.2 - Удовлетворенность качеством, полнотой и доступностью информации о деятельности организации социальной сферы, размещенной на официальном сайте организации социальной сферы в сети «Интернет». | U13: 2.1.1 - Наличие комфортных условий для предоставления услуг, например: наличие комфортной зоны отдыха (ожидания), оборудованной соответствующей мебелью; наличие и понятность навигации внутри организации социальной сферы; наличие и доступность питьевой воды; наличие и доступность санитарно-гигиенических помещений; санитарное состояние помещений организации социальной сферы; транспортная доступность (возможность доехать до организации социальной сферы на общественном транспорте, наличие парковки); доступность записи на получение услуги (по телефону, на официальном сайте организации социальной сферы в сети Интернет, посредством Единого портала государственных и муниципальных услуг, при личном посещении в регистратуре или у специалиста организации социальной сферы и пр.); иные параметры комфортных условий, установленные ведомственным актом уполномоченного федерального органа исполнительной власти. | X13: 2.3.1 - Удовлетворенность комфортностью предоставления услуг организацией социальной сферы. | AA13: 3.1.1 - Наличие в помещениях организации социальной сферы и на прилегающей к ней территории: оборудованных входных групп пандусами (подъемными платформами); выделенных стоянок для автотранспортных средств инвалидов; адаптированных лифтов, поручней, расширенных дверных проемов; сменных кресел-колясок; специально оборудованных санитарно-гигиенических помещений в организации социальной сферы. | AD13: 3.2.1 - Наличие в организации социальной сферы условий доступности, позволяющих инвалидам получать услуги наравне с другими: дублирование для инвалидов по слуху и зрению звуковой и зрительной информации; дублирование надписей, знаков и иной текстовой и графической информации знаками, выполненными рельефно-точечным шрифтом Брайля; возможность предоставления инвалидам по слуху (слуху и зрению) услуг сурдопереводчика (тифлосурдопереводчика); наличие альтернативной версии официального сайта организации социальной сферы в сети Интернет для инвалидов по зрению; помощь, оказываемая работниками организации социальной сферы, прошедшими необходимое обучение (инструктирование) по сопровождению инвалидов в помещениях организации социальной сферы и на прилегающей территории; наличие возможности предоставления услуги в дистанционном режиме или на дому. | AG13: 3.3.1 - Удовлетворенность доступностью услуг для инвалидов. | AJ13: 4.1.1 - Удовлетворенность доброжелательностью, вежливостью работников организации социальной сферы, обеспечивающих первичный контакт и информирование получателя услуги (работники справочной, приемного отделения, регистратуры, кассы и прочие работники) при непосредственном обращении в организацию социальной сферы. | AM13: 4.2.1 - Удовлетворенность доброжелательностью, вежливостью работников организации социальной сферы, обеспечивающих непосредственное оказание услуги (врачи, социальные работники, работники, осуществляющие экспертно-реабилитационную диагностику, преподаватели, тренеры, инструкторы, библиотекари, экскурсоводы и прочие работники) при обращении в организацию социальной сферы. | AP13: 4.3.1 - Удовлетворенность доброжелательностью, вежливостью работников организации социальной сферы при использовании дистанционных форм взаимодействия (по телефону, по электронной почте, с помощью электронных сервисов (подачи электронного обращения (жалобы, предложения), получения консультации по оказываемым услугам и пр.). | AS13: 5.1.1 - Готовность получателей услуг рекомендовать организацию социальной сферы родственникам и знакомым. | AV13: 5.2.1 - Удовлетворенность получателей услуг организационными условиями оказания услуг, например: наличием и понятностью навигации внутри организации социальной сферы; графиком работы организации социальной сферы (подразделения, отдельных специалистов, графиком прихода социального работника на дом и пр.). | AY13: 5.3.1 - Удовлетворенность получателей услуг в целом условиями оказания услуг в организации социальной сферы.
F14: Наименование индикатора | G14: Выполнение индикатора | I14: Наименование индикатора | J14: Выполнение индикатора | L14: Наименование индикатора | M14: Выполнение индикатора | O14: Наименование индикатора | P14: Выполнение индикатора | R14: Наименование индикатора | S14: Выполнение индикатора | U14: Наименование индикатора | V14: Выполнение индикатора | X14: Наименование индикатора | Y14: Выполнение индикатора | AA14: Наименование индикатора | AB14: Выполнение индикатора | AD14: Наименование индикатора | AE14: Выполнение индикатора | AG14: Наименование индикатора | AH14: Выполнение индикатора | AJ14: Наименование индикатора | AK14: Выполнение индикатора | AM14: Наименование индикатора | AN14: Выполнение индикатора | AP14: Наименование индикатора | AQ14: Выполнение индикатора | AS14: Наименование индикатора | AT14: Выполнение индикатора | AV14: Наименование индикатора | AW14: Выполнение индикатора | AY14: Наименование индикатора | AZ14: Выполнение индикатора
A15: 1 | B15: МУНИЦИПАЛЬНОЕ БЮДЖЕТНОЕ ДОШКОЛЬНОЕ ОБРАЗОВАТЕЛЬНОЕ УЧРЕЖДЕНИЕ "ДЕТСКИЙ САД № 10" ГОРОДА АЛЕЙСКА АЛТАЙСКОГО КРАЯ, 2201001569, организации, осуществляющие образовательную деятельность | C15: 163 | D15: 86 | E15: 0.53 | F15: объем информации (количество материалов/единиц информации), размещенной на информационных стендах в помещении организации по отношению к количеству материалов, размещение которых установлено нормативными правовыми актами (Истенд) | G15: 15 | H15: 15 | I15: объем информации (количество материалов/единиц информации), размещенной на официальном сайте организации по отношению к количеству материалов, размещение которых установлено нормативными правовыми актами (Исайт) | J15: 48 | K15: 48 | L15: в наличии и функционируют более трех дистанционных способов взаимодействия | N15: =INDEX(Индикаторы!N15:N17,MATCH('Сведения о независимой оценке'!L15,Индикаторы!L15:L17,0)) -> 100 | O15: число получателей услуг, удовлетворенных качеством, полнотой и доступностью информации о деятельности организации социальной сферы, размещенной на информационных стендах в помещении организации социальной сферы по отношению к числу опрошенных получателей услуг, ответивших на соответствующий вопрос анкеты (Устенд) | P15: 72 | Q15: 73 | R15: число получателей услуг, удовлетворенных качеством, полнотой и доступностью информации о деятельности организации социальной сферы, размещенной на официальном сайте организации социальной сферы по отношению к числу опрошенных получателей услуг, ответивших на соответствующий вопрос анкеты (Усайт) | S15: 57 | T15: 58 | U15: наличие пяти и более комфортных условий для предоставления услуг | W15: =INDEX(Индикаторы!W15:W17,MATCH('Сведения о независимой оценке'!U15,Индикаторы!U15:U17,0)) -> 100 | X15: число получателей услуг, удовлетворенных комфортностью предоставления услуг организацией социальной сферы (Укомф), по отношению к числу опрошенных получателей услуг, ответивших на данный вопрос (Чобщ) | Y15: 83 | Z15: 86 | AA15: отсутствуют условия доступности для инвалидов | AC15: =INDEX(Индикаторы!AC15:AC17,MATCH('Сведения о независимой оценке'!AA15,Индикаторы!AA15:AA17,0)) -> 0 | AD15: количество условий доступности, позволяющих инвалидам получать услуги наравне с другими | AE15: 1 | AF15: =INDEX(Индикаторы!AF15:AF17,MATCH('Сведения о независимой оценке'!AD15,Индикаторы!AD15:AD17,0)) -> 20 | AG15: число получателей услуг-инвалидов, удовлетворенных доступностью услуг для инвалидов (Удост) , по отношению к числу опрошенных получателей услуг- инвалидов, ответивших на соответствующий вопрос анкеты (Чинв) | AH15: 6 | AI15: 7 | AJ15: число получателей услуг, удовлетворенных доброжелательностью, вежливостью работников организации социальной сферы, обеспечивающих первичный контакт и информирование получателя услуги (Уперв.конт), по отношению к числу опрошенных получателей услуг, ответивших на соответствующий вопрос анкеты ( Чобщ) | AK15: 81 | AL15: 86 | AM15: число получателей услуг, удовлетворенных доброжелательностью, вежливостью работников организации социальной сферы, обеспечивающих непосредственное оказание услуги (Уоказ.услуг), по отношению к числу опрошенных получателей услуг, ответивших на соответствующий вопрос анкеты ( Чобщ) | AN15: 85 | AO15: 86 | AP15: число получателей услуг, удовлетворенных доброжелательностью, вежливостью работников организации социальной сферы при использовании дистанционных форм взаимодействия (Увежл.дист), по отношению к числу опрошенных получателей услуг, ответивших на соответствующий вопрос анкеты (Чобщ) | AQ15: 52 | AR15: 53 | AS15: число получателей услуг, которые готовы рекомендовать организацию родственникам и знакомым (могли бы ее рекомендовать, если бы была возможность выбора организации) (Уреком), по отношению к числу опрошенных получателей услуг, ответивших на соответствующий вопрос анкеты (Чобщ) | AT15: 82 | AU15: 86 | AV15: число получателей услуг, удовлетворенных организационными условиями предоставления услуг (Уорг.усл), по отношению к числу опрошенных получателей услуг ответивших на соответствующий вопрос анкеты (Чобщ) | AW15: 83 | AX15: 86 | AY15: число получателей услуг, удовлетворенных в целом условиями оказания услуг в организации социальной сферы (Ууд), по отношению к числу опрошенных получателей услуг, ответивших на соответствующий вопрос анкеты (Чобщ) | AZ15: 84 | BA15: 86
A16: 2 | B16: МУНИЦИПАЛЬНОЕ БЮДЖЕТНОЕ ДОШКОЛЬНОЕ ОБРАЗОВАТЕЛЬНОЕ УЧРЕЖДЕНИЕ "ДЕТСКИЙ САД № 12" ГОРОДА АЛЕЙСКА АЛТАЙСКОГО КРАЯ, 2201002065, организации, осуществляющие образовательную деятельность | C16: 164 | D16: 104 | E16: 0.63 | F16: объем информации (количество материалов/единиц информации), размещенной на информационных стендах в помещении организации по отношению к количеству материалов, размещение которых установлено нормативными правовыми актами (Истенд) | G16: 15 | H16: 15 | I16: объем информации (количество материалов/единиц информации), размещенной на официальном сайте организации по отношению к количеству материалов, размещение которых установлено нормативными правовыми актами (Исайт) | J16: 48 | K16: 48 | L16: в наличии и функционируют более трех дистанционных способов взаимодействия | N16: =INDEX(Индикаторы!N18:N20,MATCH('Сведения о независимой оценке'!L16,Индикаторы!L18:L20,0)) -> 100 | O16: число получателей услуг, удовлетворенных качеством, полнотой и доступностью информации о деятельности организации социальной сферы, размещенной на информационных стендах в помещении организации социальной сферы по отношению к числу опрошенных получателей услуг, ответивших на соответствующий вопрос анкеты (Устенд) | P16: 76 | Q16: 77 | R16: число получателей услуг, удовлетворенных качеством, полнотой и доступностью информации о деятельности организации социальной сферы, размещенной на официальном сайте организации социальной сферы по отношению к числу опрошенных получателей услуг, ответивших на соответствующий вопрос анкеты (Усайт) | S16: 62 | T16: 62 | U16: наличие пяти и более комфортных условий для предоставления услуг | W16: =INDEX(Индикаторы!W18:W20,MATCH('Сведения о независимой оценке'!U16,Индикаторы!U18:U20,0)) -> 100 | X16: число получателей услуг, удовлетворенных комфортностью предоставления услуг организацией социальной сферы (Укомф), по отношению к числу опрошенных получателей услуг, ответивших на данный вопрос (Чобщ) | Y16: 99 | Z16: 104 | AA16: отсутствуют условия доступности для инвалидов | AC16: =INDEX(Индикаторы!AC18:AC20,MATCH('Сведения о независимой оценке'!AA16,Индикаторы!AA18:AA20,0)) -> 0 | AD16: количество условий доступности, позволяющих инвалидам получать услуги наравне с другими | AE16: 2 | AF16: =INDEX(Индикаторы!AF18:AF20,MATCH('Сведения о независимой оценке'!AD16,Индикаторы!AD18:AD20,0)) -> 20 | AG16: число получателей услуг-инвалидов, удовлетворенных доступностью услуг для инвалидов (Удост) , по отношению к числу опрошенных получателей услуг- инвалидов, ответивших на соответствующий вопрос анкеты (Чинв) | AH16: 5 | AI16: 5 | AJ16: число получателей услуг, удовлетворенных доброжелательностью, вежливостью работников организации социальной сферы, обеспечивающих первичный контакт и информирование получателя услуги (Уперв.конт), по отношению к числу опрошенных получателей услуг, ответивших на соответствующий вопрос анкеты ( Чобщ) | AK16: 101 | AL16: 104 | AM16: число получателей услуг, удовлетворенных доброжелательностью, вежливостью работников организации социальной сферы, обеспечивающих непосредственное оказание услуги (Уоказ.услуг), по отношению к числу опрошенных получателей услуг, ответивших на соответствующий вопрос анкеты ( Чобщ) | AN16: 103 | AO16: 104 | AP16: число получателей услуг, удовлетворенных доброжелательностью, вежливостью работников организации социальной сферы при использовании дистанционных форм взаимодействия (Увежл.дист), по отношению к числу опрошенных получателей услуг, ответивших на соответствующий вопрос анкеты (Чобщ) | AQ16: 60 | AR16: 60 | AS16: число получателей услуг, которые готовы рекомендовать организацию родственникам и знакомым (могли бы ее рекомендовать, если бы была возможность выбора организации) (Уреком), по отношению к числу опрошенных получателей услуг, ответивших на соответствующий вопрос анкеты (Чобщ) | AT16: 100 | AU16: 104 | AV16: число получателей услуг, удовлетворенных организационными условиями предоставления услуг (Уорг.усл), по отношению к числу опрошенных получателей услуг ответивших на соответствующий вопрос анкеты (Чобщ) | AW16: 102 | AX16: 104 | AY16: число получателей услуг, удовлетворенных в целом условиями оказания услуг в организации социальной сферы (Ууд), по отношению к числу опрошенных получателей услуг, ответивших на соответствующий вопрос анкеты (Чобщ) | AZ16: 103 | BA16: 104
A17: 3 | B17: МУНИЦИПАЛЬНОЕ БЮДЖЕТНОЕ ДОШКОЛЬНОЕ ОБРАЗОВАТЕЛЬНОЕ УЧРЕЖДЕНИЕ "ДЕТСКИЙ САД № 15" ГОРОДА АЛЕЙСКА АЛТАЙСКОГО КРАЯ, 2201001657, организации, осуществляющие образовательную деятельность | C17: 335 | D17: 233 | E17: 0.7 | F17: объем информации (количество материалов/единиц информации), размещенной на информационных стендах в помещении организации по отношению к количеству материалов, размещение которых установлено нормативными правовыми актами (Истенд) | G17: 14 | H17: 15 | I17: объем информации (количество материалов/единиц информации), размещенной на официальном сайте организации по отношению к количеству материалов, размещение которых установлено нормативными правовыми актами (Исайт) | J17: 48 | K17: 48 | L17: в наличии и функционируют более трех дистанционных способов взаимодействия | N17: =INDEX(Индикаторы!N21:N23,MATCH('Сведения о независимой оценке'!L17,Индикаторы!L21:L23,0)) -> 100 | O17: число получателей услуг, удовлетворенных качеством, полнотой и доступностью информации о деятельности организации социальной сферы, размещенной на информационных стендах в помещении организации социальной сферы по отношению к числу опрошенных получателей услуг, ответивших на соответствующий вопрос анкеты (Устенд) | P17: 149 | Q17: 152 | R17: число получателей услуг, удовлетворенных качеством, полнотой и доступностью информации о деятельности организации социальной сферы, размещенной на официальном сайте организации социальной сферы по отношению к числу опрошенных получателей услуг, ответивших на соответствующий вопрос анкеты (Усайт) | S17: 114 | T17: 119 | U17: наличие пяти и более комфортных условий для предоставления услуг | W17: =INDEX(Индикаторы!W21:W23,MATCH('Сведения о независимой оценке'!U17,Индикаторы!U21:U23,0)) -> 100 | X17: число получателей услуг, удовлетворенных комфортностью предоставления услуг организацией социальной сферы (Укомф), по отношению к числу опрошенных получателей услуг, ответивших на данный вопрос (Чобщ) | Y17: 217 | Z17: 233 | AA17: количество условий доступности организации для инвалидов | AB17: 4 | AC17: =INDEX(Индикаторы!AC21:AC23,MATCH('Сведения о независимой оценке'!AA17,Индикаторы!AA21:AA23,0)) -> 20 | AD17: количество условий доступности, позволяющих инвалидам получать услуги наравне с другими | AE17: 3 | AF17: =INDEX(Индикаторы!AF21:AF23,MATCH('Сведения о независимой оценке'!AD17,Индикаторы!AD21:AD23,0)) -> 20 | AG17: число получателей услуг-инвалидов, удовлетворенных доступностью услуг для инвалидов (Удост) , по отношению к числу опрошенных получателей услуг- инвалидов, ответивших на соответствующий вопрос анкеты (Чинв) | AH17: 6 | AI17: 6 | AJ17: число получателей услуг, удовлетворенных доброжелательностью, вежливостью работников организации социальной сферы, обеспечивающих первичный контакт и информирование получателя услуги (Уперв.конт), по отношению к числу опрошенных получателей услуг, ответивших на соответствующий вопрос анкеты ( Чобщ) | AK17: 224 | AL17: 233 | AM17: число получателей услуг, удовлетворенных доброжелательностью, вежливостью работников организации социальной сферы, обеспечивающих непосредственное оказание услуги (Уоказ.услуг), по отношению к числу опрошенных получателей услуг, ответивших на соответствующий вопрос анкеты ( Чобщ) | AN17: 223 | AO17: 233 | AP17: число получателей услуг, удовлетворенных доброжелательностью, вежливостью работников организации социальной сферы при использовании дистанционных форм взаимодействия (Увежл.дист), по отношению к числу опрошенных получателей услуг, ответивших на соответствующий вопрос анкеты (Чобщ) | AQ17: 125 | AR17: 126 | AS17: число получателей услуг, которые готовы рекомендовать организацию родственникам и знакомым (могли бы ее рекомендовать, если бы была возможность выбора организации) (Уреком), по отношению к числу опрошенных получателей услуг, ответивших на соответствующий вопрос анкеты (Чобщ) | AT17: 223 | AU17: 233 | AV17: число получателей услуг, удовлетворенных организационными условиями предоставления услуг (Уорг.усл), по отношению к числу опрошенных получателей услуг ответивших на соответствующий вопрос анкеты (Чобщ) | AW17: 224 | AX17: 233 | AY17: число получателей услуг, удовлетворенных в целом условиями оказания услуг в организации социальной сферы (Ууд), по отношению к числу опрошенных получателей услуг, ответивших на соответствующий вопрос анкеты (Чобщ) | AZ17: 228 | BA17: 233
A18: 4 | B18: МУНИЦИПАЛЬНОЕ БЮДЖЕТНОЕ ДОШКОЛЬНОЕ ОБРАЗОВАТЕЛЬНОЕ УЧРЕЖДЕНИЕ "ДЕТСКИЙ САД № 16" ГОРОДА АЛЕЙСКА АЛТАЙСКОГО КРАЯ, 2201006550, организации, осуществляющие образовательную деятельность | C18: 132 | D18: 107 | E18: 0.81 | F18: объем информации (количество материалов/единиц информации), размещенной на информационных стендах в помещении организации по отношению к количеству материалов, размещение которых установлено нормативными правовыми актами (Истенд) | G18: 15 | H18: 15 | I18: объем информации (количество материалов/единиц информации), размещенной на официальном сайте организации по отношению к количеству материалов, размещение которых установлено нормативными правовыми актами (Исайт) | J18: 47 | K18: 48 | L18: в наличии и функционируют более трех дистанционных способов взаимодействия | N18: =INDEX(Индикаторы!N24:N26,MATCH('Сведения о независимой оценке'!L18,Индикаторы!L24:L26,0)) -> 100 | O18: число получателей услуг, удовлетворенных качеством, полнотой и доступностью информации о деятельности организации социальной сферы, размещенной на информационных стендах в помещении организации социальной сферы по отношению к числу опрошенных получателей услуг, ответивших на соответствующий вопрос анкеты (Устенд) | P18: 87 | Q18: 88 | R18: число получателей услуг, удовлетворенных качеством, полнотой и доступностью информации о деятельности организации социальной сферы, размещенной на официальном сайте организации социальной сферы по отношению к числу опрошенных получателей услуг, ответивших на соответствующий вопрос анкеты (Усайт) | S18: 73 | T18: 75 | U18: наличие пяти и более комфортных условий для предоставления услуг | W18: =INDEX(Индикаторы!W24:W26,MATCH('Сведения о независимой оценке'!U18,Индикаторы!U24:U26,0)) -> 100 | X18: число получателей услуг, удовлетворенных комфортностью предоставления услуг организацией социальной сферы (Укомф), по отношению к числу опрошенных получателей услуг, ответивших на данный вопрос (Чобщ) | Y18: 106 | Z18: 107 | AA18: отсутствуют условия доступности для инвалидов | AC18: =INDEX(Индикаторы!AC24:AC26,MATCH('Сведения о независимой оценке'!AA18,Индикаторы!AA24:AA26,0)) -> 0 | AD18: количество условий доступности, позволяющих инвалидам получать услуги наравне с другими | AE18: 2 | AF18: =INDEX(Индикаторы!AF24:AF26,MATCH('Сведения о независимой оценке'!AD18,Индикаторы!AD24:AD26,0)) -> 20 | AG18: число получателей услуг-инвалидов, удовлетворенных доступностью услуг для инвалидов (Удост) , по отношению к числу опрошенных получателей услуг- инвалидов, ответивших на соответствующий вопрос анкеты (Чинв) | AH18: 2 | AI18: 2 | AJ18: число получателей услуг, удовлетворенных доброжелательностью, вежливостью работников организации социальной сферы, обеспечивающих первичный контакт и информирование получателя услуги (Уперв.конт), по отношению к числу опрошенных получателей услуг, ответивших на соответствующий вопрос анкеты ( Чобщ) | AK18: 107 | AL18: 107 | AM18: число получателей услуг, удовлетворенных доброжелательностью, вежливостью работников организации социальной сферы, обеспечивающих непосредственное оказание услуги (Уоказ.услуг), по отношению к числу опрошенных получателей услуг, ответивших на соответствующий вопрос анкеты ( Чобщ) | AN18: 105 | AO18: 107 | AP18: число получателей услуг, удовлетворенных доброжелательностью, вежливостью работников организации социальной сферы при использовании дистанционных форм взаимодействия (Увежл.дист), по отношению к числу опрошенных получателей услуг, ответивших на соответствующий вопрос анкеты (Чобщ) | AQ18: 80 | AR18: 80 | AS18: число получателей услуг, которые готовы рекомендовать организацию родственникам и знакомым (могли бы ее рекомендовать, если бы была возможность выбора организации) (Уреком), по отношению к числу опрошенных получателей услуг, ответивших на соответствующий вопрос анкеты (Чобщ) | AT18: 106 | AU18: 107 | AV18: число получателей услуг, удовлетворенных организационными условиями предоставления услуг (Уорг.усл), по отношению к числу опрошенных получателей услуг ответивших на соответствующий вопрос анкеты (Чобщ) | AW18: 105 | AX18: 107 | AY18: число получателей услуг, удовлетворенных в целом условиями оказания услуг в организации социальной сферы (Ууд), по отношению к числу опрошенных получателей услуг, ответивших на соответствующий вопрос анкеты (Чобщ) | AZ18: 106 | BA18: 107
A19: 5 | B19: МУНИЦИПАЛЬНОЕ БЮДЖЕТНОЕ ДОШКОЛЬНОЕ ОБРАЗОВАТЕЛЬНОЕ УЧРЕЖДЕНИЕ "ДЕТСКИЙ САД № 5" ГОРОДА АЛЕЙСКА АЛТАЙСКОГО КРАЯ, 2201001600, организации, осуществляющие образовательную деятельность | C19: 234 | D19: 103 | E19: 0.44 | F19: объем информации (количество материалов/единиц информации), размещенной на информационных стендах в помещении организации по отношению к количеству материалов, размещение которых установлено нормативными правовыми актами (Истенд) | G19: 15 | H19: 15 | I19: объем информации (количество материалов/единиц информации), размещенной на официальном сайте организации по отношению к количеству материалов, размещение которых установлено нормативными правовыми актами (Исайт) | J19: 48 | K19: 48 | L19: в наличии и функционируют более трех дистанционных способов взаимодействия | N19: =INDEX(Индикаторы!N27:N29,MATCH('Сведения о независимой оценке'!L19,Индикаторы!L27:L29,0)) -> 100 | O19: число получателей услуг, удовлетворенных качеством, полнотой и доступностью информации о деятельности организации социальной сферы, размещенной на информационных стендах в помещении организации социальной сферы по отношению к числу опрошенных получателей услуг, ответивших на соответствующий вопрос анкеты (Устенд) | P19: 83 | Q19: 86 | R19: число получателей услуг, удовлетворенных качеством, полнотой и доступностью информации о деятельности организации социальной сферы, размещенной на официальном сайте организации социальной сферы по отношению к числу опрошенных получателей услуг, ответивших на соответствующий вопрос анкеты (Усайт) | S19: 60 | T19: 62 | U19: наличие пяти и более комфортных условий для предоставления услуг | W19: =INDEX(Индикаторы!W27:W29,MATCH('Сведения о независимой оценке'!U19,Индикаторы!U27:U29,0)) -> 100 | X19: число получателей услуг, удовлетворенных комфортностью предоставления услуг организацией социальной сферы (Укомф), по отношению к числу опрошенных получателей услуг, ответивших на данный вопрос (Чобщ) | Y19: 94 | Z19: 103 | AA19: количество условий доступности организации для инвалидов | AB19: 2 | AC19: =INDEX(Индикаторы!AC27:AC29,MATCH('Сведения о независимой оценке'!AA19,Индикаторы!AA27:AA29,0)) -> 20 | AD19: наличие пяти и более условий доступности | AF19: =INDEX(Индикаторы!AF27:AF29,MATCH('Сведения о независимой оценке'!AD19,Индикаторы!AD27:AD29,0)) -> 100 | AG19: число получателей услуг-инвалидов, удовлетворенных доступностью услуг для инвалидов (Удост) , по отношению к числу опрошенных получателей услуг- инвалидов, ответивших на соответствующий вопрос анкеты (Чинв) | AH19: 9 | AI19: 9 | AJ19: число получателей услуг, удовлетворенных доброжелательностью, вежливостью работников организации социальной сферы, обеспечивающих первичный контакт и информирование получателя услуги (Уперв.конт), по отношению к числу опрошенных получателей услуг, ответивших на соответствующий вопрос анкеты ( Чобщ) | AK19: 101 | AL19: 103 | AM19: число получателей услуг, удовлетворенных доброжелательностью, вежливостью работников организации социальной сферы, обеспечивающих непосредственное оказание услуги (Уоказ.услуг), по отношению к числу опрошенных получателей услуг, ответивших на соответствующий вопрос анкеты ( Чобщ) | AN19: 103 | AO19: 103 | AP19: число получателей услуг, удовлетворенных доброжелательностью, вежливостью работников организации социальной сферы при использовании дистанционных форм взаимодействия (Увежл.дист), по отношению к числу опрошенных получателей услуг, ответивших на соответствующий вопрос анкеты (Чобщ) | AQ19: 69 | AR19: 69 | AS19: число получателей услуг, которые готовы рекомендовать организацию родственникам и знакомым (могли бы ее рекомендовать, если бы была возможность выбора организации) (Уреком), по отношению к числу опрошенных получателей услуг, ответивших на соответствующий вопрос анкеты (Чобщ) | AT19: 98 | AU19: 103 | AV19: число получателей услуг, удовлетворенных организационными условиями предоставления услуг (Уорг.усл), по отношению к числу опрошенных получателей услуг ответивших на соответствующий вопрос анкеты (Чобщ) | AW19: 100 | AX19: 103 | AY19: число получателей услуг, удовлетворенных в целом условиями оказания услуг в организации социальной сферы (Ууд), по отношению к числу опрошенных получателей услуг, ответивших на соответствующий вопрос анкеты (Чобщ) | AZ19: 98 | BA19: 103
A20: 6 | B20: МУНИЦИПАЛЬНОЕ БЮДЖЕТНОЕ ДОШКОЛЬНОЕ ОБРАЗОВАТЕЛЬНОЕ УЧРЕЖДЕНИЕ "ДЕТСКИЙ САД № 8" ГОРОДА АЛЕЙСКА АЛТАЙСКОГО КРАЯ, 2201001720, организации, осуществляющие образовательную деятельность | C20: 150 | D20: 98 | E20: 0.65 | F20: объем информации (количество материалов/единиц информации), размещенной на информационных стендах в помещении организации по отношению к количеству материалов, размещение которых установлено нормативными правовыми актами (Истенд) | G20: 15 | H20: 15 | I20: объем информации (количество материалов/единиц информации), размещенной на официальном сайте организации по отношению к количеству материалов, размещение которых установлено нормативными правовыми актами (Исайт) | J20: 46 | K20: 48 | L20: в наличии и функционируют более трех дистанционных способов взаимодействия | N20: =INDEX(Индикаторы!N30:N32,MATCH('Сведения о независимой оценке'!L20,Индикаторы!L30:L32,0)) -> 100 | O20: число получателей услуг, удовлетворенных качеством, полнотой и доступностью информации о деятельности организации социальной сферы, размещенной на информационных стендах в помещении организации социальной сферы по отношению к числу опрошенных получателей услуг, ответивших на соответствующий вопрос анкеты (Устенд) | P20: 82 | Q20: 84 | R20: число получателей услуг, удовлетворенных качеством, полнотой и доступностью информации о деятельности организации социальной сферы, размещенной на официальном сайте организации социальной сферы по отношению к числу опрошенных получателей услуг, ответивших на соответствующий вопрос анкеты (Усайт) | S20: 52 | T20: 55 | U20: наличие пяти и более комфортных условий для предоставления услуг | W20: =INDEX(Индикаторы!W30:W32,MATCH('Сведения о независимой оценке'!U20,Индикаторы!U30:U32,0)) -> 100 | X20: число получателей услуг, удовлетворенных комфортностью предоставления услуг организацией социальной сферы (Укомф), по отношению к числу опрошенных получателей услуг, ответивших на данный вопрос (Чобщ) | Y20: 88 | Z20: 98 | AA20: отсутствуют условия доступности для инвалидов | AC20: =INDEX(Индикаторы!AC30:AC32,MATCH('Сведения о независимой оценке'!AA20,Индикаторы!AA30:AA32,0)) -> 0 | AD20: количество условий доступности, позволяющих инвалидам получать услуги наравне с другими | AE20: 3 | AF20: =INDEX(Индикаторы!AF30:AF32,MATCH('Сведения о независимой оценке'!AD20,Индикаторы!AD30:AD32,0)) -> 20 | AG20: число получателей услуг-инвалидов, удовлетворенных доступностью услуг для инвалидов (Удост) , по отношению к числу опрошенных получателей услуг- инвалидов, ответивших на соответствующий вопрос анкеты (Чинв) | AH20: 10 | AI20: 10 | AJ20: число получателей услуг, удовлетворенных доброжелательностью, вежливостью работников организации социальной сферы, обеспечивающих первичный контакт и информирование получателя услуги (Уперв.конт), по отношению к числу опрошенных получателей услуг, ответивших на соответствующий вопрос анкеты ( Чобщ) | AK20: 93 | AL20: 98 | AM20: число получателей услуг, удовлетворенных доброжелательностью, вежливостью работников организации социальной сферы, обеспечивающих непосредственное оказание услуги (Уоказ.услуг), по отношению к числу опрошенных получателей услуг, ответивших на соответствующий вопрос анкеты ( Чобщ) | AN20: 95 | AO20: 98 | AP20: число получателей услуг, удовлетворенных доброжелательностью, вежливостью работников организации социальной сферы при использовании дистанционных форм взаимодействия (Увежл.дист), по отношению к числу опрошенных получателей услуг, ответивших на соответствующий вопрос анкеты (Чобщ) | AQ20: 62 | AR20: 62 | AS20: число получателей услуг, которые готовы рекомендовать организацию родственникам и знакомым (могли бы ее рекомендовать, если бы была возможность выбора организации) (Уреком), по отношению к числу опрошенных получателей услуг, ответивших на соответствующий вопрос анкеты (Чобщ) | AT20: 92 | AU20: 98 | AV20: число получателей услуг, удовлетворенных организационными условиями предоставления услуг (Уорг.усл), по отношению к числу опрошенных получателей услуг ответивших на соответствующий вопрос анкеты (Чобщ) | AW20: 96 | AX20: 98 | AY20: число получателей услуг, удовлетворенных в целом условиями оказания услуг в организации социальной сферы (Ууд), по отношению к числу опрошенных получателей услуг, ответивших на соответствующий вопрос анкеты (Чобщ) | AZ20: 94 | BA20: 98
A21: 7 | B21: МУНИЦИПАЛЬНОЕ АВТОНОМНОЕ ДОШКОЛЬНОЕ ОБРАЗОВАТЕЛЬНОЕ УЧРЕЖДЕНИЕ "ДЕТСКИЙ САД № 207", 2223032578, организации, осуществляющие образовательную деятельность | C21: 150 | D21: 76 | E21: 0.51 | F21: объем информации (количество материалов/единиц информации), размещенной на информационных стендах в помещении организации по отношению к количеству материалов, размещение которых установлено нормативными правовыми актами (Истенд) | G21: 15 | H21: 15 | I21: объем информации (количество материалов/единиц информации), размещенной на официальном сайте организации по отношению к количеству материалов, размещение которых установлено нормативными правовыми актами (Исайт) | J21: 45 | K21: 48 | L21: в наличии и функционируют более трех дистанционных способов взаимодействия | N21: =INDEX(Индикаторы!N33:N35,MATCH('Сведения о независимой оценке'!L21,Индикаторы!L33:L35,0)) -> 100 | O21: число получателей услуг, удовлетворенных качеством, полнотой и доступностью информации о деятельности организации социальной сферы, размещенной на информационных стендах в помещении организации социальной сферы по отношению к числу опрошенных получателей услуг, ответивших на соответствующий вопрос анкеты (Устенд) | P21: 61 | Q21: 63 | R21: число получателей услуг, удовлетворенных качеством, полнотой и доступностью информации о деятельности организации социальной сферы, размещенной на официальном сайте организации социальной сферы по отношению к числу опрошенных получателей услуг, ответивших на соответствующий вопрос анкеты (Усайт) | S21: 61 | T21: 65 | U21: наличие пяти и более комфортных условий для предоставления услуг | W21: =INDEX(Индикаторы!W33:W35,MATCH('Сведения о независимой оценке'!U21,Индикаторы!U33:U35,0)) -> 100 | X21: число получателей услуг, удовлетворенных комфортностью предоставления услуг организацией социальной сферы (Укомф), по отношению к числу опрошенных получателей услуг, ответивших на данный вопрос (Чобщ) | Y21: 68 | Z21: 76 | AA21: отсутствуют условия доступности для инвалидов | AC21: =INDEX(Индикаторы!AC33:AC35,MATCH('Сведения о независимой оценке'!AA21,Индикаторы!AA33:AA35,0)) -> 0 | AD21: количество условий доступности, позволяющих инвалидам получать услуги наравне с другими | AE21: 4 | AF21: =INDEX(Индикаторы!AF33:AF35,MATCH('Сведения о независимой оценке'!AD21,Индикаторы!AD33:AD35,0)) -> 20 | AG21: число получателей услуг-инвалидов, удовлетворенных доступностью услуг для инвалидов (Удост) , по отношению к числу опрошенных получателей услуг- инвалидов, ответивших на соответствующий вопрос анкеты (Чинв) | AH21: 13 | AI21: 16 | AJ21: число получателей услуг, удовлетворенных доброжелательностью, вежливостью работников организации социальной сферы, обеспечивающих первичный контакт и информирование получателя услуги (Уперв.конт), по отношению к числу опрошенных получателей услуг, ответивших на соответствующий вопрос анкеты ( Чобщ) | AK21: 74 | AL21: 76 | AM21: число получателей услуг, удовлетворенных доброжелательностью, вежливостью работников организации социальной сферы, обеспечивающих непосредственное оказание услуги (Уоказ.услуг), по отношению к числу опрошенных получателей услуг, ответивших на соответствующий вопрос анкеты ( Чобщ) | AN21: 73 | AO21: 76 | AP21: число получателей услуг, удовлетворенных доброжелательностью, вежливостью работников организации социальной сферы при использовании дистанционных форм взаимодействия (Увежл.дист), по отношению к числу опрошенных получателей услуг, ответивших на соответствующий вопрос анкеты (Чобщ) | AQ21: 50 | AR21: 50 | AS21: число получателей услуг, которые готовы рекомендовать организацию родственникам и знакомым (могли бы ее рекомендовать, если бы была возможность выбора организации) (Уреком), по отношению к числу опрошенных получателей услуг, ответивших на соответствующий вопрос анкеты (Чобщ) | AT21: 72 | AU21: 76 | AV21: число получателей услуг, удовлетворенных организационными условиями предоставления услуг (Уорг.усл), по отношению к числу опрошенных получателей услуг ответивших на соответствующий вопрос анкеты (Чобщ) | AW21: 71 | AX21: 76 | AY21: число получателей услуг, удовлетворенных в целом условиями оказания услуг в организации социальной сферы (Ууд), по отношению к числу опрошенных получателей услуг, ответивших на соответствующий вопрос анкеты (Чобщ) | AZ21: 74 | BA21: 76
A22: 8 | B22: МУНИЦИПАЛЬНОЕ АВТОНОМНОЕ ДОШКОЛЬНОЕ ОБРАЗОВАТЕЛЬНОЕ УЧРЕЖДЕНИЕ "ДЕТСКИЙ САД №263", 2225134092, организации, осуществляющие образовательную деятельность | C22: 125 | D22: 53 | E22: 0.42 | F22: объем информации (количество материалов/единиц информации), размещенной на информационных стендах в помещении организации по отношению к количеству материалов, размещение которых установлено нормативными правовыми актами (Истенд) | G22: 15 | H22: 15 | I22: объем информации (количество материалов/единиц информации), размещенной на официальном сайте организации по отношению к количеству материалов, размещение которых установлено нормативными правовыми актами (Исайт) | J22: 48 | K22: 48 | L22: в наличии и функционируют более трех дистанционных способов взаимодействия | N22: =INDEX(Индикаторы!N36:N38,MATCH('Сведения о независимой оценке'!L22,Индикаторы!L36:L38,0)) -> 100 | O22: число получателей услуг, удовлетворенных качеством, полнотой и доступностью информации о деятельности организации социальной сферы, размещенной на информационных стендах в помещении организации социальной сферы по отношению к числу опрошенных получателей услуг, ответивших на соответствующий вопрос анкеты (Устенд) | P22: 46 | Q22: 47 | R22: число получателей услуг, удовлетворенных качеством, полнотой и доступностью информации о деятельности организации социальной сферы, размещенной на официальном сайте организации социальной сферы по отношению к числу опрошенных получателей услуг, ответивших на соответствующий вопрос анкеты (Усайт) | S22: 33 | T22: 37 | U22: наличие пяти и более комфортных условий для предоставления услуг | W22: =INDEX(Индикаторы!W36:W38,MATCH('Сведения о независимой оценке'!U22,Индикаторы!U36:U38,0)) -> 100 | X22: число получателей услуг, удовлетворенных комфортностью предоставления услуг организацией социальной сферы (Укомф), по отношению к числу опрошенных получателей услуг, ответивших на данный вопрос (Чобщ) | Y22: 53 | Z22: 53 | AA22: количество условий доступности организации для инвалидов | AB22: 1 | AC22: =INDEX(Индикаторы!AC36:AC38,MATCH('Сведения о независимой оценке'!AA22,Индикаторы!AA36:AA38,0)) -> 20 | AD22: количество условий доступности, позволяющих инвалидам получать услуги наравне с другими | AE22: 4 | AF22: =INDEX(Индикаторы!AF36:AF38,MATCH('Сведения о независимой оценке'!AD22,Индикаторы!AD36:AD38,0)) -> 20 | AG22: число получателей услуг-инвалидов, удовлетворенных доступностью услуг для инвалидов (Удост) , по отношению к числу опрошенных получателей услуг- инвалидов, ответивших на соответствующий вопрос анкеты (Чинв) | AH22: 2 | AI22: 2 | AJ22: число получателей услуг, удовлетворенных доброжелательностью, вежливостью работников организации социальной сферы, обеспечивающих первичный контакт и информирование получателя услуги (Уперв.конт), по отношению к числу опрошенных получателей услуг, ответивших на соответствующий вопрос анкеты ( Чобщ) | AK22: 53 | AL22: 53 | AM22: число получателей услуг, удовлетворенных доброжелательностью, вежливостью работников организации социальной сферы, обеспечивающих непосредственное оказание услуги (Уоказ.услуг), по отношению к числу опрошенных получателей услуг, ответивших на соответствующий вопрос анкеты ( Чобщ) | AN22: 53 | AO22: 53 | AP22: число получателей услуг, удовлетворенных доброжелательностью, вежливостью работников организации социальной сферы при использовании дистанционных форм взаимодействия (Увежл.дист), по отношению к числу опрошенных получателей услуг, ответивших на соответствующий вопрос анкеты (Чобщ) | AQ22: 35 | AR22: 36 | AS22: число получателей услуг, которые готовы рекомендовать организацию родственникам и знакомым (могли бы ее рекомендовать, если бы была возможность выбора организации) (Уреком), по отношению к числу опрошенных получателей услуг, ответивших на соответствующий вопрос анкеты (Чобщ) | AT22: 53 | AU22: 53 | AV22: число получателей услуг, удовлетворенных организационными условиями предоставления услуг (Уорг.усл), по отношению к числу опрошенных получателей услуг ответивших на соответствующий вопрос анкеты (Чобщ) | AW22: 52 | AX22: 53 | AY22: число получателей услуг, удовлетворенных в целом условиями оказания услуг в организации социальной сферы (Ууд), по отношению к числу опрошенных получателей услуг, ответивших на соответствующий вопрос анкеты (Чобщ) | AZ22: 53 | BA22: 53
A23: 9 | B23: МУНИЦИПАЛЬНОЕ АВТОНОМНОЕ ДОШКОЛЬНОЕ ОБРАЗОВАТЕЛЬНОЕ УЧРЕЖДЕНИЕ "ДЕТСКИЙ САД №131", 2221031138, организации, осуществляющие образовательную деятельность | C23: 181 | D23: 101 | E23: 0.56 | F23: объем информации (количество материалов/единиц информации), размещенной на информационных стендах в помещении организации по отношению к количеству материалов, размещение которых установлено нормативными правовыми актами (Истенд) | G23: 15 | H23: 15 | I23: объем информации (количество материалов/единиц информации), размещенной на официальном сайте организации по отношению к количеству материалов, размещение которых установлено нормативными правовыми актами (Исайт) | J23: 48 | K23: 48 | L23: Количество функционирующих дистанционных способов взаимодействия (от одного до трех способов включительно) | M23: 3 | N23: =INDEX(Индикаторы!N39:N41,MATCH('Сведения о независимой оценке'!L23,Индикаторы!L39:L41,0)) -> 30 | O23: число получателей услуг, удовлетворенных качеством, полнотой и доступностью информации о деятельности организации социальной сферы, размещенной на информационных стендах в помещении организации социальной сферы по отношению к числу опрошенных получателей услуг, ответивших на соответствующий вопрос анкеты (Устенд) | P23: 81 | Q23: 81 | R23: число получателей услуг, удовлетворенных качеством, полнотой и доступностью информации о деятельности организации социальной сферы, размещенной на официальном сайте организации социальной сферы по отношению к числу опрошенных получателей услуг, ответивших на соответствующий вопрос анкеты (Усайт) | S23: 76 | T23: 78 | U23: наличие пяти и более комфортных условий для предоставления услуг | W23: =INDEX(Индикаторы!W39:W41,MATCH('Сведения о независимой оценке'!U23,Индикаторы!U39:U41,0)) -> 100 | X23: число получателей услуг, удовлетворенных комфортностью предоставления услуг организацией социальной сферы (Укомф), по отношению к числу опрошенных получателей услуг, ответивших на данный вопрос (Чобщ) | Y23: 97 | Z23: 101 | AA23: отсутствуют условия доступности для инвалидов | AC23: =INDEX(Индикаторы!AC39:AC41,MATCH('Сведения о независимой оценке'!AA23,Индикаторы!AA39:AA41,0)) -> 0 | AD23: количество условий доступности, позволяющих инвалидам получать услуги наравне с другими | AE23: 3 | AF23: =INDEX(Индикаторы!AF39:AF41,MATCH('Сведения о независимой оценке'!AD23,Индикаторы!AD39:AD41,0)) -> 20 | AG23: число получателей услуг-инвалидов, удовлетворенных доступностью услуг для инвалидов (Удост) , по отношению к числу опрошенных получателей услуг- инвалидов, ответивших на соответствующий вопрос анкеты (Чинв) | AH23: 2 | AI23: 2 | AJ23: число получателей услуг, удовлетворенных доброжелательностью, вежливостью работников организации социальной сферы, обеспечивающих первичный контакт и информирование получателя услуги (Уперв.конт), по отношению к числу опрошенных получателей услуг, ответивших на соответствующий вопрос анкеты ( Чобщ) | AK23: 95 | AL23: 101 | AM23: число получателей услуг, удовлетворенных доброжелательностью, вежливостью работников организации социальной сферы, обеспечивающих непосредственное оказание услуги (Уоказ.услуг), по отношению к числу опрошенных получателей услуг, ответивших на соответствующий вопрос анкеты ( Чобщ) | AN23: 97 | AO23: 101 | AP23: число получателей услуг, удовлетворенных доброжелательностью, вежливостью работников организации социальной сферы при использовании дистанционных форм взаимодействия (Увежл.дист), по отношению к числу опрошенных получателей услуг, ответивших на соответствующий вопрос анкеты (Чобщ) | AQ23: 63 | AR23: 63 | AS23: число получателей услуг, которые готовы рекомендовать организацию родственникам и знакомым (могли бы ее рекомендовать, если бы была возможность выбора организации) (Уреком), по отношению к числу опрошенных получателей услуг, ответивших на соответствующий вопрос анкеты (Чобщ) | AT23: 98 | AU23: 101 | AV23: число получателей услуг, удовлетворенных организационными условиями предоставления услуг (Уорг.усл), по отношению к числу опрошенных получателей услуг ответивших на соответствующий вопрос анкеты (Чобщ) | AW23: 97 | AX23: 101 | AY23: число получателей услуг, удовлетворенных в целом условиями оказания услуг в организации социальной сферы (Ууд), по отношению к числу опрошенных получателей услуг, ответивших на соответствующий вопрос анкеты (Чобщ) | AZ23: 100 | BA23: 101
A24: 10 | B24: МУНИЦИПАЛЬНОЕ АВТОНОМНОЕ ДОШКОЛЬНОЕ ОБРАЗОВАТЕЛЬНОЕ УЧРЕЖДЕНИЕ "ДЕТСКИЙ САД №196", 2222025659, организации, осуществляющие образовательную деятельность | C24: 255 | D24: 116 | E24: 0.45 | F24: объем информации (количество материалов/единиц информации), размещенной на информационных стендах в помещении организации по отношению к количеству материалов, размещение которых установлено нормативными правовыми актами (Истенд) | G24: 15 | H24: 15 | I24: объем информации (количество материалов/единиц информации), размещенной на официальном сайте организации по отношению к количеству материалов, размещение которых установлено нормативными правовыми актами (Исайт) | J24: 48 | K24: 48 | L24: в наличии и функционируют более трех дистанционных способов взаимодействия | N24: =INDEX(Индикаторы!N42:N44,MATCH('Сведения о независимой оценке'!L24,Индикаторы!L42:L44,0)) -> 100 | O24: число получателей услуг, удовлетворенных качеством, полнотой и доступностью информации о деятельности организации социальной сферы, размещенной на информационных стендах в помещении организации социальной сферы по отношению к числу опрошенных получателей услуг, ответивших на соответствующий вопрос анкеты (Устенд) | P24: 86 | Q24: 88 | R24: число получателей услуг, удовлетворенных качеством, полнотой и доступностью информации о деятельности организации социальной сферы, размещенной на официальном сайте организации социальной сферы по отношению к числу опрошенных получателей услуг, ответивших на соответствующий вопрос анкеты (Усайт) | S24: 71 | T24: 72 | U24: наличие пяти и более комфортных условий для предоставления услуг | W24: =INDEX(Индикаторы!W42:W44,MATCH('Сведения о независимой оценке'!U24,Индикаторы!U42:U44,0)) -> 100 | X24: число получателей услуг, удовлетворенных комфортностью предоставления услуг организацией социальной сферы (Укомф), по отношению к числу опрошенных получателей услуг, ответивших на данный вопрос (Чобщ) | Y24: 110 | Z24: 116 | AA24: отсутствуют условия доступности для инвалидов | AC24: =INDEX(Индикаторы!AC42:AC44,MATCH('Сведения о независимой оценке'!AA24,Индикаторы!AA42:AA44,0)) -> 0 | AD24: количество условий доступности, позволяющих инвалидам получать услуги наравне с другими | AE24: 2 | AF24: =INDEX(Индикаторы!AF42:AF44,MATCH('Сведения о независимой оценке'!AD24,Индикаторы!AD42:AD44,0)) -> 20 | AG24: число получателей услуг-инвалидов, удовлетворенных доступностью услуг для инвалидов (Удост) , по отношению к числу опрошенных получателей услуг- инвалидов, ответивших на соответствующий вопрос анкеты (Чинв) | AH24: 1 | AI24: 1 | AJ24: число получателей услуг, удовлетворенных доброжелательностью, вежливостью работников организации социальной сферы, обеспечивающих первичный контакт и информирование получателя услуги (Уперв.конт), по отношению к числу опрошенных получателей услуг, ответивших на соответствующий вопрос анкеты ( Чобщ) | AK24: 115 | AL24: 116 | AM24: число получателей услуг, удовлетворенных доброжелательностью, вежливостью работников организации социальной сферы, обеспечивающих непосредственное оказание услуги (Уоказ.услуг), по отношению к числу опрошенных получателей услуг, ответивших на соответствующий вопрос анкеты ( Чобщ) | AN24: 115 | AO24: 116 | AP24: число получателей услуг, удовлетворенных доброжелательностью, вежливостью работников организации социальной сферы при использовании дистанционных форм взаимодействия (Увежл.дист), по отношению к числу опрошенных получателей услуг, ответивших на соответствующий вопрос анкеты (Чобщ) | AQ24: 63 | AR24: 63 | AS24: число получателей услуг, которые готовы рекомендовать организацию родственникам и знакомым (могли бы ее рекомендовать, если бы была возможность выбора организации) (Уреком), по отношению к числу опрошенных получателей услуг, ответивших на соответствующий вопрос анкеты (Чобщ) | AT24: 113 | AU24: 116 | AV24: число получателей услуг, удовлетворенных организационными условиями предоставления услуг (Уорг.усл), по отношению к числу опрошенных получателей услуг ответивших на соответствующий вопрос анкеты (Чобщ) | AW24: 115 | AX24: 116 | AY24: число получателей услуг, удовлетворенных в целом условиями оказания услуг в организации социальной сферы (Ууд), по отношению к числу опрошенных получателей услуг, ответивших на соответствующий вопрос анкеты (Чобщ) | AZ24: 115 | BA24: 116
A25: 11 | B25: МУНИЦИПАЛЬНОЕ АВТОНОМНОЕ ДОШКОЛЬНОЕ ОБРАЗОВАТЕЛЬНОЕ УЧРЕЖДЕНИЕ "ДЕТСКИЙ САД №242", 2222025666, организации, осуществляющие образовательную деятельность | C25: 267 | D25: 206 | E25: 0.77 | F25: объем информации (количество материалов/единиц информации), размещенной на информационных стендах в помещении организации по отношению к количеству материалов, размещение которых установлено нормативными правовыми актами (Истенд) | G25: 15 | H25: 15 | I25: объем информации (количество материалов/единиц информации), размещенной на официальном сайте организации по отношению к количеству материалов, размещение которых установлено нормативными правовыми актами (Исайт) | J25: 47 | K25: 48 | L25: в наличии и функционируют более трех дистанционных способов взаимодействия | N25: =INDEX(Индикаторы!N45:N47,MATCH('Сведения о независимой оценке'!L25,Индикаторы!L45:L47,0)) -> 100 | O25: число получателей услуг, удовлетворенных качеством, полнотой и доступностью информации о деятельности организации социальной сферы, размещенной на информационных стендах в помещении организации социальной сферы по отношению к числу опрошенных получателей услуг, ответивших на соответствующий вопрос анкеты (Устенд) | P25: 141 | Q25: 143 | R25: число получателей услуг, удовлетворенных качеством, полнотой и доступностью информации о деятельности организации социальной сферы, размещенной на официальном сайте организации социальной сферы по отношению к числу опрошенных получателей услуг, ответивших на соответствующий вопрос анкеты (Усайт) | S25: 127 | T25: 136 | U25: наличие пяти и более комфортных условий для предоставления услуг | W25: =INDEX(Индикаторы!W45:W47,MATCH('Сведения о независимой оценке'!U25,Индикаторы!U45:U47,0)) -> 100 | X25: число получателей услуг, удовлетворенных комфортностью предоставления услуг организацией социальной сферы (Укомф), по отношению к числу опрошенных получателей услуг, ответивших на данный вопрос (Чобщ) | Y25: 189 | Z25: 206 | AA25: отсутствуют условия доступности для инвалидов | AC25: =INDEX(Индикаторы!AC45:AC47,MATCH('Сведения о независимой оценке'!AA25,Индикаторы!AA45:AA47,0)) -> 0 | AD25: количество условий доступности, позволяющих инвалидам получать услуги наравне с другими | AE25: 4 | AF25: =INDEX(Индикаторы!AF45:AF47,MATCH('Сведения о независимой оценке'!AD25,Индикаторы!AD45:AD47,0)) -> 20 | AG25: число получателей услуг-инвалидов, удовлетворенных доступностью услуг для инвалидов (Удост) , по отношению к числу опрошенных получателей услуг- инвалидов, ответивших на соответствующий вопрос анкеты (Чинв) | AH25: 1 | AI25: 1 | AJ25: число получателей услуг, удовлетворенных доброжелательностью, вежливостью работников организации социальной сферы, обеспечивающих первичный контакт и информирование получателя услуги (Уперв.конт), по отношению к числу опрошенных получателей услуг, ответивших на соответствующий вопрос анкеты ( Чобщ) | AK25: 201 | AL25: 206 | AM25: число получателей услуг, удовлетворенных доброжелательностью, вежливостью работников организации социальной сферы, обеспечивающих непосредственное оказание услуги (Уоказ.услуг), по отношению к числу опрошенных получателей услуг, ответивших на соответствующий вопрос анкеты ( Чобщ) | AN25: 202 | AO25: 206 | AP25: число получателей услуг, удовлетворенных доброжелательностью, вежливостью работников организации социальной сферы при использовании дистанционных форм взаимодействия (Увежл.дист), по отношению к числу опрошенных получателей услуг, ответивших на соответствующий вопрос анкеты (Чобщ) | AQ25: 121 | AR25: 124 | AS25: число получателей услуг, которые готовы рекомендовать организацию родственникам и знакомым (могли бы ее рекомендовать, если бы была возможность выбора организации) (Уреком), по отношению к числу опрошенных получателей услуг, ответивших на соответствующий вопрос анкеты (Чобщ) | AT25: 193 | AU25: 206 | AV25: число получателей услуг, удовлетворенных организационными условиями предоставления услуг (Уорг.усл), по отношению к числу опрошенных получателей услуг ответивших на соответствующий вопрос анкеты (Чобщ) | AW25: 186 | AX25: 206 | AY25: число получателей услуг, удовлетворенных в целом условиями оказания услуг в организации социальной сферы (Ууд), по отношению к числу опрошенных получателей услуг, ответивших на соответствующий вопрос анкеты (Чобщ) | AZ25: 200 | BA25: 206
